BEGIN:VCALENDAR
VERSION:2.0
PRODID:-//Royal St George Yacht Club - ECPv6.15.20//NONSGML v1.0//EN
CALSCALE:GREGORIAN
METHOD:PUBLISH
X-WR-CALNAME:Royal St George Yacht Club
X-ORIGINAL-URL:https://rsgyc.ie
X-WR-CALDESC:Events for Royal St George Yacht Club
REFRESH-INTERVAL;VALUE=DURATION:PT1H
X-Robots-Tag:noindex
X-PUBLISHED-TTL:PT1H
BEGIN:VTIMEZONE
TZID:Europe/Dublin
BEGIN:STANDARD
TZOFFSETFROM:+0000
TZOFFSETTO:+0100
TZNAME:IST
DTSTART:20150329T010000
END:STANDARD
BEGIN:DAYLIGHT
TZOFFSETFROM:+0100
TZOFFSETTO:+0000
TZNAME:GMT
DTSTART:20151025T010000
END:DAYLIGHT
BEGIN:STANDARD
TZOFFSETFROM:+0000
TZOFFSETTO:+0100
TZNAME:IST
DTSTART:20160327T010000
END:STANDARD
BEGIN:DAYLIGHT
TZOFFSETFROM:+0100
TZOFFSETTO:+0000
TZNAME:GMT
DTSTART:20161030T010000
END:DAYLIGHT
BEGIN:STANDARD
TZOFFSETFROM:+0000
TZOFFSETTO:+0100
TZNAME:IST
DTSTART:20170326T010000
END:STANDARD
BEGIN:DAYLIGHT
TZOFFSETFROM:+0100
TZOFFSETTO:+0000
TZNAME:GMT
DTSTART:20171029T010000
END:DAYLIGHT
END:VTIMEZONE
BEGIN:VEVENT
DTSTART;VALUE=DATE:20160419
DTEND;VALUE=DATE:20160421
DTSTAMP:20260421T121441
CREATED:20160321T122637Z
LAST-MODIFIED:20160321T123800Z
UID:10011656-1461024000-1461196799@rsgyc.ie
SUMMARY:Schools Sailing 2016
DESCRIPTION:Dun Laoghaire Rathdown Schools Sailing Program dates in conjunction with the RSGYC and the INSS.\n6 schools will participate in 5 weeks of sailing training. 3 schools each day with a max of 20 kids per school. \nStart date:\n\nApril 19\, 20\, 26\, 27\nMay 3\, 4\, 10\, 11\, 17\, 18\nBBQ and presentation 24th May.\n\n6 schools all come in on the last day for the presentation & barbeque on Tuesday 24th May.
URL:https://rsgyc.ie/event/schools-sailing-2016/
LOCATION:Royal St George Yacht Club\, Dun Laoghaire\, Dublin\, Dublin\, A96 AY77\, Ireland
CATEGORIES:Junior,Sailing,Training
ATTACH;FMTTYPE=image/png:https://rsgyc.ie/wp-content/uploads/2016/03/title478062930.png
ORGANIZER;CN="RSGYC Sailing":MAILTO:sailingmanager@rsgyc.ie
GEO:53.2943958;-6.1338666
X-APPLE-STRUCTURED-LOCATION;VALUE=URI;X-ADDRESS=Royal St George Yacht Club Dun Laoghaire Dublin Dublin A96 AY77 Ireland;X-APPLE-RADIUS=500;X-TITLE=Dun Laoghaire:geo:-6.1338666,53.2943958
END:VEVENT
BEGIN:VEVENT
DTSTART;TZID=Europe/Dublin:20160419T143000
DTEND;TZID=Europe/Dublin:20160419T163000
DTSTAMP:20260421T121441
CREATED:20160219T102736Z
LAST-MODIFIED:20160414T150034Z
UID:10011510-1461076200-1461083400@rsgyc.ie
SUMMARY:Book Launch Of ‘Ireland's Aviator Heroes Of World War II’ By John C. Hewitt
DESCRIPTION:On April 19th\, John C. Hewitt will launch his landmark collection Ireland’s Aviator Heroes Volume 2. Having spent 40 years meeting and interviewing the Irish airmen who flew with the RAF during the Second World War\, this beautiful collection is a piece of history.\nJohn has painstakingly and extensively researched individual stories through interviews with the surviving subjects and their families and using the original log books and service records of the men. Many of the stories contain details of the individuals’ participation in important wartime campaigns\, although others are limited to war service records due to a lack of surviving information. Above all this book celebrates the great courage and sacrifice demonstrated by these Irishmen during their contribution to the Allied war effort against Nazi Germany\, her western allies and Japan. Many of the men included paid the ultimate price for their participation. The book is illustrated with many photographs\, some taken by the subjects themselves. \nJoin John to launch this superb collection on Tuesday 19th April\, 2.30 to 4.30pm. \nThis will be in bookshops\, or you can also preorder your copy online here: \nIreland’s Aviator Heroes Vol II by John C Hewitt \nTo book your place\, please call the Club at 01 280 1811 or email Eleanor at housemanager@rsgyc.ie 
URL:https://rsgyc.ie/event/book-launch-of-irish-aviators-of-world-war-ii-by-john-c-hewitt/
LOCATION:Royal St George Yacht Club\, Dun Laoghaire\, Dublin\, Dublin\, A96 AY77\, Ireland
CATEGORIES:Social
ATTACH;FMTTYPE=image/jpeg:https://rsgyc.ie/wp-content/uploads/2016/02/51lyN6JXZNL._SX389_BO1204203200_-e1457605221150.jpg
ORGANIZER;CN="RSGYC Social & Catering":MAILTO:booking@rsgyc.ie
GEO:53.2943958;-6.1338666
X-APPLE-STRUCTURED-LOCATION;VALUE=URI;X-ADDRESS=Royal St George Yacht Club Dun Laoghaire Dublin Dublin A96 AY77 Ireland;X-APPLE-RADIUS=500;X-TITLE=Dun Laoghaire:geo:-6.1338666,53.2943958
END:VEVENT
END:VCALENDAR