BEGIN:VCALENDAR
VERSION:2.0
PRODID:-//Royal St George Yacht Club - ECPv6.15.20//NONSGML v1.0//EN
CALSCALE:GREGORIAN
METHOD:PUBLISH
X-ORIGINAL-URL:https://rsgyc.ie
X-WR-CALDESC:Events for Royal St George Yacht Club
REFRESH-INTERVAL;VALUE=DURATION:PT1H
X-Robots-Tag:noindex
X-PUBLISHED-TTL:PT1H
BEGIN:VTIMEZONE
TZID:Europe/Dublin
BEGIN:STANDARD
TZOFFSETFROM:+0000
TZOFFSETTO:+0100
TZNAME:IST
DTSTART:20170326T010000
END:STANDARD
BEGIN:DAYLIGHT
TZOFFSETFROM:+0100
TZOFFSETTO:+0000
TZNAME:GMT
DTSTART:20171029T010000
END:DAYLIGHT
BEGIN:STANDARD
TZOFFSETFROM:+0000
TZOFFSETTO:+0100
TZNAME:IST
DTSTART:20180325T010000
END:STANDARD
BEGIN:DAYLIGHT
TZOFFSETFROM:+0100
TZOFFSETTO:+0000
TZNAME:GMT
DTSTART:20181028T010000
END:DAYLIGHT
BEGIN:STANDARD
TZOFFSETFROM:+0000
TZOFFSETTO:+0100
TZNAME:IST
DTSTART:20190331T010000
END:STANDARD
BEGIN:DAYLIGHT
TZOFFSETFROM:+0100
TZOFFSETTO:+0000
TZNAME:GMT
DTSTART:20191027T010000
END:DAYLIGHT
END:VTIMEZONE
BEGIN:VEVENT
DTSTART;VALUE=DATE:20180629
DTEND;VALUE=DATE:20180702
DTSTAMP:20260422T002555
CREATED:20180122T125130Z
LAST-MODIFIED:20180122T125130Z
UID:10012113-1530230400-1530489599@rsgyc.ie
SUMMARY:SB20 - National Championships - NYC
DESCRIPTION:
URL:https://rsgyc.ie/event/sb20-national-championships-nyc/
LOCATION:National Yacht Club\, East Pier\, Dun Laoghaire\, Dublin\, Ireland
ORGANIZER;CN="National Yacht Club":MAILTO:secretary@nyc.ie
GEO:53.296603;-6.1258001
X-APPLE-STRUCTURED-LOCATION;VALUE=URI;X-ADDRESS=National Yacht Club East Pier Dun Laoghaire Dublin Ireland;X-APPLE-RADIUS=500;X-TITLE=East Pier:geo:-6.1258001,53.296603
END:VEVENT
BEGIN:VEVENT
DTSTART;VALUE=DATE:20180630
DTEND;VALUE=DATE:20180701
DTSTAMP:20260422T002555
CREATED:20180214T174515Z
LAST-MODIFIED:20180214T174540Z
UID:10012954-1530316800-1530403199@rsgyc.ie
SUMMARY:RIYC Regatta (also Round Ireland Race Start)
DESCRIPTION:The Royal Irish Yacht Club host their Regatta
URL:https://rsgyc.ie/event/riyc-regatta-also-round-ireland-race-start/
LOCATION:Royal St George Yacht Club\, Dun Laoghaire\, Dublin\, Dublin\, A96 AY77\, Ireland
CATEGORIES:Sailing
GEO:53.2943958;-6.1338666
X-APPLE-STRUCTURED-LOCATION;VALUE=URI;X-ADDRESS=Royal St George Yacht Club Dun Laoghaire Dublin Dublin A96 AY77 Ireland;X-APPLE-RADIUS=500;X-TITLE=Dun Laoghaire:geo:-6.1338666,53.2943958
END:VEVENT
BEGIN:VEVENT
DTSTART;TZID=Europe/Dublin:20180630T113000
DTEND;TZID=Europe/Dublin:20180630T153000
DTSTAMP:20260422T002555
CREATED:20180119T160632Z
LAST-MODIFIED:20181203T160149Z
UID:10012679-1530358200-1530372600@rsgyc.ie
SUMMARY:Brunch
DESCRIPTION:If you haven’t sampled our delicious new Brunch Menu\, you are in for a real treat! Brunch is only served at the weekends. So if you need to fuel up before Saturday racing\, or feel a little peckish “collecting your car” on Sunday\, the RSGYC Brunch is a must!
URL:https://rsgyc.ie/event/brunch/2018-06-30/
LOCATION:Royal St George Yacht Club\, Dun Laoghaire\, Dublin\, Dublin\, A96 AY77\, Ireland
CATEGORIES:RSGYC Overall,Social
ORGANIZER;CN="RSGYC Social & Catering":MAILTO:booking@rsgyc.ie
GEO:53.2943958;-6.1338666
X-APPLE-STRUCTURED-LOCATION;VALUE=URI;X-ADDRESS=Royal St George Yacht Club Dun Laoghaire Dublin Dublin A96 AY77 Ireland;X-APPLE-RADIUS=500;X-TITLE=Dun Laoghaire:geo:-6.1338666,53.2943958
END:VEVENT
BEGIN:VEVENT
DTSTART;TZID=Europe/Dublin:20180630T120000
DTEND;TZID=Europe/Dublin:20180630T233000
DTSTAMP:20260422T002555
CREATED:20180119T105708Z
LAST-MODIFIED:20180119T105708Z
UID:10012417-1530360000-1530401400@rsgyc.ie
SUMMARY:DBSC Sat Series
DESCRIPTION:
URL:https://rsgyc.ie/event/dbsc-sat-series/2018-06-30/
LOCATION:Royal St George Yacht Club\, Dun Laoghaire\, Dublin\, Dublin\, A96 AY77\, Ireland
ORGANIZER;CN="RSGYC Social & Catering":MAILTO:booking@rsgyc.ie
GEO:53.2943958;-6.1338666
X-APPLE-STRUCTURED-LOCATION;VALUE=URI;X-ADDRESS=Royal St George Yacht Club Dun Laoghaire Dublin Dublin A96 AY77 Ireland;X-APPLE-RADIUS=500;X-TITLE=Dun Laoghaire:geo:-6.1338666,53.2943958
END:VEVENT
END:VCALENDAR