BEGIN:VCALENDAR
VERSION:2.0
PRODID:-//Royal St George Yacht Club - ECPv6.15.20//NONSGML v1.0//EN
CALSCALE:GREGORIAN
METHOD:PUBLISH
X-ORIGINAL-URL:https://rsgyc.ie
X-WR-CALDESC:Events for Royal St George Yacht Club
REFRESH-INTERVAL;VALUE=DURATION:PT1H
X-Robots-Tag:noindex
X-PUBLISHED-TTL:PT1H
BEGIN:VTIMEZONE
TZID:Europe/Dublin
BEGIN:STANDARD
TZOFFSETFROM:+0000
TZOFFSETTO:+0100
TZNAME:IST
DTSTART:20180325T010000
END:STANDARD
BEGIN:DAYLIGHT
TZOFFSETFROM:+0100
TZOFFSETTO:+0000
TZNAME:GMT
DTSTART:20181028T010000
END:DAYLIGHT
BEGIN:STANDARD
TZOFFSETFROM:+0000
TZOFFSETTO:+0100
TZNAME:IST
DTSTART:20190331T010000
END:STANDARD
BEGIN:DAYLIGHT
TZOFFSETFROM:+0100
TZOFFSETTO:+0000
TZNAME:GMT
DTSTART:20191027T010000
END:DAYLIGHT
BEGIN:STANDARD
TZOFFSETFROM:+0000
TZOFFSETTO:+0100
TZNAME:IST
DTSTART:20200329T010000
END:STANDARD
BEGIN:DAYLIGHT
TZOFFSETFROM:+0100
TZOFFSETTO:+0000
TZNAME:GMT
DTSTART:20201025T010000
END:DAYLIGHT
END:VTIMEZONE
BEGIN:VEVENT
DTSTART;VALUE=DATE:20191216
DTEND;VALUE=DATE:20191217
DTSTAMP:20260422T073912
CREATED:20191114T135059Z
LAST-MODIFIED:20191126T165557Z
UID:10014511-1576454400-1576540799@rsgyc.ie
SUMMARY:Christmas Lunch
DESCRIPTION:  \nWe will be hosting Christmas Lunches from the 12th -23rd  of December\nfrom 12:30 in the Club Dining Room.\nPrices for Adults €35pp & Children €15pp\nFor enquries and to secure your place please call Danielle on 01-280-1811.
URL:https://rsgyc.ie/event/christmas-lunch-dates/2019-12-16/
LOCATION:Royal St George Yacht Club\, Dun Laoghaire\, Dublin\, Dublin\, A96 AY77\, Ireland
CATEGORIES:RSGYC Overall,Social
ATTACH;FMTTYPE=image/jpeg:https://rsgyc.ie/wp-content/uploads/2019/11/christmas-eve.jpg
ORGANIZER;CN="RSGYC Social & Catering":MAILTO:booking@rsgyc.ie
GEO:53.2943958;-6.1338666
X-APPLE-STRUCTURED-LOCATION;VALUE=URI;X-ADDRESS=Royal St George Yacht Club Dun Laoghaire Dublin Dublin A96 AY77 Ireland;X-APPLE-RADIUS=500;X-TITLE=Dun Laoghaire:geo:-6.1338666,53.2943958
END:VEVENT
BEGIN:VEVENT
DTSTART;VALUE=DATE:20191217
DTEND;VALUE=DATE:20191218
DTSTAMP:20260422T073912
CREATED:20191114T135059Z
LAST-MODIFIED:20191126T165557Z
UID:10014512-1576540800-1576627199@rsgyc.ie
SUMMARY:Christmas Lunch
DESCRIPTION:  \nWe will be hosting Christmas Lunches from the 12th -23rd  of December\nfrom 12:30 in the Club Dining Room.\nPrices for Adults €35pp & Children €15pp\nFor enquries and to secure your place please call Danielle on 01-280-1811.
URL:https://rsgyc.ie/event/christmas-lunch-dates/2019-12-17/
LOCATION:Royal St George Yacht Club\, Dun Laoghaire\, Dublin\, Dublin\, A96 AY77\, Ireland
CATEGORIES:RSGYC Overall,Social
ATTACH;FMTTYPE=image/jpeg:https://rsgyc.ie/wp-content/uploads/2019/11/christmas-eve.jpg
ORGANIZER;CN="RSGYC Social & Catering":MAILTO:booking@rsgyc.ie
GEO:53.2943958;-6.1338666
X-APPLE-STRUCTURED-LOCATION;VALUE=URI;X-ADDRESS=Royal St George Yacht Club Dun Laoghaire Dublin Dublin A96 AY77 Ireland;X-APPLE-RADIUS=500;X-TITLE=Dun Laoghaire:geo:-6.1338666,53.2943958
END:VEVENT
BEGIN:VEVENT
DTSTART;VALUE=DATE:20191218
DTEND;VALUE=DATE:20191219
DTSTAMP:20260422T073912
CREATED:20191114T135059Z
LAST-MODIFIED:20191126T165557Z
UID:10014513-1576627200-1576713599@rsgyc.ie
SUMMARY:Christmas Lunch
DESCRIPTION:  \nWe will be hosting Christmas Lunches from the 12th -23rd  of December\nfrom 12:30 in the Club Dining Room.\nPrices for Adults €35pp & Children €15pp\nFor enquries and to secure your place please call Danielle on 01-280-1811.
URL:https://rsgyc.ie/event/christmas-lunch-dates/2019-12-18/
LOCATION:Royal St George Yacht Club\, Dun Laoghaire\, Dublin\, Dublin\, A96 AY77\, Ireland
CATEGORIES:RSGYC Overall,Social
ATTACH;FMTTYPE=image/jpeg:https://rsgyc.ie/wp-content/uploads/2019/11/christmas-eve.jpg
ORGANIZER;CN="RSGYC Social & Catering":MAILTO:booking@rsgyc.ie
GEO:53.2943958;-6.1338666
X-APPLE-STRUCTURED-LOCATION;VALUE=URI;X-ADDRESS=Royal St George Yacht Club Dun Laoghaire Dublin Dublin A96 AY77 Ireland;X-APPLE-RADIUS=500;X-TITLE=Dun Laoghaire:geo:-6.1338666,53.2943958
END:VEVENT
BEGIN:VEVENT
DTSTART;VALUE=DATE:20191219
DTEND;VALUE=DATE:20191220
DTSTAMP:20260422T073912
CREATED:20191114T135059Z
LAST-MODIFIED:20191126T165557Z
UID:10014514-1576713600-1576799999@rsgyc.ie
SUMMARY:Christmas Lunch
DESCRIPTION:  \nWe will be hosting Christmas Lunches from the 12th -23rd  of December\nfrom 12:30 in the Club Dining Room.\nPrices for Adults €35pp & Children €15pp\nFor enquries and to secure your place please call Danielle on 01-280-1811.
URL:https://rsgyc.ie/event/christmas-lunch-dates/2019-12-19/
LOCATION:Royal St George Yacht Club\, Dun Laoghaire\, Dublin\, Dublin\, A96 AY77\, Ireland
CATEGORIES:RSGYC Overall,Social
ATTACH;FMTTYPE=image/jpeg:https://rsgyc.ie/wp-content/uploads/2019/11/christmas-eve.jpg
ORGANIZER;CN="RSGYC Social & Catering":MAILTO:booking@rsgyc.ie
GEO:53.2943958;-6.1338666
X-APPLE-STRUCTURED-LOCATION;VALUE=URI;X-ADDRESS=Royal St George Yacht Club Dun Laoghaire Dublin Dublin A96 AY77 Ireland;X-APPLE-RADIUS=500;X-TITLE=Dun Laoghaire:geo:-6.1338666,53.2943958
END:VEVENT
BEGIN:VEVENT
DTSTART;VALUE=DATE:20191220
DTEND;VALUE=DATE:20191221
DTSTAMP:20260422T073912
CREATED:20191114T135059Z
LAST-MODIFIED:20191126T165557Z
UID:10014515-1576800000-1576886399@rsgyc.ie
SUMMARY:Christmas Lunch
DESCRIPTION:  \nWe will be hosting Christmas Lunches from the 12th -23rd  of December\nfrom 12:30 in the Club Dining Room.\nPrices for Adults €35pp & Children €15pp\nFor enquries and to secure your place please call Danielle on 01-280-1811.
URL:https://rsgyc.ie/event/christmas-lunch-dates/2019-12-20/
LOCATION:Royal St George Yacht Club\, Dun Laoghaire\, Dublin\, Dublin\, A96 AY77\, Ireland
CATEGORIES:RSGYC Overall,Social
ATTACH;FMTTYPE=image/jpeg:https://rsgyc.ie/wp-content/uploads/2019/11/christmas-eve.jpg
ORGANIZER;CN="RSGYC Social & Catering":MAILTO:booking@rsgyc.ie
GEO:53.2943958;-6.1338666
X-APPLE-STRUCTURED-LOCATION;VALUE=URI;X-ADDRESS=Royal St George Yacht Club Dun Laoghaire Dublin Dublin A96 AY77 Ireland;X-APPLE-RADIUS=500;X-TITLE=Dun Laoghaire:geo:-6.1338666,53.2943958
END:VEVENT
BEGIN:VEVENT
DTSTART;TZID=Europe/Dublin:20191220T104500
DTEND;TZID=Europe/Dublin:20191220T130000
DTSTAMP:20260422T073912
CREATED:20190508T113302Z
LAST-MODIFIED:20190823T093537Z
UID:10014232-1576838700-1576846800@rsgyc.ie
SUMMARY:Members' Friday Coffee Morning
DESCRIPTION:Every Friday at 10:45 hrs \nCome down and join in the conversation with fellow members
URL:https://rsgyc.ie/event/members-friday-coffee-morning/2019-12-20/
LOCATION:Royal St George Yacht Club\, Dun Laoghaire\, Dublin\, Dublin\, A96 AY77\, Ireland
CATEGORIES:RSGYC Overall
ATTACH;FMTTYPE=image/jpeg:https://rsgyc.ie/wp-content/uploads/2019/05/coffee.jpg
ORGANIZER;CN="RSGYC Social & Catering":MAILTO:booking@rsgyc.ie
GEO:53.2943958;-6.1338666
X-APPLE-STRUCTURED-LOCATION;VALUE=URI;X-ADDRESS=Royal St George Yacht Club Dun Laoghaire Dublin Dublin A96 AY77 Ireland;X-APPLE-RADIUS=500;X-TITLE=Dun Laoghaire:geo:-6.1338666,53.2943958
END:VEVENT
BEGIN:VEVENT
DTSTART;VALUE=DATE:20191221
DTEND;VALUE=DATE:20191222
DTSTAMP:20260422T073912
CREATED:20191114T135059Z
LAST-MODIFIED:20191126T165557Z
UID:10014516-1576886400-1576972799@rsgyc.ie
SUMMARY:Christmas Lunch
DESCRIPTION:  \nWe will be hosting Christmas Lunches from the 12th -23rd  of December\nfrom 12:30 in the Club Dining Room.\nPrices for Adults €35pp & Children €15pp\nFor enquries and to secure your place please call Danielle on 01-280-1811.
URL:https://rsgyc.ie/event/christmas-lunch-dates/2019-12-21/
LOCATION:Royal St George Yacht Club\, Dun Laoghaire\, Dublin\, Dublin\, A96 AY77\, Ireland
CATEGORIES:RSGYC Overall,Social
ATTACH;FMTTYPE=image/jpeg:https://rsgyc.ie/wp-content/uploads/2019/11/christmas-eve.jpg
ORGANIZER;CN="RSGYC Social & Catering":MAILTO:booking@rsgyc.ie
GEO:53.2943958;-6.1338666
X-APPLE-STRUCTURED-LOCATION;VALUE=URI;X-ADDRESS=Royal St George Yacht Club Dun Laoghaire Dublin Dublin A96 AY77 Ireland;X-APPLE-RADIUS=500;X-TITLE=Dun Laoghaire:geo:-6.1338666,53.2943958
END:VEVENT
BEGIN:VEVENT
DTSTART;VALUE=DATE:20191222
DTEND;VALUE=DATE:20191223
DTSTAMP:20260422T073912
CREATED:20191114T135059Z
LAST-MODIFIED:20191126T165557Z
UID:10014517-1576972800-1577059199@rsgyc.ie
SUMMARY:Christmas Lunch
DESCRIPTION:  \nWe will be hosting Christmas Lunches from the 12th -23rd  of December\nfrom 12:30 in the Club Dining Room.\nPrices for Adults €35pp & Children €15pp\nFor enquries and to secure your place please call Danielle on 01-280-1811.
URL:https://rsgyc.ie/event/christmas-lunch-dates/2019-12-22/
LOCATION:Royal St George Yacht Club\, Dun Laoghaire\, Dublin\, Dublin\, A96 AY77\, Ireland
CATEGORIES:RSGYC Overall,Social
ATTACH;FMTTYPE=image/jpeg:https://rsgyc.ie/wp-content/uploads/2019/11/christmas-eve.jpg
ORGANIZER;CN="RSGYC Social & Catering":MAILTO:booking@rsgyc.ie
GEO:53.2943958;-6.1338666
X-APPLE-STRUCTURED-LOCATION;VALUE=URI;X-ADDRESS=Royal St George Yacht Club Dun Laoghaire Dublin Dublin A96 AY77 Ireland;X-APPLE-RADIUS=500;X-TITLE=Dun Laoghaire:geo:-6.1338666,53.2943958
END:VEVENT
END:VCALENDAR