BEGIN:VCALENDAR
VERSION:2.0
PRODID:-//Royal St George Yacht Club - ECPv6.15.20//NONSGML v1.0//EN
CALSCALE:GREGORIAN
METHOD:PUBLISH
X-ORIGINAL-URL:https://rsgyc.ie
X-WR-CALDESC:Events for Royal St George Yacht Club
REFRESH-INTERVAL;VALUE=DURATION:PT1H
X-Robots-Tag:noindex
X-PUBLISHED-TTL:PT1H
BEGIN:VTIMEZONE
TZID:Europe/Dublin
BEGIN:STANDARD
TZOFFSETFROM:+0000
TZOFFSETTO:+0100
TZNAME:IST
DTSTART:20170326T010000
END:STANDARD
BEGIN:DAYLIGHT
TZOFFSETFROM:+0100
TZOFFSETTO:+0000
TZNAME:GMT
DTSTART:20171029T010000
END:DAYLIGHT
BEGIN:STANDARD
TZOFFSETFROM:+0000
TZOFFSETTO:+0100
TZNAME:IST
DTSTART:20180325T010000
END:STANDARD
BEGIN:DAYLIGHT
TZOFFSETFROM:+0100
TZOFFSETTO:+0000
TZNAME:GMT
DTSTART:20181028T010000
END:DAYLIGHT
BEGIN:STANDARD
TZOFFSETFROM:+0000
TZOFFSETTO:+0100
TZNAME:IST
DTSTART:20190331T010000
END:STANDARD
BEGIN:DAYLIGHT
TZOFFSETFROM:+0100
TZOFFSETTO:+0000
TZNAME:GMT
DTSTART:20191027T010000
END:DAYLIGHT
END:VTIMEZONE
BEGIN:VEVENT
DTSTART;TZID=Europe/Dublin:20180814T180000
DTEND;TZID=Europe/Dublin:20180814T233000
DTSTAMP:20260425T180442
CREATED:20180119T103651Z
LAST-MODIFIED:20180119T163805Z
UID:10012080-1534269600-1534289400@rsgyc.ie
SUMMARY:DBSC Tues Series
DESCRIPTION:Tuesday evening racing organised by DBSC (Dublin Bay Sailing Club)
URL:https://rsgyc.ie/event/dbsc/2018-08-14/
LOCATION:Royal St George Yacht Club\, Dun Laoghaire\, Dublin\, Dublin\, A96 AY77\, Ireland
CATEGORIES:Sailing
ORGANIZER;CN="RSGYC Social & Catering":MAILTO:booking@rsgyc.ie
GEO:53.2943958;-6.1338666
X-APPLE-STRUCTURED-LOCATION;VALUE=URI;X-ADDRESS=Royal St George Yacht Club Dun Laoghaire Dublin Dublin A96 AY77 Ireland;X-APPLE-RADIUS=500;X-TITLE=Dun Laoghaire:geo:-6.1338666,53.2943958
END:VEVENT
BEGIN:VEVENT
DTSTART;VALUE=DATE:20180817
DTEND;VALUE=DATE:20180818
DTSTAMP:20260425T180442
CREATED:20180802T110023Z
LAST-MODIFIED:20180816T130710Z
UID:10012189-1534464000-1534550399@rsgyc.ie
SUMMARY:Irish Ruffian 23 National Championships
DESCRIPTION:The RSGYC look forward to welcoming the Irish Ruffian Class for their National Championships on the from the 17th to 19th of August.  \nThree days of racing are planned with fun afloat and ashore guaranteed. This event is taking place in conjunction with the Irish Shipman Class who will also be running their National Championships at the same time.  \nThe Notice of Race can be viewed by clicking here: \nThe Sailing Instructions can be viewed by clicking here: \nThe secure Online Entry can be completed by clicking here: \nClick here for the Irish Ruffian Class Association website.
URL:https://rsgyc.ie/event/irish-ruffian-23-national-championships/2018-08-17/
LOCATION:Royal St George Yacht Club\, Dun Laoghaire\, Dublin\, Dublin\, A96 AY77\, Ireland
CATEGORIES:RSGYC Overall,Sailing
ATTACH;FMTTYPE=image/jpeg:https://rsgyc.ie/wp-content/uploads/2018/08/Ruffian-23-web-pic-e1533207589524.jpg
ORGANIZER;CN="RSGYC Social & Catering":MAILTO:booking@rsgyc.ie
GEO:53.2943958;-6.1338666
X-APPLE-STRUCTURED-LOCATION;VALUE=URI;X-ADDRESS=Royal St George Yacht Club Dun Laoghaire Dublin Dublin A96 AY77 Ireland;X-APPLE-RADIUS=500;X-TITLE=Dun Laoghaire:geo:-6.1338666,53.2943958
END:VEVENT
BEGIN:VEVENT
DTSTART;TZID=Europe/Dublin:20180817T080000
DTEND;TZID=Europe/Dublin:20180817T170000
DTSTAMP:20260425T180442
CREATED:20180802T103542Z
LAST-MODIFIED:20180816T130904Z
UID:10012186-1534492800-1534525200@rsgyc.ie
SUMMARY:Shipman Class National Championships 2018
DESCRIPTION:  \nThe RSGYC look forward to welcome the Shipman Class for their National Championships on the 17th and 18th of August.  \nTwo days of racing are planned with fun afloat and ashore guaranteed. This event is taking place in conjunction with the Irish Ruffian Class who will also be running their National Championships at the same time.  \nThe Notice of Race can be viewed by clicking here: \nThe Online Entry can be completed by clicking here: \nThe Sailing Instructions can be viewed by clicking here:  \nClick here for the Shipman Class Association website to complete association annual membership
URL:https://rsgyc.ie/event/shipman-class-national-championships-2018/2018-08-17/
LOCATION:Royal St George Yacht Club\, Dun Laoghaire\, Dublin\, Dublin\, A96 AY77\, Ireland
CATEGORIES:RSGYC Overall,Sailing
ATTACH;FMTTYPE=image/jpeg:https://rsgyc.ie/wp-content/uploads/2018/08/images-e1533206289336.jpg
ORGANIZER;CN="RSGYC Social & Catering":MAILTO:booking@rsgyc.ie
GEO:53.2943958;-6.1338666
X-APPLE-STRUCTURED-LOCATION;VALUE=URI;X-ADDRESS=Royal St George Yacht Club Dun Laoghaire Dublin Dublin A96 AY77 Ireland;X-APPLE-RADIUS=500;X-TITLE=Dun Laoghaire:geo:-6.1338666,53.2943958
END:VEVENT
BEGIN:VEVENT
DTSTART;VALUE=DATE:20180818
DTEND;VALUE=DATE:20180819
DTSTAMP:20260425T180442
CREATED:20180802T110023Z
LAST-MODIFIED:20180816T130710Z
UID:10012190-1534550400-1534636799@rsgyc.ie
SUMMARY:Irish Ruffian 23 National Championships
DESCRIPTION:The RSGYC look forward to welcoming the Irish Ruffian Class for their National Championships on the from the 17th to 19th of August.  \nThree days of racing are planned with fun afloat and ashore guaranteed. This event is taking place in conjunction with the Irish Shipman Class who will also be running their National Championships at the same time.  \nThe Notice of Race can be viewed by clicking here: \nThe Sailing Instructions can be viewed by clicking here: \nThe secure Online Entry can be completed by clicking here: \nClick here for the Irish Ruffian Class Association website.
URL:https://rsgyc.ie/event/irish-ruffian-23-national-championships/2018-08-18/
LOCATION:Royal St George Yacht Club\, Dun Laoghaire\, Dublin\, Dublin\, A96 AY77\, Ireland
CATEGORIES:RSGYC Overall,Sailing
ATTACH;FMTTYPE=image/jpeg:https://rsgyc.ie/wp-content/uploads/2018/08/Ruffian-23-web-pic-e1533207589524.jpg
ORGANIZER;CN="RSGYC Social & Catering":MAILTO:booking@rsgyc.ie
GEO:53.2943958;-6.1338666
X-APPLE-STRUCTURED-LOCATION;VALUE=URI;X-ADDRESS=Royal St George Yacht Club Dun Laoghaire Dublin Dublin A96 AY77 Ireland;X-APPLE-RADIUS=500;X-TITLE=Dun Laoghaire:geo:-6.1338666,53.2943958
END:VEVENT
BEGIN:VEVENT
DTSTART;TZID=Europe/Dublin:20180818T080000
DTEND;TZID=Europe/Dublin:20180818T170000
DTSTAMP:20260425T180442
CREATED:20180802T103542Z
LAST-MODIFIED:20180816T130904Z
UID:10012187-1534579200-1534611600@rsgyc.ie
SUMMARY:Shipman Class National Championships 2018
DESCRIPTION:  \nThe RSGYC look forward to welcome the Shipman Class for their National Championships on the 17th and 18th of August.  \nTwo days of racing are planned with fun afloat and ashore guaranteed. This event is taking place in conjunction with the Irish Ruffian Class who will also be running their National Championships at the same time.  \nThe Notice of Race can be viewed by clicking here: \nThe Online Entry can be completed by clicking here: \nThe Sailing Instructions can be viewed by clicking here:  \nClick here for the Shipman Class Association website to complete association annual membership
URL:https://rsgyc.ie/event/shipman-class-national-championships-2018/2018-08-18/
LOCATION:Royal St George Yacht Club\, Dun Laoghaire\, Dublin\, Dublin\, A96 AY77\, Ireland
CATEGORIES:RSGYC Overall,Sailing
ATTACH;FMTTYPE=image/jpeg:https://rsgyc.ie/wp-content/uploads/2018/08/images-e1533206289336.jpg
ORGANIZER;CN="RSGYC Social & Catering":MAILTO:booking@rsgyc.ie
GEO:53.2943958;-6.1338666
X-APPLE-STRUCTURED-LOCATION;VALUE=URI;X-ADDRESS=Royal St George Yacht Club Dun Laoghaire Dublin Dublin A96 AY77 Ireland;X-APPLE-RADIUS=500;X-TITLE=Dun Laoghaire:geo:-6.1338666,53.2943958
END:VEVENT
BEGIN:VEVENT
DTSTART;VALUE=DATE:20180819
DTEND;VALUE=DATE:20180820
DTSTAMP:20260425T180442
CREATED:20180802T110023Z
LAST-MODIFIED:20180816T130710Z
UID:10012191-1534636800-1534723199@rsgyc.ie
SUMMARY:Irish Ruffian 23 National Championships
DESCRIPTION:The RSGYC look forward to welcoming the Irish Ruffian Class for their National Championships on the from the 17th to 19th of August.  \nThree days of racing are planned with fun afloat and ashore guaranteed. This event is taking place in conjunction with the Irish Shipman Class who will also be running their National Championships at the same time.  \nThe Notice of Race can be viewed by clicking here: \nThe Sailing Instructions can be viewed by clicking here: \nThe secure Online Entry can be completed by clicking here: \nClick here for the Irish Ruffian Class Association website.
URL:https://rsgyc.ie/event/irish-ruffian-23-national-championships/2018-08-19/
LOCATION:Royal St George Yacht Club\, Dun Laoghaire\, Dublin\, Dublin\, A96 AY77\, Ireland
CATEGORIES:RSGYC Overall,Sailing
ATTACH;FMTTYPE=image/jpeg:https://rsgyc.ie/wp-content/uploads/2018/08/Ruffian-23-web-pic-e1533207589524.jpg
ORGANIZER;CN="RSGYC Social & Catering":MAILTO:booking@rsgyc.ie
GEO:53.2943958;-6.1338666
X-APPLE-STRUCTURED-LOCATION;VALUE=URI;X-ADDRESS=Royal St George Yacht Club Dun Laoghaire Dublin Dublin A96 AY77 Ireland;X-APPLE-RADIUS=500;X-TITLE=Dun Laoghaire:geo:-6.1338666,53.2943958
END:VEVENT
END:VCALENDAR