BEGIN:VCALENDAR
VERSION:2.0
PRODID:-//Royal St George Yacht Club - ECPv6.15.20//NONSGML v1.0//EN
CALSCALE:GREGORIAN
METHOD:PUBLISH
X-ORIGINAL-URL:https://rsgyc.ie
X-WR-CALDESC:Events for Royal St George Yacht Club
REFRESH-INTERVAL;VALUE=DURATION:PT1H
X-Robots-Tag:noindex
X-PUBLISHED-TTL:PT1H
BEGIN:VTIMEZONE
TZID:Europe/Dublin
BEGIN:STANDARD
TZOFFSETFROM:+0000
TZOFFSETTO:+0100
TZNAME:IST
DTSTART:20180325T010000
END:STANDARD
BEGIN:DAYLIGHT
TZOFFSETFROM:+0100
TZOFFSETTO:+0000
TZNAME:GMT
DTSTART:20181028T010000
END:DAYLIGHT
BEGIN:STANDARD
TZOFFSETFROM:+0000
TZOFFSETTO:+0100
TZNAME:IST
DTSTART:20190331T010000
END:STANDARD
BEGIN:DAYLIGHT
TZOFFSETFROM:+0100
TZOFFSETTO:+0000
TZNAME:GMT
DTSTART:20191027T010000
END:DAYLIGHT
BEGIN:STANDARD
TZOFFSETFROM:+0000
TZOFFSETTO:+0100
TZNAME:IST
DTSTART:20200329T010000
END:STANDARD
BEGIN:DAYLIGHT
TZOFFSETFROM:+0100
TZOFFSETTO:+0000
TZNAME:GMT
DTSTART:20201025T010000
END:DAYLIGHT
END:VTIMEZONE
BEGIN:VEVENT
DTSTART;TZID=Europe/Dublin:20190511T170000
DTEND;TZID=Europe/Dublin:20190511T170000
DTSTAMP:20260422T135542
CREATED:20190409T115013Z
LAST-MODIFIED:20190429T153419Z
UID:10014178-1557594000-1557594000@rsgyc.ie
SUMMARY:Heineken Champions Cup Final\, kick off 5.00 pm
DESCRIPTION:Leinster v Saracens \nCome down to the Members Bar and watch the match…
URL:https://rsgyc.ie/event/heineken-champions-cup-final-kick-off-5-00-pm/
LOCATION:Royal St George Yacht Club\, Dun Laoghaire\, Dublin\, Dublin\, A96 AY77\, Ireland
CATEGORIES:RSGYC Overall,Social
ATTACH;FMTTYPE=image/jpeg:https://rsgyc.ie/wp-content/uploads/2019/04/hein2-e1556551993214.jpg
ORGANIZER;CN="RSGYC Social & Catering":MAILTO:booking@rsgyc.ie
GEO:53.2943958;-6.1338666
X-APPLE-STRUCTURED-LOCATION;VALUE=URI;X-ADDRESS=Royal St George Yacht Club Dun Laoghaire Dublin Dublin A96 AY77 Ireland;X-APPLE-RADIUS=500;X-TITLE=Dun Laoghaire:geo:-6.1338666,53.2943958
END:VEVENT
BEGIN:VEVENT
DTSTART;TZID=Europe/Dublin:20190518T190000
DTEND;TZID=Europe/Dublin:20190518T190000
DTSTAMP:20260422T135542
CREATED:20190409T115126Z
LAST-MODIFIED:20190424T105534Z
UID:10014179-1558206000-1558206000@rsgyc.ie
SUMMARY:uRow Dinner \, 7.00 pm
DESCRIPTION:A dinner to celebrate a wonderful first term for the uRow program.  Over 10 million metres have been rowed in the indoor classes this Winter so it’s time for a party. Come down and join us for a wonderful three course meal in the dining room. \nWe will celebrate the launch our new rowing gym – ‘the RowHouse’ where 3 time Olympian Niall O’Toole from CREWCLASS\, our ‘whopper’ coach\,  will aim to set a club record in the gym before dinner. So be there early! \nAfter Niall has recovered he will tell us a few stories and talk about the psychology of endurance sports in a fun Q&A after dinner. \n7.00 pm Arrival  / Dining Room / 3 courses / €35 per person \nClick HERE for booking form \nIf you have any problems use this booking form\, please contact Laura at reception@rsgyc.ie
URL:https://rsgyc.ie/event/urow-dinner-7-00-pm/
LOCATION:Royal St George Yacht Club\, Dun Laoghaire\, Dublin\, Dublin\, A96 AY77\, Ireland
CATEGORIES:RSGYC Overall,Sailing,Social,Training
ATTACH;FMTTYPE=image/jpeg:https://rsgyc.ie/wp-content/uploads/2019/04/uRow-e1556102686283.jpg
ORGANIZER;CN="RSGYC Social & Catering":MAILTO:booking@rsgyc.ie
GEO:53.2943958;-6.1338666
X-APPLE-STRUCTURED-LOCATION;VALUE=URI;X-ADDRESS=Royal St George Yacht Club Dun Laoghaire Dublin Dublin A96 AY77 Ireland;X-APPLE-RADIUS=500;X-TITLE=Dun Laoghaire:geo:-6.1338666,53.2943958
END:VEVENT
BEGIN:VEVENT
DTSTART;TZID=Europe/Dublin:20190520T130000
DTEND;TZID=Europe/Dublin:20190520T143000
DTSTAMP:20260422T135542
CREATED:20190429T151649Z
LAST-MODIFIED:20190429T154842Z
UID:10014184-1558357200-1558362600@rsgyc.ie
SUMMARY:Royal Muglins Golf Society Inaugural Outing
DESCRIPTION:A list of the club members will be sent to all those who have expressed an interest in joining the society.   Members may select their playing partners from the list or invite a guest if preferred. Please try and keep guests to members of other yacht clubs.  Playing members of the RSGYC will be deemed to be members of the Golf Society.  The format will be a singles and four ball competition. The top 3 singles and the best 4 ball will be awarded a prize.  \nMembership fee to join the society is €20  (collected on the day).\nGreen fee is €50 per person (also collected on the day).\nTee Times are booked between 1 pm and 2.30 pm in Dun Laoghaire Golf  – This allows for up to 9 teams  \nIf you haven’t already done so\, please send your email; address and mobile number to Shay at shaydmoran@gmail.com
URL:https://rsgyc.ie/event/royal-muglins-golf-society-inaugural-outing/
LOCATION:Royal St George Yacht Club\, Dun Laoghaire\, Dublin\, Dublin\, A96 AY77\, Ireland
CATEGORIES:RSGYC Overall,Social
ATTACH;FMTTYPE=image/jpeg:https://rsgyc.ie/wp-content/uploads/2019/04/tee-off.jpg
ORGANIZER;CN="RSGYC Social & Catering":MAILTO:booking@rsgyc.ie
GEO:53.2943958;-6.1338666
X-APPLE-STRUCTURED-LOCATION;VALUE=URI;X-ADDRESS=Royal St George Yacht Club Dun Laoghaire Dublin Dublin A96 AY77 Ireland;X-APPLE-RADIUS=500;X-TITLE=Dun Laoghaire:geo:-6.1338666,53.2943958
END:VEVENT
BEGIN:VEVENT
DTSTART;TZID=Europe/Dublin:20190520T190000
DTEND;TZID=Europe/Dublin:20190520T190000
DTSTAMP:20260422T135542
CREATED:20190409T115233Z
LAST-MODIFIED:20190508T144519Z
UID:10014180-1558378800-1558378800@rsgyc.ie
SUMMARY:Bridge Club  'End of Season' \,  7.30 pm
DESCRIPTION:Monday 20th May \nBridge Club ‘End of Season’ \nDraw for Partners available! \nStarts 19:30 hrs  : Dining Room
URL:https://rsgyc.ie/event/bridge-club-end-of-season-dinner-7-00-pm/
LOCATION:Royal St George Yacht Club\, Dun Laoghaire\, Dublin\, Dublin\, A96 AY77\, Ireland
CATEGORIES:RSGYC Overall,Social
ATTACH;FMTTYPE=image/jpeg:https://rsgyc.ie/wp-content/uploads/2019/05/bridge-club-e1557326679542.jpg
ORGANIZER;CN="RSGYC Social & Catering":MAILTO:booking@rsgyc.ie
GEO:53.2943958;-6.1338666
X-APPLE-STRUCTURED-LOCATION;VALUE=URI;X-ADDRESS=Royal St George Yacht Club Dun Laoghaire Dublin Dublin A96 AY77 Ireland;X-APPLE-RADIUS=500;X-TITLE=Dun Laoghaire:geo:-6.1338666,53.2943958
END:VEVENT
END:VCALENDAR