BEGIN:VCALENDAR
VERSION:2.0
PRODID:-//Royal St George Yacht Club - ECPv6.15.20//NONSGML v1.0//EN
CALSCALE:GREGORIAN
METHOD:PUBLISH
X-WR-CALNAME:Royal St George Yacht Club
X-ORIGINAL-URL:https://rsgyc.ie
X-WR-CALDESC:Events for Royal St George Yacht Club
REFRESH-INTERVAL;VALUE=DURATION:PT1H
X-Robots-Tag:noindex
X-PUBLISHED-TTL:PT1H
BEGIN:VTIMEZONE
TZID:Europe/Dublin
BEGIN:STANDARD
TZOFFSETFROM:+0000
TZOFFSETTO:+0100
TZNAME:IST
DTSTART:20180325T010000
END:STANDARD
BEGIN:DAYLIGHT
TZOFFSETFROM:+0100
TZOFFSETTO:+0000
TZNAME:GMT
DTSTART:20181028T010000
END:DAYLIGHT
BEGIN:STANDARD
TZOFFSETFROM:+0000
TZOFFSETTO:+0100
TZNAME:IST
DTSTART:20190331T010000
END:STANDARD
BEGIN:DAYLIGHT
TZOFFSETFROM:+0100
TZOFFSETTO:+0000
TZNAME:GMT
DTSTART:20191027T010000
END:DAYLIGHT
BEGIN:STANDARD
TZOFFSETFROM:+0000
TZOFFSETTO:+0100
TZNAME:IST
DTSTART:20200329T010000
END:STANDARD
BEGIN:DAYLIGHT
TZOFFSETFROM:+0100
TZOFFSETTO:+0000
TZNAME:GMT
DTSTART:20201025T010000
END:DAYLIGHT
END:VTIMEZONE
BEGIN:VEVENT
DTSTART;VALUE=DATE:20191106
DTEND;VALUE=DATE:20191107
DTSTAMP:20260422T155830
CREATED:20190906T135151Z
LAST-MODIFIED:20190909T090330Z
UID:10014474-1572998400-1573084799@rsgyc.ie
SUMMARY:Improvers Bridge Classes
DESCRIPTION:Improvers Bridge Classes will  re-commence on Wednesday\, 2nd October at 19:15 \n  \nThe class is geared at people who want to improve their bridge skills in a fun atmosphere. \n  \nEvery Wednesday for 10 weeks at €130 per person. \n  \nTo register your interest\, Please Book HERE. 
URL:https://rsgyc.ie/event/improvers-bridge-classes-will-re-commence-on-wednesday-2nd-october/2019-11-06/
LOCATION:Royal St George Yacht Club\, Dun Laoghaire\, Dublin\, Dublin\, A96 AY77\, Ireland
CATEGORIES:Social
ATTACH;FMTTYPE=image/jpeg:https://rsgyc.ie/wp-content/uploads/2019/09/bridge.jpg
ORGANIZER;CN="RSGYC Social & Catering":MAILTO:booking@rsgyc.ie
GEO:53.2943958;-6.1338666
X-APPLE-STRUCTURED-LOCATION;VALUE=URI;X-ADDRESS=Royal St George Yacht Club Dun Laoghaire Dublin Dublin A96 AY77 Ireland;X-APPLE-RADIUS=500;X-TITLE=Dun Laoghaire:geo:-6.1338666,53.2943958
END:VEVENT
BEGIN:VEVENT
DTSTART;TZID=Europe/Dublin:20191106T190000
DTEND;TZID=Europe/Dublin:20191106T220000
DTSTAMP:20260422T155830
CREATED:20191019T144316Z
LAST-MODIFIED:20191022T113419Z
UID:10012431-1573066800-1573077600@rsgyc.ie
SUMMARY:Movie Night- Mamma Mia 2
DESCRIPTION:Sing your heart out with The George as we present Mamma Mia 2 on Wednesday\, November 6th from 19:00. \nMamma Mia -Here we go again tells the story of a young Donna\, Tanya\, and Rosie in 1979  who has just graduated from Oxford University and now leaves Donna free to embark on a series of adventures throughout Europe. \n On her journeys\, she makes the acquaintances of Harry\, Bill\, and Sam — the latter whom she falls in love with\, but he’s also the man who breaks her heart. \n In the present day\, Donna’s pregnant daughter\, Sophie\, dreams of renovating a taverna while reuniting with her mother’s old friends and boyfriends on the Greek island of Kalokairi. \nWarm-up those vocal cords as this is a sing-along spectacular not to be missed !! \nDinner 19:00pm /Movie 20:00pm/€15pp \nBooking is essential so please contact Danielle or Laura in reception to secure your place or call 01 280 1811.
URL:https://rsgyc.ie/event/movie-night-mamma-mia-2/
LOCATION:Royal St George Yacht Club\, Dun Laoghaire\, Dublin\, Dublin\, A96 AY77\, Ireland
CATEGORIES:RSGYC Overall,Social
ORGANIZER;CN="RSGYC Social & Catering":MAILTO:booking@rsgyc.ie
GEO:53.2943958;-6.1338666
X-APPLE-STRUCTURED-LOCATION;VALUE=URI;X-ADDRESS=Royal St George Yacht Club Dun Laoghaire Dublin Dublin A96 AY77 Ireland;X-APPLE-RADIUS=500;X-TITLE=Dun Laoghaire:geo:-6.1338666,53.2943958
END:VEVENT
END:VCALENDAR