BEGIN:VCALENDAR
VERSION:2.0
PRODID:-//Royal St George Yacht Club - ECPv6.15.20//NONSGML v1.0//EN
CALSCALE:GREGORIAN
METHOD:PUBLISH
X-ORIGINAL-URL:https://rsgyc.ie
X-WR-CALDESC:Events for Royal St George Yacht Club
REFRESH-INTERVAL;VALUE=DURATION:PT1H
X-Robots-Tag:noindex
X-PUBLISHED-TTL:PT1H
BEGIN:VTIMEZONE
TZID:Europe/Dublin
BEGIN:STANDARD
TZOFFSETFROM:+0000
TZOFFSETTO:+0100
TZNAME:IST
DTSTART:20150329T010000
END:STANDARD
BEGIN:DAYLIGHT
TZOFFSETFROM:+0100
TZOFFSETTO:+0000
TZNAME:GMT
DTSTART:20151025T010000
END:DAYLIGHT
BEGIN:STANDARD
TZOFFSETFROM:+0000
TZOFFSETTO:+0100
TZNAME:IST
DTSTART:20160327T010000
END:STANDARD
BEGIN:DAYLIGHT
TZOFFSETFROM:+0100
TZOFFSETTO:+0000
TZNAME:GMT
DTSTART:20161030T010000
END:DAYLIGHT
BEGIN:STANDARD
TZOFFSETFROM:+0000
TZOFFSETTO:+0100
TZNAME:IST
DTSTART:20170326T010000
END:STANDARD
BEGIN:DAYLIGHT
TZOFFSETFROM:+0100
TZOFFSETTO:+0000
TZNAME:GMT
DTSTART:20171029T010000
END:DAYLIGHT
END:VTIMEZONE
BEGIN:VEVENT
DTSTART;VALUE=DATE:20160620
DTEND;VALUE=DATE:20160702
DTSTAMP:20260424T021831
CREATED:20160110T093901Z
LAST-MODIFIED:20160513T150545Z
UID:10011577-1466380800-1467417599@rsgyc.ie
SUMMARY:Junior Summer Courses - Course B
DESCRIPTION:With the summer school holidays and the way the dates fall\, the first course date will be Course A on Tuesday 7th of June.\nBook Online Here\nAll courses for 2016 will be two weeks long. \nThere will be a break in the middle of July to facilitate the KBC Laser Radial World Championships\, which the RSGYC has the honour of hosting in conjunction with the Dun Laoghaire Harbour Company. \n\nCourse A:        June 7th – 17th (bank holiday Mon 6th) 9 days           Course Fee Member: €315 Guest/ Non- member fee €420\nCourse B:        June 20th – July 1st        10 days                                     Course Fee Member: €350 Guest/ Non- member fee €465\nCourse C:        July 4th – July 15th         10 days                                     Course Fee Member: €350 Guest/ Non- member fee €465\nCourse D:         August 2nd – 12th           9 days (bank holiday 1st)    Course Fee Member: €315 Guest/ Non- member fee €420\nLaser Worlds:  July 23 – 30th                   No sailing course\n\nPlease Note: Please Note: ISA Membership Fee of €16 is compulsory for all trainees. This amount is included in the cadet membership fee. If the sailor is not a cadet member this fee will be added to the cost of the course. \nOnline form will be available in early 2016 and early booking is advised to ensure requested course dates are available. \nIf you have any questions\, please call the Sailing Manager on 01 214 7852 or email sailingmanager@rsgyc.ie 
URL:https://rsgyc.ie/event/junior-summer-courses-course-b/
LOCATION:Royal St George Yacht Club\, Dun Laoghaire\, Dublin\, Dublin\, A96 AY77\, Ireland
CATEGORIES:Junior,Sailing,Training
ATTACH;FMTTYPE=image/jpeg:https://rsgyc.ie/wp-content/uploads/2016/02/Summer_2010_RSGYC_Photos_015-328x247.jpg
ORGANIZER;CN="RSGYC Sailing":MAILTO:sailingmanager@rsgyc.ie
GEO:53.2943958;-6.1338666
X-APPLE-STRUCTURED-LOCATION;VALUE=URI;X-ADDRESS=Royal St George Yacht Club Dun Laoghaire Dublin Dublin A96 AY77 Ireland;X-APPLE-RADIUS=500;X-TITLE=Dun Laoghaire:geo:-6.1338666,53.2943958
END:VEVENT
BEGIN:VEVENT
DTSTART;VALUE=DATE:20160628
DTEND;VALUE=DATE:20160630
DTSTAMP:20260424T021831
CREATED:20160615T085708Z
LAST-MODIFIED:20160615T091553Z
UID:10012159-1467072000-1467244799@rsgyc.ie
SUMMARY:OMG June Coaching Camp
DESCRIPTION:OMG coaching camp is scheduled for the following dates:\n\nJune 28th\nJune 29th\n\nBook Online Here\nSailing Starts at 12 noon every day with all participating changed and rigged no later than 12 noon (except fist two sessions which run from 9am – 12pm) \nBriefing commences from here and sailors launch no later than 09:30 / 12.30hrs. \nSailors return to shore approx. 15 / 15.15hrs. \nCost:\nCoaching Fee: €30 per sailor per day / €60 for both days \nNotes:\nSailing will start at 9:30am to 4:30pm daily.
URL:https://rsgyc.ie/event/omg-june-coaching-camp/
LOCATION:Royal St George Yacht Club\, Dun Laoghaire\, Dublin\, Dublin\, A96 AY77\, Ireland
CATEGORIES:Junior,Sailing,Training
ATTACH;FMTTYPE=image/jpeg:https://rsgyc.ie/wp-content/uploads/2016/06/yandy70102.jpg
ORGANIZER;CN="RSGYC Sailing":MAILTO:sailingmanager@rsgyc.ie
GEO:53.2943958;-6.1338666
X-APPLE-STRUCTURED-LOCATION;VALUE=URI;X-ADDRESS=Royal St George Yacht Club Dun Laoghaire Dublin Dublin A96 AY77 Ireland;X-APPLE-RADIUS=500;X-TITLE=Dun Laoghaire:geo:-6.1338666,53.2943958
END:VEVENT
BEGIN:VEVENT
DTSTART;VALUE=DATE:20160702
DTEND;VALUE=DATE:20160703
DTSTAMP:20260424T021831
CREATED:20160215T104018Z
LAST-MODIFIED:20160701T190659Z
UID:10011504-1467417600-1467503999@rsgyc.ie
SUMMARY:Frank Keane BMW George Regatta 2016
DESCRIPTION:Join us on 2nd July for our annual Regatta\, sponsored by Frank Keane BMW\n\n\nEnter Online \n\nNotice of Race 2016\nRSGYC Regatta 2016 Sailing Instructions\nAmendment 1\,2 to Schedule B\nAmendment 3\,4 to SIs\nAmendment 5 to Schedule C\nRSGYC Regatta 2016 Schedule Course A\nRSGYC Regatta 2016 Schedule Courses B and C\nAmendment 6 to Amendment 5\nRegatta Timeline\n\nAll through the Regatta\, you will enjoy live music and DJs late into the night with what promises to be a day guaranteed to please all the family! \nFeaturing:\n\n  \nAudrey Taylor Fashion Show Lunch in Association with Boodles\nJoin us during this year’s Regatta for a wonderful fashion show lunch hosted by Audrey Taylor in association with Boodles. \n  \n  \nIncluding: \n\nComplimentary Prosecco on arrival\, sponsored by Findlaters\nFashion show by Audrey Taylor Boutique and Boodles\, modelled by Sarah Morrissey and Gail Kaneswaran\, two of Ireland’s top models\nBest dressed competition with a €1000 first place prize sponsored by Boodles\nThree course sumptuous lunch\n\nOne not to miss! \n12:30pm. Costs €30 per person. \nTo book your place\, please call the Club at 01 280 1811 or email Eleanor at housemanager@rsgyc.ie \n  \n\n  \nOn Shore Entertainment\nFamily activities & games\, face painting\, live bands\, forecourt BBQ with pig on a spit\, DJ and Dancing… and much more! \n  \nPrizegiving Ceremony\n6.00pm on the Quarterdeck \n  \n  \n  \n\n  \n \nRegatta Dinner\nMembers\, invited guests\, and visiting sailors are in for a night to remember at our most popular gala dinner! 7.00pm for 7.30pm. €45. \n  \n  \n  \n  \n  \n\n  \nLive Music with ‘The Men In Black’\nThe Men in Black have been on the Irish music scene for over 10 years and will be rocking the dance floor at your Club with all of their greatest dance hits! 9pm until late! \n  \n  \n  \n  \n  \n  \n  \nFrom sailing to social\, there’s something for everybody\, so make sure you don’t miss out on this year’s event! \nDownload our full calendar of events by clicking here.
URL:https://rsgyc.ie/event/rsgyc-regatta/
LOCATION:Royal St George Yacht Club\, Dun Laoghaire\, Dublin\, Dublin\, A96 AY77\, Ireland
CATEGORIES:Junior,Sailing,Social,Training
ATTACH;FMTTYPE=image/jpeg:https://rsgyc.ie/wp-content/uploads/2016/02/Regatta-Meta-Slider.jpg
ORGANIZER;CN="RSGYC Sailing":MAILTO:sailingmanager@rsgyc.ie
GEO:53.2943958;-6.1338666
X-APPLE-STRUCTURED-LOCATION;VALUE=URI;X-ADDRESS=Royal St George Yacht Club Dun Laoghaire Dublin Dublin A96 AY77 Ireland;X-APPLE-RADIUS=500;X-TITLE=Dun Laoghaire:geo:-6.1338666,53.2943958
END:VEVENT
END:VCALENDAR