BEGIN:VCALENDAR
VERSION:2.0
PRODID:-//Royal St George Yacht Club - ECPv6.15.20//NONSGML v1.0//EN
CALSCALE:GREGORIAN
METHOD:PUBLISH
X-WR-CALNAME:Royal St George Yacht Club
X-ORIGINAL-URL:https://rsgyc.ie
X-WR-CALDESC:Events for Royal St George Yacht Club
REFRESH-INTERVAL;VALUE=DURATION:PT1H
X-Robots-Tag:noindex
X-PUBLISHED-TTL:PT1H
BEGIN:VTIMEZONE
TZID:Europe/Dublin
BEGIN:STANDARD
TZOFFSETFROM:+0000
TZOFFSETTO:+0100
TZNAME:IST
DTSTART:20260329T010000
END:STANDARD
BEGIN:DAYLIGHT
TZOFFSETFROM:+0100
TZOFFSETTO:+0000
TZNAME:GMT
DTSTART:20261025T010000
END:DAYLIGHT
BEGIN:STANDARD
TZOFFSETFROM:+0000
TZOFFSETTO:+0100
TZNAME:IST
DTSTART:20270328T010000
END:STANDARD
BEGIN:DAYLIGHT
TZOFFSETFROM:+0100
TZOFFSETTO:+0000
TZNAME:GMT
DTSTART:20271031T010000
END:DAYLIGHT
BEGIN:STANDARD
TZOFFSETFROM:+0000
TZOFFSETTO:+0100
TZNAME:IST
DTSTART:20280326T010000
END:STANDARD
BEGIN:DAYLIGHT
TZOFFSETFROM:+0100
TZOFFSETTO:+0000
TZNAME:GMT
DTSTART:20281029T010000
END:DAYLIGHT
END:VTIMEZONE
BEGIN:VEVENT
DTSTART;VALUE=DATE:20270104
DTEND;VALUE=DATE:20270105
DTSTAMP:20260419T153022
CREATED:20240809T160932Z
LAST-MODIFIED:20240809T160933Z
UID:10017316-1799020800-1799107199@rsgyc.ie
SUMMARY:Catering Options
DESCRIPTION:Please click link for Catering Options: Here
URL:https://rsgyc.ie/event/dining-2-2-7/2027-01-04/
LOCATION:Royal St George Yacht Club\, Dun Laoghaire\, Dublin\, Dublin\, A96 AY77\, Ireland
ORGANIZER;CN="RSGYC Social & Catering":MAILTO:booking@rsgyc.ie
GEO:53.2943958;-6.1338666
X-APPLE-STRUCTURED-LOCATION;VALUE=URI;X-ADDRESS=Royal St George Yacht Club Dun Laoghaire Dublin Dublin A96 AY77 Ireland;X-APPLE-RADIUS=500;X-TITLE=Dun Laoghaire:geo:-6.1338666,53.2943958
END:VEVENT
BEGIN:VEVENT
DTSTART;VALUE=DATE:20270105
DTEND;VALUE=DATE:20270106
DTSTAMP:20260419T153022
CREATED:20240809T160932Z
LAST-MODIFIED:20240809T160933Z
UID:10018319-1799107200-1799193599@rsgyc.ie
SUMMARY:Catering Options
DESCRIPTION:Please click link for Catering Options: Here
URL:https://rsgyc.ie/event/dining-2-2-7/2027-01-05/
LOCATION:Royal St George Yacht Club\, Dun Laoghaire\, Dublin\, Dublin\, A96 AY77\, Ireland
ORGANIZER;CN="RSGYC Social & Catering":MAILTO:booking@rsgyc.ie
GEO:53.2943958;-6.1338666
X-APPLE-STRUCTURED-LOCATION;VALUE=URI;X-ADDRESS=Royal St George Yacht Club Dun Laoghaire Dublin Dublin A96 AY77 Ireland;X-APPLE-RADIUS=500;X-TITLE=Dun Laoghaire:geo:-6.1338666,53.2943958
END:VEVENT
BEGIN:VEVENT
DTSTART;VALUE=DATE:20270106
DTEND;VALUE=DATE:20270107
DTSTAMP:20260419T153022
CREATED:20240809T160932Z
LAST-MODIFIED:20240809T160933Z
UID:10018320-1799193600-1799279999@rsgyc.ie
SUMMARY:Catering Options
DESCRIPTION:Please click link for Catering Options: Here
URL:https://rsgyc.ie/event/dining-2-2-7/2027-01-06/
LOCATION:Royal St George Yacht Club\, Dun Laoghaire\, Dublin\, Dublin\, A96 AY77\, Ireland
ORGANIZER;CN="RSGYC Social & Catering":MAILTO:booking@rsgyc.ie
GEO:53.2943958;-6.1338666
X-APPLE-STRUCTURED-LOCATION;VALUE=URI;X-ADDRESS=Royal St George Yacht Club Dun Laoghaire Dublin Dublin A96 AY77 Ireland;X-APPLE-RADIUS=500;X-TITLE=Dun Laoghaire:geo:-6.1338666,53.2943958
END:VEVENT
BEGIN:VEVENT
DTSTART;VALUE=DATE:20270107
DTEND;VALUE=DATE:20270108
DTSTAMP:20260419T153022
CREATED:20230914T123231Z
LAST-MODIFIED:20230914T123231Z
UID:10015748-1799280000-1799366399@rsgyc.ie
SUMMARY:Cafe + Bar
DESCRIPTION:Boardwalk Cafe open from 9.00 – 15.30 \nBar open from 12.00
URL:https://rsgyc.ie/event/cafe-bar/2027-01-07/
LOCATION:Royal St George Yacht Club\, Dun Laoghaire\, Dublin\, Dublin\, A96 AY77\, Ireland
ORGANIZER;CN="RSGYC Social & Catering":MAILTO:booking@rsgyc.ie
GEO:53.2943958;-6.1338666
X-APPLE-STRUCTURED-LOCATION;VALUE=URI;X-ADDRESS=Royal St George Yacht Club Dun Laoghaire Dublin Dublin A96 AY77 Ireland;X-APPLE-RADIUS=500;X-TITLE=Dun Laoghaire:geo:-6.1338666,53.2943958
END:VEVENT
BEGIN:VEVENT
DTSTART;VALUE=DATE:20270107
DTEND;VALUE=DATE:20270108
DTSTAMP:20260419T153022
CREATED:20240809T160932Z
LAST-MODIFIED:20240809T160933Z
UID:10018321-1799280000-1799366399@rsgyc.ie
SUMMARY:Catering Options
DESCRIPTION:Please click link for Catering Options: Here
URL:https://rsgyc.ie/event/dining-2-2-7/2027-01-07/
LOCATION:Royal St George Yacht Club\, Dun Laoghaire\, Dublin\, Dublin\, A96 AY77\, Ireland
ORGANIZER;CN="RSGYC Social & Catering":MAILTO:booking@rsgyc.ie
GEO:53.2943958;-6.1338666
X-APPLE-STRUCTURED-LOCATION;VALUE=URI;X-ADDRESS=Royal St George Yacht Club Dun Laoghaire Dublin Dublin A96 AY77 Ireland;X-APPLE-RADIUS=500;X-TITLE=Dun Laoghaire:geo:-6.1338666,53.2943958
END:VEVENT
BEGIN:VEVENT
DTSTART;VALUE=DATE:20270108
DTEND;VALUE=DATE:20270109
DTSTAMP:20260419T153022
CREATED:20230914T123758Z
LAST-MODIFIED:20230914T123758Z
UID:10016273-1799366400-1799452799@rsgyc.ie
SUMMARY:Cafe + Bar
DESCRIPTION:Boardwalk Cafe open from 9.00 – 15.30 \nBar open from 12.00
URL:https://rsgyc.ie/event/cafe-bar-2/2027-01-08/
LOCATION:Royal St George Yacht Club\, Dun Laoghaire\, Dublin\, Dublin\, A96 AY77\, Ireland
ORGANIZER;CN="RSGYC Social & Catering":MAILTO:booking@rsgyc.ie
GEO:53.2943958;-6.1338666
X-APPLE-STRUCTURED-LOCATION;VALUE=URI;X-ADDRESS=Royal St George Yacht Club Dun Laoghaire Dublin Dublin A96 AY77 Ireland;X-APPLE-RADIUS=500;X-TITLE=Dun Laoghaire:geo:-6.1338666,53.2943958
END:VEVENT
BEGIN:VEVENT
DTSTART;VALUE=DATE:20270108
DTEND;VALUE=DATE:20270109
DTSTAMP:20260419T153022
CREATED:20240809T160932Z
LAST-MODIFIED:20240809T160933Z
UID:10018322-1799366400-1799452799@rsgyc.ie
SUMMARY:Catering Options
DESCRIPTION:Please click link for Catering Options: Here
URL:https://rsgyc.ie/event/dining-2-2-7/2027-01-08/
LOCATION:Royal St George Yacht Club\, Dun Laoghaire\, Dublin\, Dublin\, A96 AY77\, Ireland
ORGANIZER;CN="RSGYC Social & Catering":MAILTO:booking@rsgyc.ie
GEO:53.2943958;-6.1338666
X-APPLE-STRUCTURED-LOCATION;VALUE=URI;X-ADDRESS=Royal St George Yacht Club Dun Laoghaire Dublin Dublin A96 AY77 Ireland;X-APPLE-RADIUS=500;X-TITLE=Dun Laoghaire:geo:-6.1338666,53.2943958
END:VEVENT
BEGIN:VEVENT
DTSTART;VALUE=DATE:20270109
DTEND;VALUE=DATE:20270110
DTSTAMP:20260419T153022
CREATED:20230914T123951Z
LAST-MODIFIED:20230914T123951Z
UID:10016534-1799452800-1799539199@rsgyc.ie
SUMMARY:Cafe + Bar
DESCRIPTION:Boardwalk Cafe open from 9.00 – 16.30 \nBar open from 12.00
URL:https://rsgyc.ie/event/cafe-bar-3/2027-01-09/
LOCATION:Royal St George Yacht Club\, Dun Laoghaire\, Dublin\, Dublin\, A96 AY77\, Ireland
ORGANIZER;CN="RSGYC Social & Catering":MAILTO:booking@rsgyc.ie
GEO:53.2943958;-6.1338666
X-APPLE-STRUCTURED-LOCATION;VALUE=URI;X-ADDRESS=Royal St George Yacht Club Dun Laoghaire Dublin Dublin A96 AY77 Ireland;X-APPLE-RADIUS=500;X-TITLE=Dun Laoghaire:geo:-6.1338666,53.2943958
END:VEVENT
BEGIN:VEVENT
DTSTART;VALUE=DATE:20270109
DTEND;VALUE=DATE:20270110
DTSTAMP:20260419T153022
CREATED:20240809T160932Z
LAST-MODIFIED:20240809T160933Z
UID:10018323-1799452800-1799539199@rsgyc.ie
SUMMARY:Catering Options
DESCRIPTION:Please click link for Catering Options: Here
URL:https://rsgyc.ie/event/dining-2-2-7/2027-01-09/
LOCATION:Royal St George Yacht Club\, Dun Laoghaire\, Dublin\, Dublin\, A96 AY77\, Ireland
ORGANIZER;CN="RSGYC Social & Catering":MAILTO:booking@rsgyc.ie
GEO:53.2943958;-6.1338666
X-APPLE-STRUCTURED-LOCATION;VALUE=URI;X-ADDRESS=Royal St George Yacht Club Dun Laoghaire Dublin Dublin A96 AY77 Ireland;X-APPLE-RADIUS=500;X-TITLE=Dun Laoghaire:geo:-6.1338666,53.2943958
END:VEVENT
BEGIN:VEVENT
DTSTART;VALUE=DATE:20270110
DTEND;VALUE=DATE:20270111
DTSTAMP:20260419T153022
CREATED:20230914T124051Z
LAST-MODIFIED:20230914T124136Z
UID:10017056-1799539200-1799625599@rsgyc.ie
SUMMARY:Cafe + Bar
DESCRIPTION:Boardwalk Cafe Open from 9.00 – 16.30 \nBar open from 12.00 – 20.00
URL:https://rsgyc.ie/event/cafe-bar-4/2027-01-10/
LOCATION:Royal St George Yacht Club\, Dun Laoghaire\, Dublin\, Dublin\, A96 AY77\, Ireland
ORGANIZER;CN="RSGYC Social & Catering":MAILTO:booking@rsgyc.ie
GEO:53.2943958;-6.1338666
X-APPLE-STRUCTURED-LOCATION;VALUE=URI;X-ADDRESS=Royal St George Yacht Club Dun Laoghaire Dublin Dublin A96 AY77 Ireland;X-APPLE-RADIUS=500;X-TITLE=Dun Laoghaire:geo:-6.1338666,53.2943958
END:VEVENT
BEGIN:VEVENT
DTSTART;VALUE=DATE:20270110
DTEND;VALUE=DATE:20270111
DTSTAMP:20260419T153022
CREATED:20240809T160932Z
LAST-MODIFIED:20240809T160933Z
UID:10018324-1799539200-1799625599@rsgyc.ie
SUMMARY:Catering Options
DESCRIPTION:Please click link for Catering Options: Here
URL:https://rsgyc.ie/event/dining-2-2-7/2027-01-10/
LOCATION:Royal St George Yacht Club\, Dun Laoghaire\, Dublin\, Dublin\, A96 AY77\, Ireland
ORGANIZER;CN="RSGYC Social & Catering":MAILTO:booking@rsgyc.ie
GEO:53.2943958;-6.1338666
X-APPLE-STRUCTURED-LOCATION;VALUE=URI;X-ADDRESS=Royal St George Yacht Club Dun Laoghaire Dublin Dublin A96 AY77 Ireland;X-APPLE-RADIUS=500;X-TITLE=Dun Laoghaire:geo:-6.1338666,53.2943958
END:VEVENT
BEGIN:VEVENT
DTSTART;VALUE=DATE:20270111
DTEND;VALUE=DATE:20270112
DTSTAMP:20260419T153022
CREATED:20240809T160932Z
LAST-MODIFIED:20240809T160933Z
UID:10017317-1799625600-1799711999@rsgyc.ie
SUMMARY:Catering Options
DESCRIPTION:Please click link for Catering Options: Here
URL:https://rsgyc.ie/event/dining-2-2-7/2027-01-11/
LOCATION:Royal St George Yacht Club\, Dun Laoghaire\, Dublin\, Dublin\, A96 AY77\, Ireland
ORGANIZER;CN="RSGYC Social & Catering":MAILTO:booking@rsgyc.ie
GEO:53.2943958;-6.1338666
X-APPLE-STRUCTURED-LOCATION;VALUE=URI;X-ADDRESS=Royal St George Yacht Club Dun Laoghaire Dublin Dublin A96 AY77 Ireland;X-APPLE-RADIUS=500;X-TITLE=Dun Laoghaire:geo:-6.1338666,53.2943958
END:VEVENT
BEGIN:VEVENT
DTSTART;VALUE=DATE:20270112
DTEND;VALUE=DATE:20270113
DTSTAMP:20260419T153022
CREATED:20240809T160932Z
LAST-MODIFIED:20240809T160933Z
UID:10018325-1799712000-1799798399@rsgyc.ie
SUMMARY:Catering Options
DESCRIPTION:Please click link for Catering Options: Here
URL:https://rsgyc.ie/event/dining-2-2-7/2027-01-12/
LOCATION:Royal St George Yacht Club\, Dun Laoghaire\, Dublin\, Dublin\, A96 AY77\, Ireland
ORGANIZER;CN="RSGYC Social & Catering":MAILTO:booking@rsgyc.ie
GEO:53.2943958;-6.1338666
X-APPLE-STRUCTURED-LOCATION;VALUE=URI;X-ADDRESS=Royal St George Yacht Club Dun Laoghaire Dublin Dublin A96 AY77 Ireland;X-APPLE-RADIUS=500;X-TITLE=Dun Laoghaire:geo:-6.1338666,53.2943958
END:VEVENT
BEGIN:VEVENT
DTSTART;VALUE=DATE:20270113
DTEND;VALUE=DATE:20270114
DTSTAMP:20260419T153022
CREATED:20240809T160932Z
LAST-MODIFIED:20240809T160933Z
UID:10018326-1799798400-1799884799@rsgyc.ie
SUMMARY:Catering Options
DESCRIPTION:Please click link for Catering Options: Here
URL:https://rsgyc.ie/event/dining-2-2-7/2027-01-13/
LOCATION:Royal St George Yacht Club\, Dun Laoghaire\, Dublin\, Dublin\, A96 AY77\, Ireland
ORGANIZER;CN="RSGYC Social & Catering":MAILTO:booking@rsgyc.ie
GEO:53.2943958;-6.1338666
X-APPLE-STRUCTURED-LOCATION;VALUE=URI;X-ADDRESS=Royal St George Yacht Club Dun Laoghaire Dublin Dublin A96 AY77 Ireland;X-APPLE-RADIUS=500;X-TITLE=Dun Laoghaire:geo:-6.1338666,53.2943958
END:VEVENT
BEGIN:VEVENT
DTSTART;VALUE=DATE:20270114
DTEND;VALUE=DATE:20270115
DTSTAMP:20260419T153022
CREATED:20230914T123231Z
LAST-MODIFIED:20230914T123231Z
UID:10015749-1799884800-1799971199@rsgyc.ie
SUMMARY:Cafe + Bar
DESCRIPTION:Boardwalk Cafe open from 9.00 – 15.30 \nBar open from 12.00
URL:https://rsgyc.ie/event/cafe-bar/2027-01-14/
LOCATION:Royal St George Yacht Club\, Dun Laoghaire\, Dublin\, Dublin\, A96 AY77\, Ireland
ORGANIZER;CN="RSGYC Social & Catering":MAILTO:booking@rsgyc.ie
GEO:53.2943958;-6.1338666
X-APPLE-STRUCTURED-LOCATION;VALUE=URI;X-ADDRESS=Royal St George Yacht Club Dun Laoghaire Dublin Dublin A96 AY77 Ireland;X-APPLE-RADIUS=500;X-TITLE=Dun Laoghaire:geo:-6.1338666,53.2943958
END:VEVENT
BEGIN:VEVENT
DTSTART;VALUE=DATE:20270114
DTEND;VALUE=DATE:20270115
DTSTAMP:20260419T153022
CREATED:20240809T160932Z
LAST-MODIFIED:20240809T160933Z
UID:10018327-1799884800-1799971199@rsgyc.ie
SUMMARY:Catering Options
DESCRIPTION:Please click link for Catering Options: Here
URL:https://rsgyc.ie/event/dining-2-2-7/2027-01-14/
LOCATION:Royal St George Yacht Club\, Dun Laoghaire\, Dublin\, Dublin\, A96 AY77\, Ireland
ORGANIZER;CN="RSGYC Social & Catering":MAILTO:booking@rsgyc.ie
GEO:53.2943958;-6.1338666
X-APPLE-STRUCTURED-LOCATION;VALUE=URI;X-ADDRESS=Royal St George Yacht Club Dun Laoghaire Dublin Dublin A96 AY77 Ireland;X-APPLE-RADIUS=500;X-TITLE=Dun Laoghaire:geo:-6.1338666,53.2943958
END:VEVENT
BEGIN:VEVENT
DTSTART;VALUE=DATE:20270115
DTEND;VALUE=DATE:20270116
DTSTAMP:20260419T153022
CREATED:20230914T123758Z
LAST-MODIFIED:20230914T123758Z
UID:10016274-1799971200-1800057599@rsgyc.ie
SUMMARY:Cafe + Bar
DESCRIPTION:Boardwalk Cafe open from 9.00 – 15.30 \nBar open from 12.00
URL:https://rsgyc.ie/event/cafe-bar-2/2027-01-15/
LOCATION:Royal St George Yacht Club\, Dun Laoghaire\, Dublin\, Dublin\, A96 AY77\, Ireland
ORGANIZER;CN="RSGYC Social & Catering":MAILTO:booking@rsgyc.ie
GEO:53.2943958;-6.1338666
X-APPLE-STRUCTURED-LOCATION;VALUE=URI;X-ADDRESS=Royal St George Yacht Club Dun Laoghaire Dublin Dublin A96 AY77 Ireland;X-APPLE-RADIUS=500;X-TITLE=Dun Laoghaire:geo:-6.1338666,53.2943958
END:VEVENT
BEGIN:VEVENT
DTSTART;VALUE=DATE:20270115
DTEND;VALUE=DATE:20270116
DTSTAMP:20260419T153022
CREATED:20240809T160932Z
LAST-MODIFIED:20240809T160933Z
UID:10018328-1799971200-1800057599@rsgyc.ie
SUMMARY:Catering Options
DESCRIPTION:Please click link for Catering Options: Here
URL:https://rsgyc.ie/event/dining-2-2-7/2027-01-15/
LOCATION:Royal St George Yacht Club\, Dun Laoghaire\, Dublin\, Dublin\, A96 AY77\, Ireland
ORGANIZER;CN="RSGYC Social & Catering":MAILTO:booking@rsgyc.ie
GEO:53.2943958;-6.1338666
X-APPLE-STRUCTURED-LOCATION;VALUE=URI;X-ADDRESS=Royal St George Yacht Club Dun Laoghaire Dublin Dublin A96 AY77 Ireland;X-APPLE-RADIUS=500;X-TITLE=Dun Laoghaire:geo:-6.1338666,53.2943958
END:VEVENT
BEGIN:VEVENT
DTSTART;VALUE=DATE:20270116
DTEND;VALUE=DATE:20270117
DTSTAMP:20260419T153022
CREATED:20230914T123951Z
LAST-MODIFIED:20230914T123951Z
UID:10016535-1800057600-1800143999@rsgyc.ie
SUMMARY:Cafe + Bar
DESCRIPTION:Boardwalk Cafe open from 9.00 – 16.30 \nBar open from 12.00
URL:https://rsgyc.ie/event/cafe-bar-3/2027-01-16/
LOCATION:Royal St George Yacht Club\, Dun Laoghaire\, Dublin\, Dublin\, A96 AY77\, Ireland
ORGANIZER;CN="RSGYC Social & Catering":MAILTO:booking@rsgyc.ie
GEO:53.2943958;-6.1338666
X-APPLE-STRUCTURED-LOCATION;VALUE=URI;X-ADDRESS=Royal St George Yacht Club Dun Laoghaire Dublin Dublin A96 AY77 Ireland;X-APPLE-RADIUS=500;X-TITLE=Dun Laoghaire:geo:-6.1338666,53.2943958
END:VEVENT
BEGIN:VEVENT
DTSTART;VALUE=DATE:20270116
DTEND;VALUE=DATE:20270117
DTSTAMP:20260419T153022
CREATED:20240809T160932Z
LAST-MODIFIED:20240809T160933Z
UID:10018329-1800057600-1800143999@rsgyc.ie
SUMMARY:Catering Options
DESCRIPTION:Please click link for Catering Options: Here
URL:https://rsgyc.ie/event/dining-2-2-7/2027-01-16/
LOCATION:Royal St George Yacht Club\, Dun Laoghaire\, Dublin\, Dublin\, A96 AY77\, Ireland
ORGANIZER;CN="RSGYC Social & Catering":MAILTO:booking@rsgyc.ie
GEO:53.2943958;-6.1338666
X-APPLE-STRUCTURED-LOCATION;VALUE=URI;X-ADDRESS=Royal St George Yacht Club Dun Laoghaire Dublin Dublin A96 AY77 Ireland;X-APPLE-RADIUS=500;X-TITLE=Dun Laoghaire:geo:-6.1338666,53.2943958
END:VEVENT
BEGIN:VEVENT
DTSTART;VALUE=DATE:20270117
DTEND;VALUE=DATE:20270118
DTSTAMP:20260419T153022
CREATED:20230914T124051Z
LAST-MODIFIED:20230914T124136Z
UID:10017057-1800144000-1800230399@rsgyc.ie
SUMMARY:Cafe + Bar
DESCRIPTION:Boardwalk Cafe Open from 9.00 – 16.30 \nBar open from 12.00 – 20.00
URL:https://rsgyc.ie/event/cafe-bar-4/2027-01-17/
LOCATION:Royal St George Yacht Club\, Dun Laoghaire\, Dublin\, Dublin\, A96 AY77\, Ireland
ORGANIZER;CN="RSGYC Social & Catering":MAILTO:booking@rsgyc.ie
GEO:53.2943958;-6.1338666
X-APPLE-STRUCTURED-LOCATION;VALUE=URI;X-ADDRESS=Royal St George Yacht Club Dun Laoghaire Dublin Dublin A96 AY77 Ireland;X-APPLE-RADIUS=500;X-TITLE=Dun Laoghaire:geo:-6.1338666,53.2943958
END:VEVENT
BEGIN:VEVENT
DTSTART;VALUE=DATE:20270117
DTEND;VALUE=DATE:20270118
DTSTAMP:20260419T153022
CREATED:20240809T160932Z
LAST-MODIFIED:20240809T160933Z
UID:10018330-1800144000-1800230399@rsgyc.ie
SUMMARY:Catering Options
DESCRIPTION:Please click link for Catering Options: Here
URL:https://rsgyc.ie/event/dining-2-2-7/2027-01-17/
LOCATION:Royal St George Yacht Club\, Dun Laoghaire\, Dublin\, Dublin\, A96 AY77\, Ireland
ORGANIZER;CN="RSGYC Social & Catering":MAILTO:booking@rsgyc.ie
GEO:53.2943958;-6.1338666
X-APPLE-STRUCTURED-LOCATION;VALUE=URI;X-ADDRESS=Royal St George Yacht Club Dun Laoghaire Dublin Dublin A96 AY77 Ireland;X-APPLE-RADIUS=500;X-TITLE=Dun Laoghaire:geo:-6.1338666,53.2943958
END:VEVENT
BEGIN:VEVENT
DTSTART;VALUE=DATE:20270118
DTEND;VALUE=DATE:20270119
DTSTAMP:20260419T153022
CREATED:20240809T160932Z
LAST-MODIFIED:20240809T160933Z
UID:10017318-1800230400-1800316799@rsgyc.ie
SUMMARY:Catering Options
DESCRIPTION:Please click link for Catering Options: Here
URL:https://rsgyc.ie/event/dining-2-2-7/2027-01-18/
LOCATION:Royal St George Yacht Club\, Dun Laoghaire\, Dublin\, Dublin\, A96 AY77\, Ireland
ORGANIZER;CN="RSGYC Social & Catering":MAILTO:booking@rsgyc.ie
GEO:53.2943958;-6.1338666
X-APPLE-STRUCTURED-LOCATION;VALUE=URI;X-ADDRESS=Royal St George Yacht Club Dun Laoghaire Dublin Dublin A96 AY77 Ireland;X-APPLE-RADIUS=500;X-TITLE=Dun Laoghaire:geo:-6.1338666,53.2943958
END:VEVENT
BEGIN:VEVENT
DTSTART;VALUE=DATE:20270119
DTEND;VALUE=DATE:20270120
DTSTAMP:20260419T153022
CREATED:20240809T160932Z
LAST-MODIFIED:20240809T160933Z
UID:10018331-1800316800-1800403199@rsgyc.ie
SUMMARY:Catering Options
DESCRIPTION:Please click link for Catering Options: Here
URL:https://rsgyc.ie/event/dining-2-2-7/2027-01-19/
LOCATION:Royal St George Yacht Club\, Dun Laoghaire\, Dublin\, Dublin\, A96 AY77\, Ireland
ORGANIZER;CN="RSGYC Social & Catering":MAILTO:booking@rsgyc.ie
GEO:53.2943958;-6.1338666
X-APPLE-STRUCTURED-LOCATION;VALUE=URI;X-ADDRESS=Royal St George Yacht Club Dun Laoghaire Dublin Dublin A96 AY77 Ireland;X-APPLE-RADIUS=500;X-TITLE=Dun Laoghaire:geo:-6.1338666,53.2943958
END:VEVENT
BEGIN:VEVENT
DTSTART;VALUE=DATE:20270120
DTEND;VALUE=DATE:20270121
DTSTAMP:20260419T153022
CREATED:20240809T160932Z
LAST-MODIFIED:20240809T160933Z
UID:10018332-1800403200-1800489599@rsgyc.ie
SUMMARY:Catering Options
DESCRIPTION:Please click link for Catering Options: Here
URL:https://rsgyc.ie/event/dining-2-2-7/2027-01-20/
LOCATION:Royal St George Yacht Club\, Dun Laoghaire\, Dublin\, Dublin\, A96 AY77\, Ireland
ORGANIZER;CN="RSGYC Social & Catering":MAILTO:booking@rsgyc.ie
GEO:53.2943958;-6.1338666
X-APPLE-STRUCTURED-LOCATION;VALUE=URI;X-ADDRESS=Royal St George Yacht Club Dun Laoghaire Dublin Dublin A96 AY77 Ireland;X-APPLE-RADIUS=500;X-TITLE=Dun Laoghaire:geo:-6.1338666,53.2943958
END:VEVENT
BEGIN:VEVENT
DTSTART;VALUE=DATE:20270121
DTEND;VALUE=DATE:20270122
DTSTAMP:20260419T153022
CREATED:20230914T123231Z
LAST-MODIFIED:20230914T123231Z
UID:10015750-1800489600-1800575999@rsgyc.ie
SUMMARY:Cafe + Bar
DESCRIPTION:Boardwalk Cafe open from 9.00 – 15.30 \nBar open from 12.00
URL:https://rsgyc.ie/event/cafe-bar/2027-01-21/
LOCATION:Royal St George Yacht Club\, Dun Laoghaire\, Dublin\, Dublin\, A96 AY77\, Ireland
ORGANIZER;CN="RSGYC Social & Catering":MAILTO:booking@rsgyc.ie
GEO:53.2943958;-6.1338666
X-APPLE-STRUCTURED-LOCATION;VALUE=URI;X-ADDRESS=Royal St George Yacht Club Dun Laoghaire Dublin Dublin A96 AY77 Ireland;X-APPLE-RADIUS=500;X-TITLE=Dun Laoghaire:geo:-6.1338666,53.2943958
END:VEVENT
BEGIN:VEVENT
DTSTART;VALUE=DATE:20270121
DTEND;VALUE=DATE:20270122
DTSTAMP:20260419T153022
CREATED:20240809T160932Z
LAST-MODIFIED:20240809T160933Z
UID:10018333-1800489600-1800575999@rsgyc.ie
SUMMARY:Catering Options
DESCRIPTION:Please click link for Catering Options: Here
URL:https://rsgyc.ie/event/dining-2-2-7/2027-01-21/
LOCATION:Royal St George Yacht Club\, Dun Laoghaire\, Dublin\, Dublin\, A96 AY77\, Ireland
ORGANIZER;CN="RSGYC Social & Catering":MAILTO:booking@rsgyc.ie
GEO:53.2943958;-6.1338666
X-APPLE-STRUCTURED-LOCATION;VALUE=URI;X-ADDRESS=Royal St George Yacht Club Dun Laoghaire Dublin Dublin A96 AY77 Ireland;X-APPLE-RADIUS=500;X-TITLE=Dun Laoghaire:geo:-6.1338666,53.2943958
END:VEVENT
BEGIN:VEVENT
DTSTART;VALUE=DATE:20270122
DTEND;VALUE=DATE:20270123
DTSTAMP:20260419T153022
CREATED:20230914T123758Z
LAST-MODIFIED:20230914T123758Z
UID:10016275-1800576000-1800662399@rsgyc.ie
SUMMARY:Cafe + Bar
DESCRIPTION:Boardwalk Cafe open from 9.00 – 15.30 \nBar open from 12.00
URL:https://rsgyc.ie/event/cafe-bar-2/2027-01-22/
LOCATION:Royal St George Yacht Club\, Dun Laoghaire\, Dublin\, Dublin\, A96 AY77\, Ireland
ORGANIZER;CN="RSGYC Social & Catering":MAILTO:booking@rsgyc.ie
GEO:53.2943958;-6.1338666
X-APPLE-STRUCTURED-LOCATION;VALUE=URI;X-ADDRESS=Royal St George Yacht Club Dun Laoghaire Dublin Dublin A96 AY77 Ireland;X-APPLE-RADIUS=500;X-TITLE=Dun Laoghaire:geo:-6.1338666,53.2943958
END:VEVENT
BEGIN:VEVENT
DTSTART;VALUE=DATE:20270122
DTEND;VALUE=DATE:20270123
DTSTAMP:20260419T153022
CREATED:20240809T160932Z
LAST-MODIFIED:20240809T160933Z
UID:10018334-1800576000-1800662399@rsgyc.ie
SUMMARY:Catering Options
DESCRIPTION:Please click link for Catering Options: Here
URL:https://rsgyc.ie/event/dining-2-2-7/2027-01-22/
LOCATION:Royal St George Yacht Club\, Dun Laoghaire\, Dublin\, Dublin\, A96 AY77\, Ireland
ORGANIZER;CN="RSGYC Social & Catering":MAILTO:booking@rsgyc.ie
GEO:53.2943958;-6.1338666
X-APPLE-STRUCTURED-LOCATION;VALUE=URI;X-ADDRESS=Royal St George Yacht Club Dun Laoghaire Dublin Dublin A96 AY77 Ireland;X-APPLE-RADIUS=500;X-TITLE=Dun Laoghaire:geo:-6.1338666,53.2943958
END:VEVENT
BEGIN:VEVENT
DTSTART;VALUE=DATE:20270123
DTEND;VALUE=DATE:20270124
DTSTAMP:20260419T153022
CREATED:20230914T123951Z
LAST-MODIFIED:20230914T123951Z
UID:10016536-1800662400-1800748799@rsgyc.ie
SUMMARY:Cafe + Bar
DESCRIPTION:Boardwalk Cafe open from 9.00 – 16.30 \nBar open from 12.00
URL:https://rsgyc.ie/event/cafe-bar-3/2027-01-23/
LOCATION:Royal St George Yacht Club\, Dun Laoghaire\, Dublin\, Dublin\, A96 AY77\, Ireland
ORGANIZER;CN="RSGYC Social & Catering":MAILTO:booking@rsgyc.ie
GEO:53.2943958;-6.1338666
X-APPLE-STRUCTURED-LOCATION;VALUE=URI;X-ADDRESS=Royal St George Yacht Club Dun Laoghaire Dublin Dublin A96 AY77 Ireland;X-APPLE-RADIUS=500;X-TITLE=Dun Laoghaire:geo:-6.1338666,53.2943958
END:VEVENT
END:VCALENDAR