BEGIN:VCALENDAR
VERSION:2.0
PRODID:-//Royal St George Yacht Club - ECPv6.15.20//NONSGML v1.0//EN
CALSCALE:GREGORIAN
METHOD:PUBLISH
X-ORIGINAL-URL:https://rsgyc.ie
X-WR-CALDESC:Events for Royal St George Yacht Club
REFRESH-INTERVAL;VALUE=DURATION:PT1H
X-Robots-Tag:noindex
X-PUBLISHED-TTL:PT1H
BEGIN:VTIMEZONE
TZID:Europe/Dublin
BEGIN:STANDARD
TZOFFSETFROM:+0000
TZOFFSETTO:+0100
TZNAME:IST
DTSTART:20260329T010000
END:STANDARD
BEGIN:DAYLIGHT
TZOFFSETFROM:+0100
TZOFFSETTO:+0000
TZNAME:GMT
DTSTART:20261025T010000
END:DAYLIGHT
BEGIN:STANDARD
TZOFFSETFROM:+0000
TZOFFSETTO:+0100
TZNAME:IST
DTSTART:20270328T010000
END:STANDARD
BEGIN:DAYLIGHT
TZOFFSETFROM:+0100
TZOFFSETTO:+0000
TZNAME:GMT
DTSTART:20271031T010000
END:DAYLIGHT
BEGIN:STANDARD
TZOFFSETFROM:+0000
TZOFFSETTO:+0100
TZNAME:IST
DTSTART:20280326T010000
END:STANDARD
BEGIN:DAYLIGHT
TZOFFSETFROM:+0100
TZOFFSETTO:+0000
TZNAME:GMT
DTSTART:20281029T010000
END:DAYLIGHT
END:VTIMEZONE
BEGIN:VEVENT
DTSTART;VALUE=DATE:20270412
DTEND;VALUE=DATE:20270413
DTSTAMP:20260422T212816
CREATED:20240809T160932Z
LAST-MODIFIED:20240809T160933Z
UID:10017330-1807488000-1807574399@rsgyc.ie
SUMMARY:Catering Options
DESCRIPTION:Please click link for Catering Options: Here
URL:https://rsgyc.ie/event/dining-2-2-7/2027-04-12/
LOCATION:Royal St George Yacht Club\, Dun Laoghaire\, Dublin\, Dublin\, A96 AY77\, Ireland
ORGANIZER;CN="RSGYC Social & Catering":MAILTO:booking@rsgyc.ie
GEO:53.2943958;-6.1338666
X-APPLE-STRUCTURED-LOCATION;VALUE=URI;X-ADDRESS=Royal St George Yacht Club Dun Laoghaire Dublin Dublin A96 AY77 Ireland;X-APPLE-RADIUS=500;X-TITLE=Dun Laoghaire:geo:-6.1338666,53.2943958
END:VEVENT
BEGIN:VEVENT
DTSTART;VALUE=DATE:20270413
DTEND;VALUE=DATE:20270414
DTSTAMP:20260422T212816
CREATED:20240809T160932Z
LAST-MODIFIED:20240809T160933Z
UID:10018403-1807574400-1807660799@rsgyc.ie
SUMMARY:Catering Options
DESCRIPTION:Please click link for Catering Options: Here
URL:https://rsgyc.ie/event/dining-2-2-7/2027-04-13/
LOCATION:Royal St George Yacht Club\, Dun Laoghaire\, Dublin\, Dublin\, A96 AY77\, Ireland
ORGANIZER;CN="RSGYC Social & Catering":MAILTO:booking@rsgyc.ie
GEO:53.2943958;-6.1338666
X-APPLE-STRUCTURED-LOCATION;VALUE=URI;X-ADDRESS=Royal St George Yacht Club Dun Laoghaire Dublin Dublin A96 AY77 Ireland;X-APPLE-RADIUS=500;X-TITLE=Dun Laoghaire:geo:-6.1338666,53.2943958
END:VEVENT
BEGIN:VEVENT
DTSTART;VALUE=DATE:20270414
DTEND;VALUE=DATE:20270415
DTSTAMP:20260422T212816
CREATED:20240809T160932Z
LAST-MODIFIED:20240809T160933Z
UID:10018404-1807660800-1807747199@rsgyc.ie
SUMMARY:Catering Options
DESCRIPTION:Please click link for Catering Options: Here
URL:https://rsgyc.ie/event/dining-2-2-7/2027-04-14/
LOCATION:Royal St George Yacht Club\, Dun Laoghaire\, Dublin\, Dublin\, A96 AY77\, Ireland
ORGANIZER;CN="RSGYC Social & Catering":MAILTO:booking@rsgyc.ie
GEO:53.2943958;-6.1338666
X-APPLE-STRUCTURED-LOCATION;VALUE=URI;X-ADDRESS=Royal St George Yacht Club Dun Laoghaire Dublin Dublin A96 AY77 Ireland;X-APPLE-RADIUS=500;X-TITLE=Dun Laoghaire:geo:-6.1338666,53.2943958
END:VEVENT
BEGIN:VEVENT
DTSTART;VALUE=DATE:20270415
DTEND;VALUE=DATE:20270416
DTSTAMP:20260422T212816
CREATED:20230914T123231Z
LAST-MODIFIED:20230914T123231Z
UID:10015762-1807747200-1807833599@rsgyc.ie
SUMMARY:Cafe + Bar
DESCRIPTION:Boardwalk Cafe open from 9.00 – 15.30 \nBar open from 12.00
URL:https://rsgyc.ie/event/cafe-bar/2027-04-15/
LOCATION:Royal St George Yacht Club\, Dun Laoghaire\, Dublin\, Dublin\, A96 AY77\, Ireland
ORGANIZER;CN="RSGYC Social & Catering":MAILTO:booking@rsgyc.ie
GEO:53.2943958;-6.1338666
X-APPLE-STRUCTURED-LOCATION;VALUE=URI;X-ADDRESS=Royal St George Yacht Club Dun Laoghaire Dublin Dublin A96 AY77 Ireland;X-APPLE-RADIUS=500;X-TITLE=Dun Laoghaire:geo:-6.1338666,53.2943958
END:VEVENT
BEGIN:VEVENT
DTSTART;VALUE=DATE:20270415
DTEND;VALUE=DATE:20270416
DTSTAMP:20260422T212816
CREATED:20240809T160932Z
LAST-MODIFIED:20240809T160933Z
UID:10018405-1807747200-1807833599@rsgyc.ie
SUMMARY:Catering Options
DESCRIPTION:Please click link for Catering Options: Here
URL:https://rsgyc.ie/event/dining-2-2-7/2027-04-15/
LOCATION:Royal St George Yacht Club\, Dun Laoghaire\, Dublin\, Dublin\, A96 AY77\, Ireland
ORGANIZER;CN="RSGYC Social & Catering":MAILTO:booking@rsgyc.ie
GEO:53.2943958;-6.1338666
X-APPLE-STRUCTURED-LOCATION;VALUE=URI;X-ADDRESS=Royal St George Yacht Club Dun Laoghaire Dublin Dublin A96 AY77 Ireland;X-APPLE-RADIUS=500;X-TITLE=Dun Laoghaire:geo:-6.1338666,53.2943958
END:VEVENT
BEGIN:VEVENT
DTSTART;VALUE=DATE:20270416
DTEND;VALUE=DATE:20270417
DTSTAMP:20260422T212816
CREATED:20230914T123758Z
LAST-MODIFIED:20230914T123758Z
UID:10016287-1807833600-1807919999@rsgyc.ie
SUMMARY:Cafe + Bar
DESCRIPTION:Boardwalk Cafe open from 9.00 – 15.30 \nBar open from 12.00
URL:https://rsgyc.ie/event/cafe-bar-2/2027-04-16/
LOCATION:Royal St George Yacht Club\, Dun Laoghaire\, Dublin\, Dublin\, A96 AY77\, Ireland
ORGANIZER;CN="RSGYC Social & Catering":MAILTO:booking@rsgyc.ie
GEO:53.2943958;-6.1338666
X-APPLE-STRUCTURED-LOCATION;VALUE=URI;X-ADDRESS=Royal St George Yacht Club Dun Laoghaire Dublin Dublin A96 AY77 Ireland;X-APPLE-RADIUS=500;X-TITLE=Dun Laoghaire:geo:-6.1338666,53.2943958
END:VEVENT
BEGIN:VEVENT
DTSTART;VALUE=DATE:20270416
DTEND;VALUE=DATE:20270417
DTSTAMP:20260422T212816
CREATED:20240809T160932Z
LAST-MODIFIED:20240809T160933Z
UID:10018406-1807833600-1807919999@rsgyc.ie
SUMMARY:Catering Options
DESCRIPTION:Please click link for Catering Options: Here
URL:https://rsgyc.ie/event/dining-2-2-7/2027-04-16/
LOCATION:Royal St George Yacht Club\, Dun Laoghaire\, Dublin\, Dublin\, A96 AY77\, Ireland
ORGANIZER;CN="RSGYC Social & Catering":MAILTO:booking@rsgyc.ie
GEO:53.2943958;-6.1338666
X-APPLE-STRUCTURED-LOCATION;VALUE=URI;X-ADDRESS=Royal St George Yacht Club Dun Laoghaire Dublin Dublin A96 AY77 Ireland;X-APPLE-RADIUS=500;X-TITLE=Dun Laoghaire:geo:-6.1338666,53.2943958
END:VEVENT
BEGIN:VEVENT
DTSTART;VALUE=DATE:20270417
DTEND;VALUE=DATE:20270418
DTSTAMP:20260422T212816
CREATED:20230914T123951Z
LAST-MODIFIED:20230914T123951Z
UID:10016548-1807920000-1808006399@rsgyc.ie
SUMMARY:Cafe + Bar
DESCRIPTION:Boardwalk Cafe open from 9.00 – 16.30 \nBar open from 12.00
URL:https://rsgyc.ie/event/cafe-bar-3/2027-04-17/
LOCATION:Royal St George Yacht Club\, Dun Laoghaire\, Dublin\, Dublin\, A96 AY77\, Ireland
ORGANIZER;CN="RSGYC Social & Catering":MAILTO:booking@rsgyc.ie
GEO:53.2943958;-6.1338666
X-APPLE-STRUCTURED-LOCATION;VALUE=URI;X-ADDRESS=Royal St George Yacht Club Dun Laoghaire Dublin Dublin A96 AY77 Ireland;X-APPLE-RADIUS=500;X-TITLE=Dun Laoghaire:geo:-6.1338666,53.2943958
END:VEVENT
BEGIN:VEVENT
DTSTART;VALUE=DATE:20270417
DTEND;VALUE=DATE:20270418
DTSTAMP:20260422T212816
CREATED:20240809T160932Z
LAST-MODIFIED:20240809T160933Z
UID:10018407-1807920000-1808006399@rsgyc.ie
SUMMARY:Catering Options
DESCRIPTION:Please click link for Catering Options: Here
URL:https://rsgyc.ie/event/dining-2-2-7/2027-04-17/
LOCATION:Royal St George Yacht Club\, Dun Laoghaire\, Dublin\, Dublin\, A96 AY77\, Ireland
ORGANIZER;CN="RSGYC Social & Catering":MAILTO:booking@rsgyc.ie
GEO:53.2943958;-6.1338666
X-APPLE-STRUCTURED-LOCATION;VALUE=URI;X-ADDRESS=Royal St George Yacht Club Dun Laoghaire Dublin Dublin A96 AY77 Ireland;X-APPLE-RADIUS=500;X-TITLE=Dun Laoghaire:geo:-6.1338666,53.2943958
END:VEVENT
BEGIN:VEVENT
DTSTART;VALUE=DATE:20270418
DTEND;VALUE=DATE:20270419
DTSTAMP:20260422T212816
CREATED:20230914T124051Z
LAST-MODIFIED:20230914T124136Z
UID:10017070-1808006400-1808092799@rsgyc.ie
SUMMARY:Cafe + Bar
DESCRIPTION:Boardwalk Cafe Open from 9.00 – 16.30 \nBar open from 12.00 – 20.00
URL:https://rsgyc.ie/event/cafe-bar-4/2027-04-18/
LOCATION:Royal St George Yacht Club\, Dun Laoghaire\, Dublin\, Dublin\, A96 AY77\, Ireland
ORGANIZER;CN="RSGYC Social & Catering":MAILTO:booking@rsgyc.ie
GEO:53.2943958;-6.1338666
X-APPLE-STRUCTURED-LOCATION;VALUE=URI;X-ADDRESS=Royal St George Yacht Club Dun Laoghaire Dublin Dublin A96 AY77 Ireland;X-APPLE-RADIUS=500;X-TITLE=Dun Laoghaire:geo:-6.1338666,53.2943958
END:VEVENT
BEGIN:VEVENT
DTSTART;VALUE=DATE:20270418
DTEND;VALUE=DATE:20270419
DTSTAMP:20260422T212816
CREATED:20240809T160932Z
LAST-MODIFIED:20240809T160933Z
UID:10018408-1808006400-1808092799@rsgyc.ie
SUMMARY:Catering Options
DESCRIPTION:Please click link for Catering Options: Here
URL:https://rsgyc.ie/event/dining-2-2-7/2027-04-18/
LOCATION:Royal St George Yacht Club\, Dun Laoghaire\, Dublin\, Dublin\, A96 AY77\, Ireland
ORGANIZER;CN="RSGYC Social & Catering":MAILTO:booking@rsgyc.ie
GEO:53.2943958;-6.1338666
X-APPLE-STRUCTURED-LOCATION;VALUE=URI;X-ADDRESS=Royal St George Yacht Club Dun Laoghaire Dublin Dublin A96 AY77 Ireland;X-APPLE-RADIUS=500;X-TITLE=Dun Laoghaire:geo:-6.1338666,53.2943958
END:VEVENT
BEGIN:VEVENT
DTSTART;VALUE=DATE:20270419
DTEND;VALUE=DATE:20270420
DTSTAMP:20260422T212816
CREATED:20240809T160932Z
LAST-MODIFIED:20240809T160933Z
UID:10017331-1808092800-1808179199@rsgyc.ie
SUMMARY:Catering Options
DESCRIPTION:Please click link for Catering Options: Here
URL:https://rsgyc.ie/event/dining-2-2-7/2027-04-19/
LOCATION:Royal St George Yacht Club\, Dun Laoghaire\, Dublin\, Dublin\, A96 AY77\, Ireland
ORGANIZER;CN="RSGYC Social & Catering":MAILTO:booking@rsgyc.ie
GEO:53.2943958;-6.1338666
X-APPLE-STRUCTURED-LOCATION;VALUE=URI;X-ADDRESS=Royal St George Yacht Club Dun Laoghaire Dublin Dublin A96 AY77 Ireland;X-APPLE-RADIUS=500;X-TITLE=Dun Laoghaire:geo:-6.1338666,53.2943958
END:VEVENT
BEGIN:VEVENT
DTSTART;VALUE=DATE:20270420
DTEND;VALUE=DATE:20270421
DTSTAMP:20260422T212816
CREATED:20240809T160932Z
LAST-MODIFIED:20240809T160933Z
UID:10018409-1808179200-1808265599@rsgyc.ie
SUMMARY:Catering Options
DESCRIPTION:Please click link for Catering Options: Here
URL:https://rsgyc.ie/event/dining-2-2-7/2027-04-20/
LOCATION:Royal St George Yacht Club\, Dun Laoghaire\, Dublin\, Dublin\, A96 AY77\, Ireland
ORGANIZER;CN="RSGYC Social & Catering":MAILTO:booking@rsgyc.ie
GEO:53.2943958;-6.1338666
X-APPLE-STRUCTURED-LOCATION;VALUE=URI;X-ADDRESS=Royal St George Yacht Club Dun Laoghaire Dublin Dublin A96 AY77 Ireland;X-APPLE-RADIUS=500;X-TITLE=Dun Laoghaire:geo:-6.1338666,53.2943958
END:VEVENT
BEGIN:VEVENT
DTSTART;VALUE=DATE:20270421
DTEND;VALUE=DATE:20270422
DTSTAMP:20260422T212816
CREATED:20240809T160932Z
LAST-MODIFIED:20240809T160933Z
UID:10018410-1808265600-1808351999@rsgyc.ie
SUMMARY:Catering Options
DESCRIPTION:Please click link for Catering Options: Here
URL:https://rsgyc.ie/event/dining-2-2-7/2027-04-21/
LOCATION:Royal St George Yacht Club\, Dun Laoghaire\, Dublin\, Dublin\, A96 AY77\, Ireland
ORGANIZER;CN="RSGYC Social & Catering":MAILTO:booking@rsgyc.ie
GEO:53.2943958;-6.1338666
X-APPLE-STRUCTURED-LOCATION;VALUE=URI;X-ADDRESS=Royal St George Yacht Club Dun Laoghaire Dublin Dublin A96 AY77 Ireland;X-APPLE-RADIUS=500;X-TITLE=Dun Laoghaire:geo:-6.1338666,53.2943958
END:VEVENT
BEGIN:VEVENT
DTSTART;VALUE=DATE:20270422
DTEND;VALUE=DATE:20270423
DTSTAMP:20260422T212816
CREATED:20230914T123231Z
LAST-MODIFIED:20230914T123231Z
UID:10015763-1808352000-1808438399@rsgyc.ie
SUMMARY:Cafe + Bar
DESCRIPTION:Boardwalk Cafe open from 9.00 – 15.30 \nBar open from 12.00
URL:https://rsgyc.ie/event/cafe-bar/2027-04-22/
LOCATION:Royal St George Yacht Club\, Dun Laoghaire\, Dublin\, Dublin\, A96 AY77\, Ireland
ORGANIZER;CN="RSGYC Social & Catering":MAILTO:booking@rsgyc.ie
GEO:53.2943958;-6.1338666
X-APPLE-STRUCTURED-LOCATION;VALUE=URI;X-ADDRESS=Royal St George Yacht Club Dun Laoghaire Dublin Dublin A96 AY77 Ireland;X-APPLE-RADIUS=500;X-TITLE=Dun Laoghaire:geo:-6.1338666,53.2943958
END:VEVENT
BEGIN:VEVENT
DTSTART;VALUE=DATE:20270422
DTEND;VALUE=DATE:20270423
DTSTAMP:20260422T212816
CREATED:20240809T160932Z
LAST-MODIFIED:20240809T160933Z
UID:10018411-1808352000-1808438399@rsgyc.ie
SUMMARY:Catering Options
DESCRIPTION:Please click link for Catering Options: Here
URL:https://rsgyc.ie/event/dining-2-2-7/2027-04-22/
LOCATION:Royal St George Yacht Club\, Dun Laoghaire\, Dublin\, Dublin\, A96 AY77\, Ireland
ORGANIZER;CN="RSGYC Social & Catering":MAILTO:booking@rsgyc.ie
GEO:53.2943958;-6.1338666
X-APPLE-STRUCTURED-LOCATION;VALUE=URI;X-ADDRESS=Royal St George Yacht Club Dun Laoghaire Dublin Dublin A96 AY77 Ireland;X-APPLE-RADIUS=500;X-TITLE=Dun Laoghaire:geo:-6.1338666,53.2943958
END:VEVENT
BEGIN:VEVENT
DTSTART;VALUE=DATE:20270423
DTEND;VALUE=DATE:20270424
DTSTAMP:20260422T212816
CREATED:20230914T123758Z
LAST-MODIFIED:20230914T123758Z
UID:10016288-1808438400-1808524799@rsgyc.ie
SUMMARY:Cafe + Bar
DESCRIPTION:Boardwalk Cafe open from 9.00 – 15.30 \nBar open from 12.00
URL:https://rsgyc.ie/event/cafe-bar-2/2027-04-23/
LOCATION:Royal St George Yacht Club\, Dun Laoghaire\, Dublin\, Dublin\, A96 AY77\, Ireland
ORGANIZER;CN="RSGYC Social & Catering":MAILTO:booking@rsgyc.ie
GEO:53.2943958;-6.1338666
X-APPLE-STRUCTURED-LOCATION;VALUE=URI;X-ADDRESS=Royal St George Yacht Club Dun Laoghaire Dublin Dublin A96 AY77 Ireland;X-APPLE-RADIUS=500;X-TITLE=Dun Laoghaire:geo:-6.1338666,53.2943958
END:VEVENT
BEGIN:VEVENT
DTSTART;VALUE=DATE:20270423
DTEND;VALUE=DATE:20270424
DTSTAMP:20260422T212817
CREATED:20240809T160932Z
LAST-MODIFIED:20240809T160933Z
UID:10018412-1808438400-1808524799@rsgyc.ie
SUMMARY:Catering Options
DESCRIPTION:Please click link for Catering Options: Here
URL:https://rsgyc.ie/event/dining-2-2-7/2027-04-23/
LOCATION:Royal St George Yacht Club\, Dun Laoghaire\, Dublin\, Dublin\, A96 AY77\, Ireland
ORGANIZER;CN="RSGYC Social & Catering":MAILTO:booking@rsgyc.ie
GEO:53.2943958;-6.1338666
X-APPLE-STRUCTURED-LOCATION;VALUE=URI;X-ADDRESS=Royal St George Yacht Club Dun Laoghaire Dublin Dublin A96 AY77 Ireland;X-APPLE-RADIUS=500;X-TITLE=Dun Laoghaire:geo:-6.1338666,53.2943958
END:VEVENT
BEGIN:VEVENT
DTSTART;VALUE=DATE:20270424
DTEND;VALUE=DATE:20270425
DTSTAMP:20260422T212817
CREATED:20230914T123951Z
LAST-MODIFIED:20230914T123951Z
UID:10016549-1808524800-1808611199@rsgyc.ie
SUMMARY:Cafe + Bar
DESCRIPTION:Boardwalk Cafe open from 9.00 – 16.30 \nBar open from 12.00
URL:https://rsgyc.ie/event/cafe-bar-3/2027-04-24/
LOCATION:Royal St George Yacht Club\, Dun Laoghaire\, Dublin\, Dublin\, A96 AY77\, Ireland
ORGANIZER;CN="RSGYC Social & Catering":MAILTO:booking@rsgyc.ie
GEO:53.2943958;-6.1338666
X-APPLE-STRUCTURED-LOCATION;VALUE=URI;X-ADDRESS=Royal St George Yacht Club Dun Laoghaire Dublin Dublin A96 AY77 Ireland;X-APPLE-RADIUS=500;X-TITLE=Dun Laoghaire:geo:-6.1338666,53.2943958
END:VEVENT
BEGIN:VEVENT
DTSTART;VALUE=DATE:20270424
DTEND;VALUE=DATE:20270425
DTSTAMP:20260422T212817
CREATED:20240809T160932Z
LAST-MODIFIED:20240809T160933Z
UID:10018413-1808524800-1808611199@rsgyc.ie
SUMMARY:Catering Options
DESCRIPTION:Please click link for Catering Options: Here
URL:https://rsgyc.ie/event/dining-2-2-7/2027-04-24/
LOCATION:Royal St George Yacht Club\, Dun Laoghaire\, Dublin\, Dublin\, A96 AY77\, Ireland
ORGANIZER;CN="RSGYC Social & Catering":MAILTO:booking@rsgyc.ie
GEO:53.2943958;-6.1338666
X-APPLE-STRUCTURED-LOCATION;VALUE=URI;X-ADDRESS=Royal St George Yacht Club Dun Laoghaire Dublin Dublin A96 AY77 Ireland;X-APPLE-RADIUS=500;X-TITLE=Dun Laoghaire:geo:-6.1338666,53.2943958
END:VEVENT
BEGIN:VEVENT
DTSTART;VALUE=DATE:20270425
DTEND;VALUE=DATE:20270426
DTSTAMP:20260422T212817
CREATED:20230914T124051Z
LAST-MODIFIED:20230914T124136Z
UID:10017071-1808611200-1808697599@rsgyc.ie
SUMMARY:Cafe + Bar
DESCRIPTION:Boardwalk Cafe Open from 9.00 – 16.30 \nBar open from 12.00 – 20.00
URL:https://rsgyc.ie/event/cafe-bar-4/2027-04-25/
LOCATION:Royal St George Yacht Club\, Dun Laoghaire\, Dublin\, Dublin\, A96 AY77\, Ireland
ORGANIZER;CN="RSGYC Social & Catering":MAILTO:booking@rsgyc.ie
GEO:53.2943958;-6.1338666
X-APPLE-STRUCTURED-LOCATION;VALUE=URI;X-ADDRESS=Royal St George Yacht Club Dun Laoghaire Dublin Dublin A96 AY77 Ireland;X-APPLE-RADIUS=500;X-TITLE=Dun Laoghaire:geo:-6.1338666,53.2943958
END:VEVENT
BEGIN:VEVENT
DTSTART;VALUE=DATE:20270425
DTEND;VALUE=DATE:20270426
DTSTAMP:20260422T212817
CREATED:20240809T160932Z
LAST-MODIFIED:20240809T160933Z
UID:10018414-1808611200-1808697599@rsgyc.ie
SUMMARY:Catering Options
DESCRIPTION:Please click link for Catering Options: Here
URL:https://rsgyc.ie/event/dining-2-2-7/2027-04-25/
LOCATION:Royal St George Yacht Club\, Dun Laoghaire\, Dublin\, Dublin\, A96 AY77\, Ireland
ORGANIZER;CN="RSGYC Social & Catering":MAILTO:booking@rsgyc.ie
GEO:53.2943958;-6.1338666
X-APPLE-STRUCTURED-LOCATION;VALUE=URI;X-ADDRESS=Royal St George Yacht Club Dun Laoghaire Dublin Dublin A96 AY77 Ireland;X-APPLE-RADIUS=500;X-TITLE=Dun Laoghaire:geo:-6.1338666,53.2943958
END:VEVENT
BEGIN:VEVENT
DTSTART;VALUE=DATE:20270426
DTEND;VALUE=DATE:20270427
DTSTAMP:20260422T212817
CREATED:20240809T160932Z
LAST-MODIFIED:20240809T160933Z
UID:10017332-1808697600-1808783999@rsgyc.ie
SUMMARY:Catering Options
DESCRIPTION:Please click link for Catering Options: Here
URL:https://rsgyc.ie/event/dining-2-2-7/2027-04-26/
LOCATION:Royal St George Yacht Club\, Dun Laoghaire\, Dublin\, Dublin\, A96 AY77\, Ireland
ORGANIZER;CN="RSGYC Social & Catering":MAILTO:booking@rsgyc.ie
GEO:53.2943958;-6.1338666
X-APPLE-STRUCTURED-LOCATION;VALUE=URI;X-ADDRESS=Royal St George Yacht Club Dun Laoghaire Dublin Dublin A96 AY77 Ireland;X-APPLE-RADIUS=500;X-TITLE=Dun Laoghaire:geo:-6.1338666,53.2943958
END:VEVENT
BEGIN:VEVENT
DTSTART;VALUE=DATE:20270427
DTEND;VALUE=DATE:20270428
DTSTAMP:20260422T212817
CREATED:20240809T160932Z
LAST-MODIFIED:20240809T160933Z
UID:10018415-1808784000-1808870399@rsgyc.ie
SUMMARY:Catering Options
DESCRIPTION:Please click link for Catering Options: Here
URL:https://rsgyc.ie/event/dining-2-2-7/2027-04-27/
LOCATION:Royal St George Yacht Club\, Dun Laoghaire\, Dublin\, Dublin\, A96 AY77\, Ireland
ORGANIZER;CN="RSGYC Social & Catering":MAILTO:booking@rsgyc.ie
GEO:53.2943958;-6.1338666
X-APPLE-STRUCTURED-LOCATION;VALUE=URI;X-ADDRESS=Royal St George Yacht Club Dun Laoghaire Dublin Dublin A96 AY77 Ireland;X-APPLE-RADIUS=500;X-TITLE=Dun Laoghaire:geo:-6.1338666,53.2943958
END:VEVENT
BEGIN:VEVENT
DTSTART;VALUE=DATE:20270428
DTEND;VALUE=DATE:20270429
DTSTAMP:20260422T212817
CREATED:20240809T160932Z
LAST-MODIFIED:20240809T160933Z
UID:10018416-1808870400-1808956799@rsgyc.ie
SUMMARY:Catering Options
DESCRIPTION:Please click link for Catering Options: Here
URL:https://rsgyc.ie/event/dining-2-2-7/2027-04-28/
LOCATION:Royal St George Yacht Club\, Dun Laoghaire\, Dublin\, Dublin\, A96 AY77\, Ireland
ORGANIZER;CN="RSGYC Social & Catering":MAILTO:booking@rsgyc.ie
GEO:53.2943958;-6.1338666
X-APPLE-STRUCTURED-LOCATION;VALUE=URI;X-ADDRESS=Royal St George Yacht Club Dun Laoghaire Dublin Dublin A96 AY77 Ireland;X-APPLE-RADIUS=500;X-TITLE=Dun Laoghaire:geo:-6.1338666,53.2943958
END:VEVENT
BEGIN:VEVENT
DTSTART;VALUE=DATE:20270429
DTEND;VALUE=DATE:20270430
DTSTAMP:20260422T212817
CREATED:20230914T123231Z
LAST-MODIFIED:20230914T123231Z
UID:10015764-1808956800-1809043199@rsgyc.ie
SUMMARY:Cafe + Bar
DESCRIPTION:Boardwalk Cafe open from 9.00 – 15.30 \nBar open from 12.00
URL:https://rsgyc.ie/event/cafe-bar/2027-04-29/
LOCATION:Royal St George Yacht Club\, Dun Laoghaire\, Dublin\, Dublin\, A96 AY77\, Ireland
ORGANIZER;CN="RSGYC Social & Catering":MAILTO:booking@rsgyc.ie
GEO:53.2943958;-6.1338666
X-APPLE-STRUCTURED-LOCATION;VALUE=URI;X-ADDRESS=Royal St George Yacht Club Dun Laoghaire Dublin Dublin A96 AY77 Ireland;X-APPLE-RADIUS=500;X-TITLE=Dun Laoghaire:geo:-6.1338666,53.2943958
END:VEVENT
BEGIN:VEVENT
DTSTART;VALUE=DATE:20270429
DTEND;VALUE=DATE:20270430
DTSTAMP:20260422T212817
CREATED:20240809T160932Z
LAST-MODIFIED:20240809T160933Z
UID:10018417-1808956800-1809043199@rsgyc.ie
SUMMARY:Catering Options
DESCRIPTION:Please click link for Catering Options: Here
URL:https://rsgyc.ie/event/dining-2-2-7/2027-04-29/
LOCATION:Royal St George Yacht Club\, Dun Laoghaire\, Dublin\, Dublin\, A96 AY77\, Ireland
ORGANIZER;CN="RSGYC Social & Catering":MAILTO:booking@rsgyc.ie
GEO:53.2943958;-6.1338666
X-APPLE-STRUCTURED-LOCATION;VALUE=URI;X-ADDRESS=Royal St George Yacht Club Dun Laoghaire Dublin Dublin A96 AY77 Ireland;X-APPLE-RADIUS=500;X-TITLE=Dun Laoghaire:geo:-6.1338666,53.2943958
END:VEVENT
BEGIN:VEVENT
DTSTART;VALUE=DATE:20270430
DTEND;VALUE=DATE:20270501
DTSTAMP:20260422T212817
CREATED:20230914T123758Z
LAST-MODIFIED:20230914T123758Z
UID:10016289-1809043200-1809129599@rsgyc.ie
SUMMARY:Cafe + Bar
DESCRIPTION:Boardwalk Cafe open from 9.00 – 15.30 \nBar open from 12.00
URL:https://rsgyc.ie/event/cafe-bar-2/2027-04-30/
LOCATION:Royal St George Yacht Club\, Dun Laoghaire\, Dublin\, Dublin\, A96 AY77\, Ireland
ORGANIZER;CN="RSGYC Social & Catering":MAILTO:booking@rsgyc.ie
GEO:53.2943958;-6.1338666
X-APPLE-STRUCTURED-LOCATION;VALUE=URI;X-ADDRESS=Royal St George Yacht Club Dun Laoghaire Dublin Dublin A96 AY77 Ireland;X-APPLE-RADIUS=500;X-TITLE=Dun Laoghaire:geo:-6.1338666,53.2943958
END:VEVENT
BEGIN:VEVENT
DTSTART;VALUE=DATE:20270430
DTEND;VALUE=DATE:20270501
DTSTAMP:20260422T212817
CREATED:20240809T160932Z
LAST-MODIFIED:20240809T160933Z
UID:10018418-1809043200-1809129599@rsgyc.ie
SUMMARY:Catering Options
DESCRIPTION:Please click link for Catering Options: Here
URL:https://rsgyc.ie/event/dining-2-2-7/2027-04-30/
LOCATION:Royal St George Yacht Club\, Dun Laoghaire\, Dublin\, Dublin\, A96 AY77\, Ireland
ORGANIZER;CN="RSGYC Social & Catering":MAILTO:booking@rsgyc.ie
GEO:53.2943958;-6.1338666
X-APPLE-STRUCTURED-LOCATION;VALUE=URI;X-ADDRESS=Royal St George Yacht Club Dun Laoghaire Dublin Dublin A96 AY77 Ireland;X-APPLE-RADIUS=500;X-TITLE=Dun Laoghaire:geo:-6.1338666,53.2943958
END:VEVENT
BEGIN:VEVENT
DTSTART;VALUE=DATE:20270501
DTEND;VALUE=DATE:20270502
DTSTAMP:20260422T212817
CREATED:20230914T123951Z
LAST-MODIFIED:20230914T123951Z
UID:10016550-1809129600-1809215999@rsgyc.ie
SUMMARY:Cafe + Bar
DESCRIPTION:Boardwalk Cafe open from 9.00 – 16.30 \nBar open from 12.00
URL:https://rsgyc.ie/event/cafe-bar-3/2027-05-01/
LOCATION:Royal St George Yacht Club\, Dun Laoghaire\, Dublin\, Dublin\, A96 AY77\, Ireland
ORGANIZER;CN="RSGYC Social & Catering":MAILTO:booking@rsgyc.ie
GEO:53.2943958;-6.1338666
X-APPLE-STRUCTURED-LOCATION;VALUE=URI;X-ADDRESS=Royal St George Yacht Club Dun Laoghaire Dublin Dublin A96 AY77 Ireland;X-APPLE-RADIUS=500;X-TITLE=Dun Laoghaire:geo:-6.1338666,53.2943958
END:VEVENT
END:VCALENDAR