BEGIN:VCALENDAR
VERSION:2.0
PRODID:-//Royal St George Yacht Club - ECPv6.15.20//NONSGML v1.0//EN
CALSCALE:GREGORIAN
METHOD:PUBLISH
X-ORIGINAL-URL:https://rsgyc.ie
X-WR-CALDESC:Events for Royal St George Yacht Club
REFRESH-INTERVAL;VALUE=DURATION:PT1H
X-Robots-Tag:noindex
X-PUBLISHED-TTL:PT1H
BEGIN:VTIMEZONE
TZID:Europe/Dublin
BEGIN:STANDARD
TZOFFSETFROM:+0000
TZOFFSETTO:+0100
TZNAME:IST
DTSTART:20270328T010000
END:STANDARD
BEGIN:DAYLIGHT
TZOFFSETFROM:+0100
TZOFFSETTO:+0000
TZNAME:GMT
DTSTART:20271031T010000
END:DAYLIGHT
BEGIN:STANDARD
TZOFFSETFROM:+0000
TZOFFSETTO:+0100
TZNAME:IST
DTSTART:20280326T010000
END:STANDARD
BEGIN:DAYLIGHT
TZOFFSETFROM:+0100
TZOFFSETTO:+0000
TZNAME:GMT
DTSTART:20281029T010000
END:DAYLIGHT
BEGIN:STANDARD
TZOFFSETFROM:+0000
TZOFFSETTO:+0100
TZNAME:IST
DTSTART:20290325T010000
END:STANDARD
BEGIN:DAYLIGHT
TZOFFSETFROM:+0100
TZOFFSETTO:+0000
TZNAME:GMT
DTSTART:20291028T010000
END:DAYLIGHT
END:VTIMEZONE
BEGIN:VEVENT
DTSTART;VALUE=DATE:20280514
DTEND;VALUE=DATE:20280515
DTSTAMP:20260425T194207
CREATED:20230914T124051Z
LAST-MODIFIED:20230914T124136Z
UID:10017126-1841875200-1841961599@rsgyc.ie
SUMMARY:Cafe + Bar
DESCRIPTION:Boardwalk Cafe Open from 9.00 – 16.30 \nBar open from 12.00 – 20.00
URL:https://rsgyc.ie/event/cafe-bar-4/2028-05-14/
LOCATION:Royal St George Yacht Club\, Dun Laoghaire\, Dublin\, Dublin\, A96 AY77\, Ireland
ORGANIZER;CN="RSGYC Social & Catering":MAILTO:booking@rsgyc.ie
GEO:53.2943958;-6.1338666
X-APPLE-STRUCTURED-LOCATION;VALUE=URI;X-ADDRESS=Royal St George Yacht Club Dun Laoghaire Dublin Dublin A96 AY77 Ireland;X-APPLE-RADIUS=500;X-TITLE=Dun Laoghaire:geo:-6.1338666,53.2943958
END:VEVENT
BEGIN:VEVENT
DTSTART;VALUE=DATE:20280514
DTEND;VALUE=DATE:20280515
DTSTAMP:20260425T194207
CREATED:20240809T160932Z
LAST-MODIFIED:20240809T160933Z
UID:10018744-1841875200-1841961599@rsgyc.ie
SUMMARY:Catering Options
DESCRIPTION:Please click link for Catering Options: Here
URL:https://rsgyc.ie/event/dining-2-2-7/2028-05-14/
LOCATION:Royal St George Yacht Club\, Dun Laoghaire\, Dublin\, Dublin\, A96 AY77\, Ireland
ORGANIZER;CN="RSGYC Social & Catering":MAILTO:booking@rsgyc.ie
GEO:53.2943958;-6.1338666
X-APPLE-STRUCTURED-LOCATION;VALUE=URI;X-ADDRESS=Royal St George Yacht Club Dun Laoghaire Dublin Dublin A96 AY77 Ireland;X-APPLE-RADIUS=500;X-TITLE=Dun Laoghaire:geo:-6.1338666,53.2943958
END:VEVENT
BEGIN:VEVENT
DTSTART;VALUE=DATE:20280515
DTEND;VALUE=DATE:20280516
DTSTAMP:20260425T194207
CREATED:20240809T160932Z
LAST-MODIFIED:20240809T160933Z
UID:10017387-1841961600-1842047999@rsgyc.ie
SUMMARY:Catering Options
DESCRIPTION:Please click link for Catering Options: Here
URL:https://rsgyc.ie/event/dining-2-2-7/2028-05-15/
LOCATION:Royal St George Yacht Club\, Dun Laoghaire\, Dublin\, Dublin\, A96 AY77\, Ireland
ORGANIZER;CN="RSGYC Social & Catering":MAILTO:booking@rsgyc.ie
GEO:53.2943958;-6.1338666
X-APPLE-STRUCTURED-LOCATION;VALUE=URI;X-ADDRESS=Royal St George Yacht Club Dun Laoghaire Dublin Dublin A96 AY77 Ireland;X-APPLE-RADIUS=500;X-TITLE=Dun Laoghaire:geo:-6.1338666,53.2943958
END:VEVENT
BEGIN:VEVENT
DTSTART;VALUE=DATE:20280516
DTEND;VALUE=DATE:20280517
DTSTAMP:20260425T194207
CREATED:20240809T160932Z
LAST-MODIFIED:20240809T160933Z
UID:10018745-1842048000-1842134399@rsgyc.ie
SUMMARY:Catering Options
DESCRIPTION:Please click link for Catering Options: Here
URL:https://rsgyc.ie/event/dining-2-2-7/2028-05-16/
LOCATION:Royal St George Yacht Club\, Dun Laoghaire\, Dublin\, Dublin\, A96 AY77\, Ireland
ORGANIZER;CN="RSGYC Social & Catering":MAILTO:booking@rsgyc.ie
GEO:53.2943958;-6.1338666
X-APPLE-STRUCTURED-LOCATION;VALUE=URI;X-ADDRESS=Royal St George Yacht Club Dun Laoghaire Dublin Dublin A96 AY77 Ireland;X-APPLE-RADIUS=500;X-TITLE=Dun Laoghaire:geo:-6.1338666,53.2943958
END:VEVENT
BEGIN:VEVENT
DTSTART;VALUE=DATE:20280517
DTEND;VALUE=DATE:20280518
DTSTAMP:20260425T194207
CREATED:20240809T160932Z
LAST-MODIFIED:20240809T160933Z
UID:10018746-1842134400-1842220799@rsgyc.ie
SUMMARY:Catering Options
DESCRIPTION:Please click link for Catering Options: Here
URL:https://rsgyc.ie/event/dining-2-2-7/2028-05-17/
LOCATION:Royal St George Yacht Club\, Dun Laoghaire\, Dublin\, Dublin\, A96 AY77\, Ireland
ORGANIZER;CN="RSGYC Social & Catering":MAILTO:booking@rsgyc.ie
GEO:53.2943958;-6.1338666
X-APPLE-STRUCTURED-LOCATION;VALUE=URI;X-ADDRESS=Royal St George Yacht Club Dun Laoghaire Dublin Dublin A96 AY77 Ireland;X-APPLE-RADIUS=500;X-TITLE=Dun Laoghaire:geo:-6.1338666,53.2943958
END:VEVENT
BEGIN:VEVENT
DTSTART;VALUE=DATE:20280518
DTEND;VALUE=DATE:20280519
DTSTAMP:20260425T194207
CREATED:20230914T123231Z
LAST-MODIFIED:20230914T123231Z
UID:10015819-1842220800-1842307199@rsgyc.ie
SUMMARY:Cafe + Bar
DESCRIPTION:Boardwalk Cafe open from 9.00 – 15.30 \nBar open from 12.00
URL:https://rsgyc.ie/event/cafe-bar/2028-05-18/
LOCATION:Royal St George Yacht Club\, Dun Laoghaire\, Dublin\, Dublin\, A96 AY77\, Ireland
ORGANIZER;CN="RSGYC Social & Catering":MAILTO:booking@rsgyc.ie
GEO:53.2943958;-6.1338666
X-APPLE-STRUCTURED-LOCATION;VALUE=URI;X-ADDRESS=Royal St George Yacht Club Dun Laoghaire Dublin Dublin A96 AY77 Ireland;X-APPLE-RADIUS=500;X-TITLE=Dun Laoghaire:geo:-6.1338666,53.2943958
END:VEVENT
BEGIN:VEVENT
DTSTART;VALUE=DATE:20280518
DTEND;VALUE=DATE:20280519
DTSTAMP:20260425T194207
CREATED:20240809T160932Z
LAST-MODIFIED:20240809T160933Z
UID:10018747-1842220800-1842307199@rsgyc.ie
SUMMARY:Catering Options
DESCRIPTION:Please click link for Catering Options: Here
URL:https://rsgyc.ie/event/dining-2-2-7/2028-05-18/
LOCATION:Royal St George Yacht Club\, Dun Laoghaire\, Dublin\, Dublin\, A96 AY77\, Ireland
ORGANIZER;CN="RSGYC Social & Catering":MAILTO:booking@rsgyc.ie
GEO:53.2943958;-6.1338666
X-APPLE-STRUCTURED-LOCATION;VALUE=URI;X-ADDRESS=Royal St George Yacht Club Dun Laoghaire Dublin Dublin A96 AY77 Ireland;X-APPLE-RADIUS=500;X-TITLE=Dun Laoghaire:geo:-6.1338666,53.2943958
END:VEVENT
BEGIN:VEVENT
DTSTART;VALUE=DATE:20280519
DTEND;VALUE=DATE:20280520
DTSTAMP:20260425T194207
CREATED:20230914T123758Z
LAST-MODIFIED:20230914T123758Z
UID:10016344-1842307200-1842393599@rsgyc.ie
SUMMARY:Cafe + Bar
DESCRIPTION:Boardwalk Cafe open from 9.00 – 15.30 \nBar open from 12.00
URL:https://rsgyc.ie/event/cafe-bar-2/2028-05-19/
LOCATION:Royal St George Yacht Club\, Dun Laoghaire\, Dublin\, Dublin\, A96 AY77\, Ireland
ORGANIZER;CN="RSGYC Social & Catering":MAILTO:booking@rsgyc.ie
GEO:53.2943958;-6.1338666
X-APPLE-STRUCTURED-LOCATION;VALUE=URI;X-ADDRESS=Royal St George Yacht Club Dun Laoghaire Dublin Dublin A96 AY77 Ireland;X-APPLE-RADIUS=500;X-TITLE=Dun Laoghaire:geo:-6.1338666,53.2943958
END:VEVENT
BEGIN:VEVENT
DTSTART;VALUE=DATE:20280519
DTEND;VALUE=DATE:20280520
DTSTAMP:20260425T194207
CREATED:20240809T160932Z
LAST-MODIFIED:20240809T160933Z
UID:10018748-1842307200-1842393599@rsgyc.ie
SUMMARY:Catering Options
DESCRIPTION:Please click link for Catering Options: Here
URL:https://rsgyc.ie/event/dining-2-2-7/2028-05-19/
LOCATION:Royal St George Yacht Club\, Dun Laoghaire\, Dublin\, Dublin\, A96 AY77\, Ireland
ORGANIZER;CN="RSGYC Social & Catering":MAILTO:booking@rsgyc.ie
GEO:53.2943958;-6.1338666
X-APPLE-STRUCTURED-LOCATION;VALUE=URI;X-ADDRESS=Royal St George Yacht Club Dun Laoghaire Dublin Dublin A96 AY77 Ireland;X-APPLE-RADIUS=500;X-TITLE=Dun Laoghaire:geo:-6.1338666,53.2943958
END:VEVENT
BEGIN:VEVENT
DTSTART;VALUE=DATE:20280520
DTEND;VALUE=DATE:20280521
DTSTAMP:20260425T194207
CREATED:20230914T123951Z
LAST-MODIFIED:20230914T123951Z
UID:10016605-1842393600-1842479999@rsgyc.ie
SUMMARY:Cafe + Bar
DESCRIPTION:Boardwalk Cafe open from 9.00 – 16.30 \nBar open from 12.00
URL:https://rsgyc.ie/event/cafe-bar-3/2028-05-20/
LOCATION:Royal St George Yacht Club\, Dun Laoghaire\, Dublin\, Dublin\, A96 AY77\, Ireland
ORGANIZER;CN="RSGYC Social & Catering":MAILTO:booking@rsgyc.ie
GEO:53.2943958;-6.1338666
X-APPLE-STRUCTURED-LOCATION;VALUE=URI;X-ADDRESS=Royal St George Yacht Club Dun Laoghaire Dublin Dublin A96 AY77 Ireland;X-APPLE-RADIUS=500;X-TITLE=Dun Laoghaire:geo:-6.1338666,53.2943958
END:VEVENT
BEGIN:VEVENT
DTSTART;VALUE=DATE:20280520
DTEND;VALUE=DATE:20280521
DTSTAMP:20260425T194207
CREATED:20240809T160932Z
LAST-MODIFIED:20240809T160933Z
UID:10018749-1842393600-1842479999@rsgyc.ie
SUMMARY:Catering Options
DESCRIPTION:Please click link for Catering Options: Here
URL:https://rsgyc.ie/event/dining-2-2-7/2028-05-20/
LOCATION:Royal St George Yacht Club\, Dun Laoghaire\, Dublin\, Dublin\, A96 AY77\, Ireland
ORGANIZER;CN="RSGYC Social & Catering":MAILTO:booking@rsgyc.ie
GEO:53.2943958;-6.1338666
X-APPLE-STRUCTURED-LOCATION;VALUE=URI;X-ADDRESS=Royal St George Yacht Club Dun Laoghaire Dublin Dublin A96 AY77 Ireland;X-APPLE-RADIUS=500;X-TITLE=Dun Laoghaire:geo:-6.1338666,53.2943958
END:VEVENT
BEGIN:VEVENT
DTSTART;VALUE=DATE:20280521
DTEND;VALUE=DATE:20280522
DTSTAMP:20260425T194207
CREATED:20230914T124051Z
LAST-MODIFIED:20230914T124136Z
UID:10017127-1842480000-1842566399@rsgyc.ie
SUMMARY:Cafe + Bar
DESCRIPTION:Boardwalk Cafe Open from 9.00 – 16.30 \nBar open from 12.00 – 20.00
URL:https://rsgyc.ie/event/cafe-bar-4/2028-05-21/
LOCATION:Royal St George Yacht Club\, Dun Laoghaire\, Dublin\, Dublin\, A96 AY77\, Ireland
ORGANIZER;CN="RSGYC Social & Catering":MAILTO:booking@rsgyc.ie
GEO:53.2943958;-6.1338666
X-APPLE-STRUCTURED-LOCATION;VALUE=URI;X-ADDRESS=Royal St George Yacht Club Dun Laoghaire Dublin Dublin A96 AY77 Ireland;X-APPLE-RADIUS=500;X-TITLE=Dun Laoghaire:geo:-6.1338666,53.2943958
END:VEVENT
BEGIN:VEVENT
DTSTART;VALUE=DATE:20280521
DTEND;VALUE=DATE:20280522
DTSTAMP:20260425T194207
CREATED:20240809T160932Z
LAST-MODIFIED:20240809T160933Z
UID:10018750-1842480000-1842566399@rsgyc.ie
SUMMARY:Catering Options
DESCRIPTION:Please click link for Catering Options: Here
URL:https://rsgyc.ie/event/dining-2-2-7/2028-05-21/
LOCATION:Royal St George Yacht Club\, Dun Laoghaire\, Dublin\, Dublin\, A96 AY77\, Ireland
ORGANIZER;CN="RSGYC Social & Catering":MAILTO:booking@rsgyc.ie
GEO:53.2943958;-6.1338666
X-APPLE-STRUCTURED-LOCATION;VALUE=URI;X-ADDRESS=Royal St George Yacht Club Dun Laoghaire Dublin Dublin A96 AY77 Ireland;X-APPLE-RADIUS=500;X-TITLE=Dun Laoghaire:geo:-6.1338666,53.2943958
END:VEVENT
BEGIN:VEVENT
DTSTART;VALUE=DATE:20280522
DTEND;VALUE=DATE:20280523
DTSTAMP:20260425T194207
CREATED:20240809T160932Z
LAST-MODIFIED:20240809T160933Z
UID:10017388-1842566400-1842652799@rsgyc.ie
SUMMARY:Catering Options
DESCRIPTION:Please click link for Catering Options: Here
URL:https://rsgyc.ie/event/dining-2-2-7/2028-05-22/
LOCATION:Royal St George Yacht Club\, Dun Laoghaire\, Dublin\, Dublin\, A96 AY77\, Ireland
ORGANIZER;CN="RSGYC Social & Catering":MAILTO:booking@rsgyc.ie
GEO:53.2943958;-6.1338666
X-APPLE-STRUCTURED-LOCATION;VALUE=URI;X-ADDRESS=Royal St George Yacht Club Dun Laoghaire Dublin Dublin A96 AY77 Ireland;X-APPLE-RADIUS=500;X-TITLE=Dun Laoghaire:geo:-6.1338666,53.2943958
END:VEVENT
BEGIN:VEVENT
DTSTART;VALUE=DATE:20280523
DTEND;VALUE=DATE:20280524
DTSTAMP:20260425T194207
CREATED:20240809T160932Z
LAST-MODIFIED:20240809T160933Z
UID:10018751-1842652800-1842739199@rsgyc.ie
SUMMARY:Catering Options
DESCRIPTION:Please click link for Catering Options: Here
URL:https://rsgyc.ie/event/dining-2-2-7/2028-05-23/
LOCATION:Royal St George Yacht Club\, Dun Laoghaire\, Dublin\, Dublin\, A96 AY77\, Ireland
ORGANIZER;CN="RSGYC Social & Catering":MAILTO:booking@rsgyc.ie
GEO:53.2943958;-6.1338666
X-APPLE-STRUCTURED-LOCATION;VALUE=URI;X-ADDRESS=Royal St George Yacht Club Dun Laoghaire Dublin Dublin A96 AY77 Ireland;X-APPLE-RADIUS=500;X-TITLE=Dun Laoghaire:geo:-6.1338666,53.2943958
END:VEVENT
BEGIN:VEVENT
DTSTART;VALUE=DATE:20280524
DTEND;VALUE=DATE:20280525
DTSTAMP:20260425T194207
CREATED:20240809T160932Z
LAST-MODIFIED:20240809T160933Z
UID:10018752-1842739200-1842825599@rsgyc.ie
SUMMARY:Catering Options
DESCRIPTION:Please click link for Catering Options: Here
URL:https://rsgyc.ie/event/dining-2-2-7/2028-05-24/
LOCATION:Royal St George Yacht Club\, Dun Laoghaire\, Dublin\, Dublin\, A96 AY77\, Ireland
ORGANIZER;CN="RSGYC Social & Catering":MAILTO:booking@rsgyc.ie
GEO:53.2943958;-6.1338666
X-APPLE-STRUCTURED-LOCATION;VALUE=URI;X-ADDRESS=Royal St George Yacht Club Dun Laoghaire Dublin Dublin A96 AY77 Ireland;X-APPLE-RADIUS=500;X-TITLE=Dun Laoghaire:geo:-6.1338666,53.2943958
END:VEVENT
BEGIN:VEVENT
DTSTART;VALUE=DATE:20280525
DTEND;VALUE=DATE:20280526
DTSTAMP:20260425T194207
CREATED:20230914T123231Z
LAST-MODIFIED:20230914T123231Z
UID:10015820-1842825600-1842911999@rsgyc.ie
SUMMARY:Cafe + Bar
DESCRIPTION:Boardwalk Cafe open from 9.00 – 15.30 \nBar open from 12.00
URL:https://rsgyc.ie/event/cafe-bar/2028-05-25/
LOCATION:Royal St George Yacht Club\, Dun Laoghaire\, Dublin\, Dublin\, A96 AY77\, Ireland
ORGANIZER;CN="RSGYC Social & Catering":MAILTO:booking@rsgyc.ie
GEO:53.2943958;-6.1338666
X-APPLE-STRUCTURED-LOCATION;VALUE=URI;X-ADDRESS=Royal St George Yacht Club Dun Laoghaire Dublin Dublin A96 AY77 Ireland;X-APPLE-RADIUS=500;X-TITLE=Dun Laoghaire:geo:-6.1338666,53.2943958
END:VEVENT
BEGIN:VEVENT
DTSTART;VALUE=DATE:20280525
DTEND;VALUE=DATE:20280526
DTSTAMP:20260425T194207
CREATED:20240809T160932Z
LAST-MODIFIED:20240809T160933Z
UID:10018753-1842825600-1842911999@rsgyc.ie
SUMMARY:Catering Options
DESCRIPTION:Please click link for Catering Options: Here
URL:https://rsgyc.ie/event/dining-2-2-7/2028-05-25/
LOCATION:Royal St George Yacht Club\, Dun Laoghaire\, Dublin\, Dublin\, A96 AY77\, Ireland
ORGANIZER;CN="RSGYC Social & Catering":MAILTO:booking@rsgyc.ie
GEO:53.2943958;-6.1338666
X-APPLE-STRUCTURED-LOCATION;VALUE=URI;X-ADDRESS=Royal St George Yacht Club Dun Laoghaire Dublin Dublin A96 AY77 Ireland;X-APPLE-RADIUS=500;X-TITLE=Dun Laoghaire:geo:-6.1338666,53.2943958
END:VEVENT
BEGIN:VEVENT
DTSTART;VALUE=DATE:20280526
DTEND;VALUE=DATE:20280527
DTSTAMP:20260425T194207
CREATED:20230914T123758Z
LAST-MODIFIED:20230914T123758Z
UID:10016345-1842912000-1842998399@rsgyc.ie
SUMMARY:Cafe + Bar
DESCRIPTION:Boardwalk Cafe open from 9.00 – 15.30 \nBar open from 12.00
URL:https://rsgyc.ie/event/cafe-bar-2/2028-05-26/
LOCATION:Royal St George Yacht Club\, Dun Laoghaire\, Dublin\, Dublin\, A96 AY77\, Ireland
ORGANIZER;CN="RSGYC Social & Catering":MAILTO:booking@rsgyc.ie
GEO:53.2943958;-6.1338666
X-APPLE-STRUCTURED-LOCATION;VALUE=URI;X-ADDRESS=Royal St George Yacht Club Dun Laoghaire Dublin Dublin A96 AY77 Ireland;X-APPLE-RADIUS=500;X-TITLE=Dun Laoghaire:geo:-6.1338666,53.2943958
END:VEVENT
BEGIN:VEVENT
DTSTART;VALUE=DATE:20280526
DTEND;VALUE=DATE:20280527
DTSTAMP:20260425T194207
CREATED:20240809T160932Z
LAST-MODIFIED:20240809T160933Z
UID:10018754-1842912000-1842998399@rsgyc.ie
SUMMARY:Catering Options
DESCRIPTION:Please click link for Catering Options: Here
URL:https://rsgyc.ie/event/dining-2-2-7/2028-05-26/
LOCATION:Royal St George Yacht Club\, Dun Laoghaire\, Dublin\, Dublin\, A96 AY77\, Ireland
ORGANIZER;CN="RSGYC Social & Catering":MAILTO:booking@rsgyc.ie
GEO:53.2943958;-6.1338666
X-APPLE-STRUCTURED-LOCATION;VALUE=URI;X-ADDRESS=Royal St George Yacht Club Dun Laoghaire Dublin Dublin A96 AY77 Ireland;X-APPLE-RADIUS=500;X-TITLE=Dun Laoghaire:geo:-6.1338666,53.2943958
END:VEVENT
BEGIN:VEVENT
DTSTART;VALUE=DATE:20280527
DTEND;VALUE=DATE:20280528
DTSTAMP:20260425T194207
CREATED:20230914T123951Z
LAST-MODIFIED:20230914T123951Z
UID:10016606-1842998400-1843084799@rsgyc.ie
SUMMARY:Cafe + Bar
DESCRIPTION:Boardwalk Cafe open from 9.00 – 16.30 \nBar open from 12.00
URL:https://rsgyc.ie/event/cafe-bar-3/2028-05-27/
LOCATION:Royal St George Yacht Club\, Dun Laoghaire\, Dublin\, Dublin\, A96 AY77\, Ireland
ORGANIZER;CN="RSGYC Social & Catering":MAILTO:booking@rsgyc.ie
GEO:53.2943958;-6.1338666
X-APPLE-STRUCTURED-LOCATION;VALUE=URI;X-ADDRESS=Royal St George Yacht Club Dun Laoghaire Dublin Dublin A96 AY77 Ireland;X-APPLE-RADIUS=500;X-TITLE=Dun Laoghaire:geo:-6.1338666,53.2943958
END:VEVENT
BEGIN:VEVENT
DTSTART;VALUE=DATE:20280527
DTEND;VALUE=DATE:20280528
DTSTAMP:20260425T194207
CREATED:20240809T160932Z
LAST-MODIFIED:20240809T160933Z
UID:10018755-1842998400-1843084799@rsgyc.ie
SUMMARY:Catering Options
DESCRIPTION:Please click link for Catering Options: Here
URL:https://rsgyc.ie/event/dining-2-2-7/2028-05-27/
LOCATION:Royal St George Yacht Club\, Dun Laoghaire\, Dublin\, Dublin\, A96 AY77\, Ireland
ORGANIZER;CN="RSGYC Social & Catering":MAILTO:booking@rsgyc.ie
GEO:53.2943958;-6.1338666
X-APPLE-STRUCTURED-LOCATION;VALUE=URI;X-ADDRESS=Royal St George Yacht Club Dun Laoghaire Dublin Dublin A96 AY77 Ireland;X-APPLE-RADIUS=500;X-TITLE=Dun Laoghaire:geo:-6.1338666,53.2943958
END:VEVENT
BEGIN:VEVENT
DTSTART;VALUE=DATE:20280528
DTEND;VALUE=DATE:20280529
DTSTAMP:20260425T194207
CREATED:20230914T124051Z
LAST-MODIFIED:20230914T124136Z
UID:10017128-1843084800-1843171199@rsgyc.ie
SUMMARY:Cafe + Bar
DESCRIPTION:Boardwalk Cafe Open from 9.00 – 16.30 \nBar open from 12.00 – 20.00
URL:https://rsgyc.ie/event/cafe-bar-4/2028-05-28/
LOCATION:Royal St George Yacht Club\, Dun Laoghaire\, Dublin\, Dublin\, A96 AY77\, Ireland
ORGANIZER;CN="RSGYC Social & Catering":MAILTO:booking@rsgyc.ie
GEO:53.2943958;-6.1338666
X-APPLE-STRUCTURED-LOCATION;VALUE=URI;X-ADDRESS=Royal St George Yacht Club Dun Laoghaire Dublin Dublin A96 AY77 Ireland;X-APPLE-RADIUS=500;X-TITLE=Dun Laoghaire:geo:-6.1338666,53.2943958
END:VEVENT
BEGIN:VEVENT
DTSTART;VALUE=DATE:20280528
DTEND;VALUE=DATE:20280529
DTSTAMP:20260425T194207
CREATED:20240809T160932Z
LAST-MODIFIED:20240809T160933Z
UID:10018756-1843084800-1843171199@rsgyc.ie
SUMMARY:Catering Options
DESCRIPTION:Please click link for Catering Options: Here
URL:https://rsgyc.ie/event/dining-2-2-7/2028-05-28/
LOCATION:Royal St George Yacht Club\, Dun Laoghaire\, Dublin\, Dublin\, A96 AY77\, Ireland
ORGANIZER;CN="RSGYC Social & Catering":MAILTO:booking@rsgyc.ie
GEO:53.2943958;-6.1338666
X-APPLE-STRUCTURED-LOCATION;VALUE=URI;X-ADDRESS=Royal St George Yacht Club Dun Laoghaire Dublin Dublin A96 AY77 Ireland;X-APPLE-RADIUS=500;X-TITLE=Dun Laoghaire:geo:-6.1338666,53.2943958
END:VEVENT
BEGIN:VEVENT
DTSTART;VALUE=DATE:20280529
DTEND;VALUE=DATE:20280530
DTSTAMP:20260425T194207
CREATED:20240809T160932Z
LAST-MODIFIED:20240809T160933Z
UID:10017389-1843171200-1843257599@rsgyc.ie
SUMMARY:Catering Options
DESCRIPTION:Please click link for Catering Options: Here
URL:https://rsgyc.ie/event/dining-2-2-7/2028-05-29/
LOCATION:Royal St George Yacht Club\, Dun Laoghaire\, Dublin\, Dublin\, A96 AY77\, Ireland
ORGANIZER;CN="RSGYC Social & Catering":MAILTO:booking@rsgyc.ie
GEO:53.2943958;-6.1338666
X-APPLE-STRUCTURED-LOCATION;VALUE=URI;X-ADDRESS=Royal St George Yacht Club Dun Laoghaire Dublin Dublin A96 AY77 Ireland;X-APPLE-RADIUS=500;X-TITLE=Dun Laoghaire:geo:-6.1338666,53.2943958
END:VEVENT
BEGIN:VEVENT
DTSTART;VALUE=DATE:20280530
DTEND;VALUE=DATE:20280531
DTSTAMP:20260425T194207
CREATED:20240809T160932Z
LAST-MODIFIED:20240809T160933Z
UID:10018757-1843257600-1843343999@rsgyc.ie
SUMMARY:Catering Options
DESCRIPTION:Please click link for Catering Options: Here
URL:https://rsgyc.ie/event/dining-2-2-7/2028-05-30/
LOCATION:Royal St George Yacht Club\, Dun Laoghaire\, Dublin\, Dublin\, A96 AY77\, Ireland
ORGANIZER;CN="RSGYC Social & Catering":MAILTO:booking@rsgyc.ie
GEO:53.2943958;-6.1338666
X-APPLE-STRUCTURED-LOCATION;VALUE=URI;X-ADDRESS=Royal St George Yacht Club Dun Laoghaire Dublin Dublin A96 AY77 Ireland;X-APPLE-RADIUS=500;X-TITLE=Dun Laoghaire:geo:-6.1338666,53.2943958
END:VEVENT
BEGIN:VEVENT
DTSTART;VALUE=DATE:20280531
DTEND;VALUE=DATE:20280601
DTSTAMP:20260425T194207
CREATED:20240809T160932Z
LAST-MODIFIED:20240809T160933Z
UID:10018758-1843344000-1843430399@rsgyc.ie
SUMMARY:Catering Options
DESCRIPTION:Please click link for Catering Options: Here
URL:https://rsgyc.ie/event/dining-2-2-7/2028-05-31/
LOCATION:Royal St George Yacht Club\, Dun Laoghaire\, Dublin\, Dublin\, A96 AY77\, Ireland
ORGANIZER;CN="RSGYC Social & Catering":MAILTO:booking@rsgyc.ie
GEO:53.2943958;-6.1338666
X-APPLE-STRUCTURED-LOCATION;VALUE=URI;X-ADDRESS=Royal St George Yacht Club Dun Laoghaire Dublin Dublin A96 AY77 Ireland;X-APPLE-RADIUS=500;X-TITLE=Dun Laoghaire:geo:-6.1338666,53.2943958
END:VEVENT
BEGIN:VEVENT
DTSTART;VALUE=DATE:20280601
DTEND;VALUE=DATE:20280602
DTSTAMP:20260425T194207
CREATED:20230914T123231Z
LAST-MODIFIED:20230914T123231Z
UID:10015821-1843430400-1843516799@rsgyc.ie
SUMMARY:Cafe + Bar
DESCRIPTION:Boardwalk Cafe open from 9.00 – 15.30 \nBar open from 12.00
URL:https://rsgyc.ie/event/cafe-bar/2028-06-01/
LOCATION:Royal St George Yacht Club\, Dun Laoghaire\, Dublin\, Dublin\, A96 AY77\, Ireland
ORGANIZER;CN="RSGYC Social & Catering":MAILTO:booking@rsgyc.ie
GEO:53.2943958;-6.1338666
X-APPLE-STRUCTURED-LOCATION;VALUE=URI;X-ADDRESS=Royal St George Yacht Club Dun Laoghaire Dublin Dublin A96 AY77 Ireland;X-APPLE-RADIUS=500;X-TITLE=Dun Laoghaire:geo:-6.1338666,53.2943958
END:VEVENT
BEGIN:VEVENT
DTSTART;VALUE=DATE:20280601
DTEND;VALUE=DATE:20280602
DTSTAMP:20260425T194207
CREATED:20240809T160932Z
LAST-MODIFIED:20240809T160933Z
UID:10018759-1843430400-1843516799@rsgyc.ie
SUMMARY:Catering Options
DESCRIPTION:Please click link for Catering Options: Here
URL:https://rsgyc.ie/event/dining-2-2-7/2028-06-01/
LOCATION:Royal St George Yacht Club\, Dun Laoghaire\, Dublin\, Dublin\, A96 AY77\, Ireland
ORGANIZER;CN="RSGYC Social & Catering":MAILTO:booking@rsgyc.ie
GEO:53.2943958;-6.1338666
X-APPLE-STRUCTURED-LOCATION;VALUE=URI;X-ADDRESS=Royal St George Yacht Club Dun Laoghaire Dublin Dublin A96 AY77 Ireland;X-APPLE-RADIUS=500;X-TITLE=Dun Laoghaire:geo:-6.1338666,53.2943958
END:VEVENT
BEGIN:VEVENT
DTSTART;VALUE=DATE:20280602
DTEND;VALUE=DATE:20280603
DTSTAMP:20260425T194207
CREATED:20230914T123758Z
LAST-MODIFIED:20230914T123758Z
UID:10016346-1843516800-1843603199@rsgyc.ie
SUMMARY:Cafe + Bar
DESCRIPTION:Boardwalk Cafe open from 9.00 – 15.30 \nBar open from 12.00
URL:https://rsgyc.ie/event/cafe-bar-2/2028-06-02/
LOCATION:Royal St George Yacht Club\, Dun Laoghaire\, Dublin\, Dublin\, A96 AY77\, Ireland
ORGANIZER;CN="RSGYC Social & Catering":MAILTO:booking@rsgyc.ie
GEO:53.2943958;-6.1338666
X-APPLE-STRUCTURED-LOCATION;VALUE=URI;X-ADDRESS=Royal St George Yacht Club Dun Laoghaire Dublin Dublin A96 AY77 Ireland;X-APPLE-RADIUS=500;X-TITLE=Dun Laoghaire:geo:-6.1338666,53.2943958
END:VEVENT
END:VCALENDAR