BEGIN:VCALENDAR
VERSION:2.0
PRODID:-//Royal St George Yacht Club - ECPv6.15.20//NONSGML v1.0//EN
CALSCALE:GREGORIAN
METHOD:PUBLISH
X-ORIGINAL-URL:https://rsgyc.ie
X-WR-CALDESC:Events for Royal St George Yacht Club
REFRESH-INTERVAL;VALUE=DURATION:PT1H
X-Robots-Tag:noindex
X-PUBLISHED-TTL:PT1H
BEGIN:VTIMEZONE
TZID:Europe/Dublin
BEGIN:STANDARD
TZOFFSETFROM:+0000
TZOFFSETTO:+0100
TZNAME:IST
DTSTART:20250330T010000
END:STANDARD
BEGIN:DAYLIGHT
TZOFFSETFROM:+0100
TZOFFSETTO:+0000
TZNAME:GMT
DTSTART:20251026T010000
END:DAYLIGHT
BEGIN:STANDARD
TZOFFSETFROM:+0000
TZOFFSETTO:+0100
TZNAME:IST
DTSTART:20260329T010000
END:STANDARD
BEGIN:DAYLIGHT
TZOFFSETFROM:+0100
TZOFFSETTO:+0000
TZNAME:GMT
DTSTART:20261025T010000
END:DAYLIGHT
BEGIN:STANDARD
TZOFFSETFROM:+0000
TZOFFSETTO:+0100
TZNAME:IST
DTSTART:20270328T010000
END:STANDARD
BEGIN:DAYLIGHT
TZOFFSETFROM:+0100
TZOFFSETTO:+0000
TZNAME:GMT
DTSTART:20271031T010000
END:DAYLIGHT
BEGIN:STANDARD
TZOFFSETFROM:+0000
TZOFFSETTO:+0100
TZNAME:IST
DTSTART:20280326T010000
END:STANDARD
BEGIN:DAYLIGHT
TZOFFSETFROM:+0100
TZOFFSETTO:+0000
TZNAME:GMT
DTSTART:20281029T010000
END:DAYLIGHT
END:VTIMEZONE
BEGIN:VEVENT
DTSTART;VALUE=DATE:20260705
DTEND;VALUE=DATE:20260706
DTSTAMP:20260426T035408
CREATED:20230914T124051Z
LAST-MODIFIED:20230914T124136Z
UID:10017029-1783209600-1783295999@rsgyc.ie
SUMMARY:Cafe + Bar
DESCRIPTION:Boardwalk Cafe Open from 9.00 – 16.30 \nBar open from 12.00 – 20.00
URL:https://rsgyc.ie/event/cafe-bar-4/2026-07-05/
LOCATION:Royal St George Yacht Club\, Dun Laoghaire\, Dublin\, Dublin\, A96 AY77\, Ireland
ORGANIZER;CN="RSGYC Social & Catering":MAILTO:booking@rsgyc.ie
GEO:53.2943958;-6.1338666
X-APPLE-STRUCTURED-LOCATION;VALUE=URI;X-ADDRESS=Royal St George Yacht Club Dun Laoghaire Dublin Dublin A96 AY77 Ireland;X-APPLE-RADIUS=500;X-TITLE=Dun Laoghaire:geo:-6.1338666,53.2943958
END:VEVENT
BEGIN:VEVENT
DTSTART;VALUE=DATE:20260712
DTEND;VALUE=DATE:20260713
DTSTAMP:20260426T035408
CREATED:20230914T124051Z
LAST-MODIFIED:20230914T124136Z
UID:10017030-1783814400-1783900799@rsgyc.ie
SUMMARY:Cafe + Bar
DESCRIPTION:Boardwalk Cafe Open from 9.00 – 16.30 \nBar open from 12.00 – 20.00
URL:https://rsgyc.ie/event/cafe-bar-4/2026-07-12/
LOCATION:Royal St George Yacht Club\, Dun Laoghaire\, Dublin\, Dublin\, A96 AY77\, Ireland
ORGANIZER;CN="RSGYC Social & Catering":MAILTO:booking@rsgyc.ie
GEO:53.2943958;-6.1338666
X-APPLE-STRUCTURED-LOCATION;VALUE=URI;X-ADDRESS=Royal St George Yacht Club Dun Laoghaire Dublin Dublin A96 AY77 Ireland;X-APPLE-RADIUS=500;X-TITLE=Dun Laoghaire:geo:-6.1338666,53.2943958
END:VEVENT
BEGIN:VEVENT
DTSTART;VALUE=DATE:20260719
DTEND;VALUE=DATE:20260720
DTSTAMP:20260426T035408
CREATED:20230914T124051Z
LAST-MODIFIED:20230914T124136Z
UID:10017031-1784419200-1784505599@rsgyc.ie
SUMMARY:Cafe + Bar
DESCRIPTION:Boardwalk Cafe Open from 9.00 – 16.30 \nBar open from 12.00 – 20.00
URL:https://rsgyc.ie/event/cafe-bar-4/2026-07-19/
LOCATION:Royal St George Yacht Club\, Dun Laoghaire\, Dublin\, Dublin\, A96 AY77\, Ireland
ORGANIZER;CN="RSGYC Social & Catering":MAILTO:booking@rsgyc.ie
GEO:53.2943958;-6.1338666
X-APPLE-STRUCTURED-LOCATION;VALUE=URI;X-ADDRESS=Royal St George Yacht Club Dun Laoghaire Dublin Dublin A96 AY77 Ireland;X-APPLE-RADIUS=500;X-TITLE=Dun Laoghaire:geo:-6.1338666,53.2943958
END:VEVENT
BEGIN:VEVENT
DTSTART;VALUE=DATE:20260726
DTEND;VALUE=DATE:20260727
DTSTAMP:20260426T035408
CREATED:20230914T124051Z
LAST-MODIFIED:20230914T124136Z
UID:10017032-1785024000-1785110399@rsgyc.ie
SUMMARY:Cafe + Bar
DESCRIPTION:Boardwalk Cafe Open from 9.00 – 16.30 \nBar open from 12.00 – 20.00
URL:https://rsgyc.ie/event/cafe-bar-4/2026-07-26/
LOCATION:Royal St George Yacht Club\, Dun Laoghaire\, Dublin\, Dublin\, A96 AY77\, Ireland
ORGANIZER;CN="RSGYC Social & Catering":MAILTO:booking@rsgyc.ie
GEO:53.2943958;-6.1338666
X-APPLE-STRUCTURED-LOCATION;VALUE=URI;X-ADDRESS=Royal St George Yacht Club Dun Laoghaire Dublin Dublin A96 AY77 Ireland;X-APPLE-RADIUS=500;X-TITLE=Dun Laoghaire:geo:-6.1338666,53.2943958
END:VEVENT
BEGIN:VEVENT
DTSTART;VALUE=DATE:20260802
DTEND;VALUE=DATE:20260803
DTSTAMP:20260426T035408
CREATED:20230914T124051Z
LAST-MODIFIED:20230914T124136Z
UID:10017033-1785628800-1785715199@rsgyc.ie
SUMMARY:Cafe + Bar
DESCRIPTION:Boardwalk Cafe Open from 9.00 – 16.30 \nBar open from 12.00 – 20.00
URL:https://rsgyc.ie/event/cafe-bar-4/2026-08-02/
LOCATION:Royal St George Yacht Club\, Dun Laoghaire\, Dublin\, Dublin\, A96 AY77\, Ireland
ORGANIZER;CN="RSGYC Social & Catering":MAILTO:booking@rsgyc.ie
GEO:53.2943958;-6.1338666
X-APPLE-STRUCTURED-LOCATION;VALUE=URI;X-ADDRESS=Royal St George Yacht Club Dun Laoghaire Dublin Dublin A96 AY77 Ireland;X-APPLE-RADIUS=500;X-TITLE=Dun Laoghaire:geo:-6.1338666,53.2943958
END:VEVENT
BEGIN:VEVENT
DTSTART;VALUE=DATE:20260809
DTEND;VALUE=DATE:20260810
DTSTAMP:20260426T035408
CREATED:20230914T124051Z
LAST-MODIFIED:20230914T124136Z
UID:10017034-1786233600-1786319999@rsgyc.ie
SUMMARY:Cafe + Bar
DESCRIPTION:Boardwalk Cafe Open from 9.00 – 16.30 \nBar open from 12.00 – 20.00
URL:https://rsgyc.ie/event/cafe-bar-4/2026-08-09/
LOCATION:Royal St George Yacht Club\, Dun Laoghaire\, Dublin\, Dublin\, A96 AY77\, Ireland
ORGANIZER;CN="RSGYC Social & Catering":MAILTO:booking@rsgyc.ie
GEO:53.2943958;-6.1338666
X-APPLE-STRUCTURED-LOCATION;VALUE=URI;X-ADDRESS=Royal St George Yacht Club Dun Laoghaire Dublin Dublin A96 AY77 Ireland;X-APPLE-RADIUS=500;X-TITLE=Dun Laoghaire:geo:-6.1338666,53.2943958
END:VEVENT
BEGIN:VEVENT
DTSTART;VALUE=DATE:20260816
DTEND;VALUE=DATE:20260817
DTSTAMP:20260426T035408
CREATED:20230914T124051Z
LAST-MODIFIED:20230914T124136Z
UID:10017035-1786838400-1786924799@rsgyc.ie
SUMMARY:Cafe + Bar
DESCRIPTION:Boardwalk Cafe Open from 9.00 – 16.30 \nBar open from 12.00 – 20.00
URL:https://rsgyc.ie/event/cafe-bar-4/2026-08-16/
LOCATION:Royal St George Yacht Club\, Dun Laoghaire\, Dublin\, Dublin\, A96 AY77\, Ireland
ORGANIZER;CN="RSGYC Social & Catering":MAILTO:booking@rsgyc.ie
GEO:53.2943958;-6.1338666
X-APPLE-STRUCTURED-LOCATION;VALUE=URI;X-ADDRESS=Royal St George Yacht Club Dun Laoghaire Dublin Dublin A96 AY77 Ireland;X-APPLE-RADIUS=500;X-TITLE=Dun Laoghaire:geo:-6.1338666,53.2943958
END:VEVENT
BEGIN:VEVENT
DTSTART;VALUE=DATE:20260823
DTEND;VALUE=DATE:20260824
DTSTAMP:20260426T035408
CREATED:20230914T124051Z
LAST-MODIFIED:20230914T124136Z
UID:10017036-1787443200-1787529599@rsgyc.ie
SUMMARY:Cafe + Bar
DESCRIPTION:Boardwalk Cafe Open from 9.00 – 16.30 \nBar open from 12.00 – 20.00
URL:https://rsgyc.ie/event/cafe-bar-4/2026-08-23/
LOCATION:Royal St George Yacht Club\, Dun Laoghaire\, Dublin\, Dublin\, A96 AY77\, Ireland
ORGANIZER;CN="RSGYC Social & Catering":MAILTO:booking@rsgyc.ie
GEO:53.2943958;-6.1338666
X-APPLE-STRUCTURED-LOCATION;VALUE=URI;X-ADDRESS=Royal St George Yacht Club Dun Laoghaire Dublin Dublin A96 AY77 Ireland;X-APPLE-RADIUS=500;X-TITLE=Dun Laoghaire:geo:-6.1338666,53.2943958
END:VEVENT
BEGIN:VEVENT
DTSTART;VALUE=DATE:20260830
DTEND;VALUE=DATE:20260831
DTSTAMP:20260426T035408
CREATED:20230914T124051Z
LAST-MODIFIED:20230914T124136Z
UID:10017037-1788048000-1788134399@rsgyc.ie
SUMMARY:Cafe + Bar
DESCRIPTION:Boardwalk Cafe Open from 9.00 – 16.30 \nBar open from 12.00 – 20.00
URL:https://rsgyc.ie/event/cafe-bar-4/2026-08-30/
LOCATION:Royal St George Yacht Club\, Dun Laoghaire\, Dublin\, Dublin\, A96 AY77\, Ireland
ORGANIZER;CN="RSGYC Social & Catering":MAILTO:booking@rsgyc.ie
GEO:53.2943958;-6.1338666
X-APPLE-STRUCTURED-LOCATION;VALUE=URI;X-ADDRESS=Royal St George Yacht Club Dun Laoghaire Dublin Dublin A96 AY77 Ireland;X-APPLE-RADIUS=500;X-TITLE=Dun Laoghaire:geo:-6.1338666,53.2943958
END:VEVENT
BEGIN:VEVENT
DTSTART;VALUE=DATE:20260906
DTEND;VALUE=DATE:20260907
DTSTAMP:20260426T035408
CREATED:20230914T124051Z
LAST-MODIFIED:20230914T124136Z
UID:10017038-1788652800-1788739199@rsgyc.ie
SUMMARY:Cafe + Bar
DESCRIPTION:Boardwalk Cafe Open from 9.00 – 16.30 \nBar open from 12.00 – 20.00
URL:https://rsgyc.ie/event/cafe-bar-4/2026-09-06/
LOCATION:Royal St George Yacht Club\, Dun Laoghaire\, Dublin\, Dublin\, A96 AY77\, Ireland
ORGANIZER;CN="RSGYC Social & Catering":MAILTO:booking@rsgyc.ie
GEO:53.2943958;-6.1338666
X-APPLE-STRUCTURED-LOCATION;VALUE=URI;X-ADDRESS=Royal St George Yacht Club Dun Laoghaire Dublin Dublin A96 AY77 Ireland;X-APPLE-RADIUS=500;X-TITLE=Dun Laoghaire:geo:-6.1338666,53.2943958
END:VEVENT
BEGIN:VEVENT
DTSTART;VALUE=DATE:20260913
DTEND;VALUE=DATE:20260914
DTSTAMP:20260426T035408
CREATED:20230914T124051Z
LAST-MODIFIED:20230914T124136Z
UID:10017039-1789257600-1789343999@rsgyc.ie
SUMMARY:Cafe + Bar
DESCRIPTION:Boardwalk Cafe Open from 9.00 – 16.30 \nBar open from 12.00 – 20.00
URL:https://rsgyc.ie/event/cafe-bar-4/2026-09-13/
LOCATION:Royal St George Yacht Club\, Dun Laoghaire\, Dublin\, Dublin\, A96 AY77\, Ireland
ORGANIZER;CN="RSGYC Social & Catering":MAILTO:booking@rsgyc.ie
GEO:53.2943958;-6.1338666
X-APPLE-STRUCTURED-LOCATION;VALUE=URI;X-ADDRESS=Royal St George Yacht Club Dun Laoghaire Dublin Dublin A96 AY77 Ireland;X-APPLE-RADIUS=500;X-TITLE=Dun Laoghaire:geo:-6.1338666,53.2943958
END:VEVENT
BEGIN:VEVENT
DTSTART;VALUE=DATE:20260920
DTEND;VALUE=DATE:20260921
DTSTAMP:20260426T035408
CREATED:20230914T124051Z
LAST-MODIFIED:20230914T124136Z
UID:10017040-1789862400-1789948799@rsgyc.ie
SUMMARY:Cafe + Bar
DESCRIPTION:Boardwalk Cafe Open from 9.00 – 16.30 \nBar open from 12.00 – 20.00
URL:https://rsgyc.ie/event/cafe-bar-4/2026-09-20/
LOCATION:Royal St George Yacht Club\, Dun Laoghaire\, Dublin\, Dublin\, A96 AY77\, Ireland
ORGANIZER;CN="RSGYC Social & Catering":MAILTO:booking@rsgyc.ie
GEO:53.2943958;-6.1338666
X-APPLE-STRUCTURED-LOCATION;VALUE=URI;X-ADDRESS=Royal St George Yacht Club Dun Laoghaire Dublin Dublin A96 AY77 Ireland;X-APPLE-RADIUS=500;X-TITLE=Dun Laoghaire:geo:-6.1338666,53.2943958
END:VEVENT
BEGIN:VEVENT
DTSTART;VALUE=DATE:20260927
DTEND;VALUE=DATE:20260928
DTSTAMP:20260426T035408
CREATED:20230914T124051Z
LAST-MODIFIED:20230914T124136Z
UID:10017041-1790467200-1790553599@rsgyc.ie
SUMMARY:Cafe + Bar
DESCRIPTION:Boardwalk Cafe Open from 9.00 – 16.30 \nBar open from 12.00 – 20.00
URL:https://rsgyc.ie/event/cafe-bar-4/2026-09-27/
LOCATION:Royal St George Yacht Club\, Dun Laoghaire\, Dublin\, Dublin\, A96 AY77\, Ireland
ORGANIZER;CN="RSGYC Social & Catering":MAILTO:booking@rsgyc.ie
GEO:53.2943958;-6.1338666
X-APPLE-STRUCTURED-LOCATION;VALUE=URI;X-ADDRESS=Royal St George Yacht Club Dun Laoghaire Dublin Dublin A96 AY77 Ireland;X-APPLE-RADIUS=500;X-TITLE=Dun Laoghaire:geo:-6.1338666,53.2943958
END:VEVENT
BEGIN:VEVENT
DTSTART;VALUE=DATE:20261004
DTEND;VALUE=DATE:20261005
DTSTAMP:20260426T035408
CREATED:20230914T124051Z
LAST-MODIFIED:20230914T124136Z
UID:10017042-1791072000-1791158399@rsgyc.ie
SUMMARY:Cafe + Bar
DESCRIPTION:Boardwalk Cafe Open from 9.00 – 16.30 \nBar open from 12.00 – 20.00
URL:https://rsgyc.ie/event/cafe-bar-4/2026-10-04/
LOCATION:Royal St George Yacht Club\, Dun Laoghaire\, Dublin\, Dublin\, A96 AY77\, Ireland
ORGANIZER;CN="RSGYC Social & Catering":MAILTO:booking@rsgyc.ie
GEO:53.2943958;-6.1338666
X-APPLE-STRUCTURED-LOCATION;VALUE=URI;X-ADDRESS=Royal St George Yacht Club Dun Laoghaire Dublin Dublin A96 AY77 Ireland;X-APPLE-RADIUS=500;X-TITLE=Dun Laoghaire:geo:-6.1338666,53.2943958
END:VEVENT
BEGIN:VEVENT
DTSTART;VALUE=DATE:20261011
DTEND;VALUE=DATE:20261012
DTSTAMP:20260426T035408
CREATED:20230914T124051Z
LAST-MODIFIED:20230914T124136Z
UID:10017043-1791676800-1791763199@rsgyc.ie
SUMMARY:Cafe + Bar
DESCRIPTION:Boardwalk Cafe Open from 9.00 – 16.30 \nBar open from 12.00 – 20.00
URL:https://rsgyc.ie/event/cafe-bar-4/2026-10-11/
LOCATION:Royal St George Yacht Club\, Dun Laoghaire\, Dublin\, Dublin\, A96 AY77\, Ireland
ORGANIZER;CN="RSGYC Social & Catering":MAILTO:booking@rsgyc.ie
GEO:53.2943958;-6.1338666
X-APPLE-STRUCTURED-LOCATION;VALUE=URI;X-ADDRESS=Royal St George Yacht Club Dun Laoghaire Dublin Dublin A96 AY77 Ireland;X-APPLE-RADIUS=500;X-TITLE=Dun Laoghaire:geo:-6.1338666,53.2943958
END:VEVENT
BEGIN:VEVENT
DTSTART;VALUE=DATE:20261018
DTEND;VALUE=DATE:20261019
DTSTAMP:20260426T035408
CREATED:20230914T124051Z
LAST-MODIFIED:20230914T124136Z
UID:10017044-1792281600-1792367999@rsgyc.ie
SUMMARY:Cafe + Bar
DESCRIPTION:Boardwalk Cafe Open from 9.00 – 16.30 \nBar open from 12.00 – 20.00
URL:https://rsgyc.ie/event/cafe-bar-4/2026-10-18/
LOCATION:Royal St George Yacht Club\, Dun Laoghaire\, Dublin\, Dublin\, A96 AY77\, Ireland
ORGANIZER;CN="RSGYC Social & Catering":MAILTO:booking@rsgyc.ie
GEO:53.2943958;-6.1338666
X-APPLE-STRUCTURED-LOCATION;VALUE=URI;X-ADDRESS=Royal St George Yacht Club Dun Laoghaire Dublin Dublin A96 AY77 Ireland;X-APPLE-RADIUS=500;X-TITLE=Dun Laoghaire:geo:-6.1338666,53.2943958
END:VEVENT
BEGIN:VEVENT
DTSTART;VALUE=DATE:20261025
DTEND;VALUE=DATE:20261026
DTSTAMP:20260426T035408
CREATED:20230914T124051Z
LAST-MODIFIED:20230914T124136Z
UID:10017045-1792886400-1792969199@rsgyc.ie
SUMMARY:Cafe + Bar
DESCRIPTION:Boardwalk Cafe Open from 9.00 – 16.30 \nBar open from 12.00 – 20.00
URL:https://rsgyc.ie/event/cafe-bar-4/2026-10-25/
LOCATION:Royal St George Yacht Club\, Dun Laoghaire\, Dublin\, Dublin\, A96 AY77\, Ireland
ORGANIZER;CN="RSGYC Social & Catering":MAILTO:booking@rsgyc.ie
GEO:53.2943958;-6.1338666
X-APPLE-STRUCTURED-LOCATION;VALUE=URI;X-ADDRESS=Royal St George Yacht Club Dun Laoghaire Dublin Dublin A96 AY77 Ireland;X-APPLE-RADIUS=500;X-TITLE=Dun Laoghaire:geo:-6.1338666,53.2943958
END:VEVENT
BEGIN:VEVENT
DTSTART;VALUE=DATE:20261101
DTEND;VALUE=DATE:20261102
DTSTAMP:20260426T035408
CREATED:20230914T124051Z
LAST-MODIFIED:20230914T124136Z
UID:10017046-1793491200-1793577599@rsgyc.ie
SUMMARY:Cafe + Bar
DESCRIPTION:Boardwalk Cafe Open from 9.00 – 16.30 \nBar open from 12.00 – 20.00
URL:https://rsgyc.ie/event/cafe-bar-4/2026-11-01/
LOCATION:Royal St George Yacht Club\, Dun Laoghaire\, Dublin\, Dublin\, A96 AY77\, Ireland
ORGANIZER;CN="RSGYC Social & Catering":MAILTO:booking@rsgyc.ie
GEO:53.2943958;-6.1338666
X-APPLE-STRUCTURED-LOCATION;VALUE=URI;X-ADDRESS=Royal St George Yacht Club Dun Laoghaire Dublin Dublin A96 AY77 Ireland;X-APPLE-RADIUS=500;X-TITLE=Dun Laoghaire:geo:-6.1338666,53.2943958
END:VEVENT
BEGIN:VEVENT
DTSTART;VALUE=DATE:20261108
DTEND;VALUE=DATE:20261109
DTSTAMP:20260426T035408
CREATED:20230914T124051Z
LAST-MODIFIED:20230914T124136Z
UID:10017047-1794096000-1794182399@rsgyc.ie
SUMMARY:Cafe + Bar
DESCRIPTION:Boardwalk Cafe Open from 9.00 – 16.30 \nBar open from 12.00 – 20.00
URL:https://rsgyc.ie/event/cafe-bar-4/2026-11-08/
LOCATION:Royal St George Yacht Club\, Dun Laoghaire\, Dublin\, Dublin\, A96 AY77\, Ireland
ORGANIZER;CN="RSGYC Social & Catering":MAILTO:booking@rsgyc.ie
GEO:53.2943958;-6.1338666
X-APPLE-STRUCTURED-LOCATION;VALUE=URI;X-ADDRESS=Royal St George Yacht Club Dun Laoghaire Dublin Dublin A96 AY77 Ireland;X-APPLE-RADIUS=500;X-TITLE=Dun Laoghaire:geo:-6.1338666,53.2943958
END:VEVENT
BEGIN:VEVENT
DTSTART;VALUE=DATE:20261115
DTEND;VALUE=DATE:20261116
DTSTAMP:20260426T035409
CREATED:20230914T124051Z
LAST-MODIFIED:20230914T124136Z
UID:10017048-1794700800-1794787199@rsgyc.ie
SUMMARY:Cafe + Bar
DESCRIPTION:Boardwalk Cafe Open from 9.00 – 16.30 \nBar open from 12.00 – 20.00
URL:https://rsgyc.ie/event/cafe-bar-4/2026-11-15/
LOCATION:Royal St George Yacht Club\, Dun Laoghaire\, Dublin\, Dublin\, A96 AY77\, Ireland
ORGANIZER;CN="RSGYC Social & Catering":MAILTO:booking@rsgyc.ie
GEO:53.2943958;-6.1338666
X-APPLE-STRUCTURED-LOCATION;VALUE=URI;X-ADDRESS=Royal St George Yacht Club Dun Laoghaire Dublin Dublin A96 AY77 Ireland;X-APPLE-RADIUS=500;X-TITLE=Dun Laoghaire:geo:-6.1338666,53.2943958
END:VEVENT
BEGIN:VEVENT
DTSTART;VALUE=DATE:20261122
DTEND;VALUE=DATE:20261123
DTSTAMP:20260426T035409
CREATED:20230914T124051Z
LAST-MODIFIED:20230914T124136Z
UID:10017049-1795305600-1795391999@rsgyc.ie
SUMMARY:Cafe + Bar
DESCRIPTION:Boardwalk Cafe Open from 9.00 – 16.30 \nBar open from 12.00 – 20.00
URL:https://rsgyc.ie/event/cafe-bar-4/2026-11-22/
LOCATION:Royal St George Yacht Club\, Dun Laoghaire\, Dublin\, Dublin\, A96 AY77\, Ireland
ORGANIZER;CN="RSGYC Social & Catering":MAILTO:booking@rsgyc.ie
GEO:53.2943958;-6.1338666
X-APPLE-STRUCTURED-LOCATION;VALUE=URI;X-ADDRESS=Royal St George Yacht Club Dun Laoghaire Dublin Dublin A96 AY77 Ireland;X-APPLE-RADIUS=500;X-TITLE=Dun Laoghaire:geo:-6.1338666,53.2943958
END:VEVENT
BEGIN:VEVENT
DTSTART;VALUE=DATE:20261129
DTEND;VALUE=DATE:20261130
DTSTAMP:20260426T035409
CREATED:20230914T124051Z
LAST-MODIFIED:20230914T124136Z
UID:10017050-1795910400-1795996799@rsgyc.ie
SUMMARY:Cafe + Bar
DESCRIPTION:Boardwalk Cafe Open from 9.00 – 16.30 \nBar open from 12.00 – 20.00
URL:https://rsgyc.ie/event/cafe-bar-4/2026-11-29/
LOCATION:Royal St George Yacht Club\, Dun Laoghaire\, Dublin\, Dublin\, A96 AY77\, Ireland
ORGANIZER;CN="RSGYC Social & Catering":MAILTO:booking@rsgyc.ie
GEO:53.2943958;-6.1338666
X-APPLE-STRUCTURED-LOCATION;VALUE=URI;X-ADDRESS=Royal St George Yacht Club Dun Laoghaire Dublin Dublin A96 AY77 Ireland;X-APPLE-RADIUS=500;X-TITLE=Dun Laoghaire:geo:-6.1338666,53.2943958
END:VEVENT
BEGIN:VEVENT
DTSTART;VALUE=DATE:20261206
DTEND;VALUE=DATE:20261207
DTSTAMP:20260426T035409
CREATED:20230914T124051Z
LAST-MODIFIED:20230914T124136Z
UID:10017051-1796515200-1796601599@rsgyc.ie
SUMMARY:Cafe + Bar
DESCRIPTION:Boardwalk Cafe Open from 9.00 – 16.30 \nBar open from 12.00 – 20.00
URL:https://rsgyc.ie/event/cafe-bar-4/2026-12-06/
LOCATION:Royal St George Yacht Club\, Dun Laoghaire\, Dublin\, Dublin\, A96 AY77\, Ireland
ORGANIZER;CN="RSGYC Social & Catering":MAILTO:booking@rsgyc.ie
GEO:53.2943958;-6.1338666
X-APPLE-STRUCTURED-LOCATION;VALUE=URI;X-ADDRESS=Royal St George Yacht Club Dun Laoghaire Dublin Dublin A96 AY77 Ireland;X-APPLE-RADIUS=500;X-TITLE=Dun Laoghaire:geo:-6.1338666,53.2943958
END:VEVENT
BEGIN:VEVENT
DTSTART;VALUE=DATE:20261213
DTEND;VALUE=DATE:20261214
DTSTAMP:20260426T035409
CREATED:20230914T124051Z
LAST-MODIFIED:20230914T124136Z
UID:10017052-1797120000-1797206399@rsgyc.ie
SUMMARY:Cafe + Bar
DESCRIPTION:Boardwalk Cafe Open from 9.00 – 16.30 \nBar open from 12.00 – 20.00
URL:https://rsgyc.ie/event/cafe-bar-4/2026-12-13/
LOCATION:Royal St George Yacht Club\, Dun Laoghaire\, Dublin\, Dublin\, A96 AY77\, Ireland
ORGANIZER;CN="RSGYC Social & Catering":MAILTO:booking@rsgyc.ie
GEO:53.2943958;-6.1338666
X-APPLE-STRUCTURED-LOCATION;VALUE=URI;X-ADDRESS=Royal St George Yacht Club Dun Laoghaire Dublin Dublin A96 AY77 Ireland;X-APPLE-RADIUS=500;X-TITLE=Dun Laoghaire:geo:-6.1338666,53.2943958
END:VEVENT
BEGIN:VEVENT
DTSTART;VALUE=DATE:20261220
DTEND;VALUE=DATE:20261221
DTSTAMP:20260426T035409
CREATED:20230914T124051Z
LAST-MODIFIED:20230914T124136Z
UID:10017053-1797724800-1797811199@rsgyc.ie
SUMMARY:Cafe + Bar
DESCRIPTION:Boardwalk Cafe Open from 9.00 – 16.30 \nBar open from 12.00 – 20.00
URL:https://rsgyc.ie/event/cafe-bar-4/2026-12-20/
LOCATION:Royal St George Yacht Club\, Dun Laoghaire\, Dublin\, Dublin\, A96 AY77\, Ireland
ORGANIZER;CN="RSGYC Social & Catering":MAILTO:booking@rsgyc.ie
GEO:53.2943958;-6.1338666
X-APPLE-STRUCTURED-LOCATION;VALUE=URI;X-ADDRESS=Royal St George Yacht Club Dun Laoghaire Dublin Dublin A96 AY77 Ireland;X-APPLE-RADIUS=500;X-TITLE=Dun Laoghaire:geo:-6.1338666,53.2943958
END:VEVENT
BEGIN:VEVENT
DTSTART;VALUE=DATE:20261227
DTEND;VALUE=DATE:20261228
DTSTAMP:20260426T035409
CREATED:20230914T124051Z
LAST-MODIFIED:20230914T124136Z
UID:10017054-1798329600-1798415999@rsgyc.ie
SUMMARY:Cafe + Bar
DESCRIPTION:Boardwalk Cafe Open from 9.00 – 16.30 \nBar open from 12.00 – 20.00
URL:https://rsgyc.ie/event/cafe-bar-4/2026-12-27/
LOCATION:Royal St George Yacht Club\, Dun Laoghaire\, Dublin\, Dublin\, A96 AY77\, Ireland
ORGANIZER;CN="RSGYC Social & Catering":MAILTO:booking@rsgyc.ie
GEO:53.2943958;-6.1338666
X-APPLE-STRUCTURED-LOCATION;VALUE=URI;X-ADDRESS=Royal St George Yacht Club Dun Laoghaire Dublin Dublin A96 AY77 Ireland;X-APPLE-RADIUS=500;X-TITLE=Dun Laoghaire:geo:-6.1338666,53.2943958
END:VEVENT
BEGIN:VEVENT
DTSTART;VALUE=DATE:20270103
DTEND;VALUE=DATE:20270104
DTSTAMP:20260426T035409
CREATED:20230914T124051Z
LAST-MODIFIED:20230914T124136Z
UID:10017055-1798934400-1799020799@rsgyc.ie
SUMMARY:Cafe + Bar
DESCRIPTION:Boardwalk Cafe Open from 9.00 – 16.30 \nBar open from 12.00 – 20.00
URL:https://rsgyc.ie/event/cafe-bar-4/2027-01-03/
LOCATION:Royal St George Yacht Club\, Dun Laoghaire\, Dublin\, Dublin\, A96 AY77\, Ireland
ORGANIZER;CN="RSGYC Social & Catering":MAILTO:booking@rsgyc.ie
GEO:53.2943958;-6.1338666
X-APPLE-STRUCTURED-LOCATION;VALUE=URI;X-ADDRESS=Royal St George Yacht Club Dun Laoghaire Dublin Dublin A96 AY77 Ireland;X-APPLE-RADIUS=500;X-TITLE=Dun Laoghaire:geo:-6.1338666,53.2943958
END:VEVENT
BEGIN:VEVENT
DTSTART;VALUE=DATE:20270110
DTEND;VALUE=DATE:20270111
DTSTAMP:20260426T035409
CREATED:20230914T124051Z
LAST-MODIFIED:20230914T124136Z
UID:10017056-1799539200-1799625599@rsgyc.ie
SUMMARY:Cafe + Bar
DESCRIPTION:Boardwalk Cafe Open from 9.00 – 16.30 \nBar open from 12.00 – 20.00
URL:https://rsgyc.ie/event/cafe-bar-4/2027-01-10/
LOCATION:Royal St George Yacht Club\, Dun Laoghaire\, Dublin\, Dublin\, A96 AY77\, Ireland
ORGANIZER;CN="RSGYC Social & Catering":MAILTO:booking@rsgyc.ie
GEO:53.2943958;-6.1338666
X-APPLE-STRUCTURED-LOCATION;VALUE=URI;X-ADDRESS=Royal St George Yacht Club Dun Laoghaire Dublin Dublin A96 AY77 Ireland;X-APPLE-RADIUS=500;X-TITLE=Dun Laoghaire:geo:-6.1338666,53.2943958
END:VEVENT
BEGIN:VEVENT
DTSTART;VALUE=DATE:20270117
DTEND;VALUE=DATE:20270118
DTSTAMP:20260426T035409
CREATED:20230914T124051Z
LAST-MODIFIED:20230914T124136Z
UID:10017057-1800144000-1800230399@rsgyc.ie
SUMMARY:Cafe + Bar
DESCRIPTION:Boardwalk Cafe Open from 9.00 – 16.30 \nBar open from 12.00 – 20.00
URL:https://rsgyc.ie/event/cafe-bar-4/2027-01-17/
LOCATION:Royal St George Yacht Club\, Dun Laoghaire\, Dublin\, Dublin\, A96 AY77\, Ireland
ORGANIZER;CN="RSGYC Social & Catering":MAILTO:booking@rsgyc.ie
GEO:53.2943958;-6.1338666
X-APPLE-STRUCTURED-LOCATION;VALUE=URI;X-ADDRESS=Royal St George Yacht Club Dun Laoghaire Dublin Dublin A96 AY77 Ireland;X-APPLE-RADIUS=500;X-TITLE=Dun Laoghaire:geo:-6.1338666,53.2943958
END:VEVENT
BEGIN:VEVENT
DTSTART;VALUE=DATE:20270124
DTEND;VALUE=DATE:20270125
DTSTAMP:20260426T035409
CREATED:20230914T124051Z
LAST-MODIFIED:20230914T124136Z
UID:10017058-1800748800-1800835199@rsgyc.ie
SUMMARY:Cafe + Bar
DESCRIPTION:Boardwalk Cafe Open from 9.00 – 16.30 \nBar open from 12.00 – 20.00
URL:https://rsgyc.ie/event/cafe-bar-4/2027-01-24/
LOCATION:Royal St George Yacht Club\, Dun Laoghaire\, Dublin\, Dublin\, A96 AY77\, Ireland
ORGANIZER;CN="RSGYC Social & Catering":MAILTO:booking@rsgyc.ie
GEO:53.2943958;-6.1338666
X-APPLE-STRUCTURED-LOCATION;VALUE=URI;X-ADDRESS=Royal St George Yacht Club Dun Laoghaire Dublin Dublin A96 AY77 Ireland;X-APPLE-RADIUS=500;X-TITLE=Dun Laoghaire:geo:-6.1338666,53.2943958
END:VEVENT
END:VCALENDAR