BEGIN:VCALENDAR
VERSION:2.0
PRODID:-//Royal St George Yacht Club - ECPv6.15.20//NONSGML v1.0//EN
CALSCALE:GREGORIAN
METHOD:PUBLISH
X-WR-CALNAME:Royal St George Yacht Club
X-ORIGINAL-URL:https://rsgyc.ie
X-WR-CALDESC:Events for Royal St George Yacht Club
REFRESH-INTERVAL;VALUE=DURATION:PT1H
X-Robots-Tag:noindex
X-PUBLISHED-TTL:PT1H
BEGIN:VTIMEZONE
TZID:Europe/Dublin
BEGIN:STANDARD
TZOFFSETFROM:+0000
TZOFFSETTO:+0100
TZNAME:IST
DTSTART:20250330T010000
END:STANDARD
BEGIN:DAYLIGHT
TZOFFSETFROM:+0100
TZOFFSETTO:+0000
TZNAME:GMT
DTSTART:20251026T010000
END:DAYLIGHT
BEGIN:STANDARD
TZOFFSETFROM:+0000
TZOFFSETTO:+0100
TZNAME:IST
DTSTART:20260329T010000
END:STANDARD
BEGIN:DAYLIGHT
TZOFFSETFROM:+0100
TZOFFSETTO:+0000
TZNAME:GMT
DTSTART:20261025T010000
END:DAYLIGHT
BEGIN:STANDARD
TZOFFSETFROM:+0000
TZOFFSETTO:+0100
TZNAME:IST
DTSTART:20270328T010000
END:STANDARD
BEGIN:DAYLIGHT
TZOFFSETFROM:+0100
TZOFFSETTO:+0000
TZNAME:GMT
DTSTART:20271031T010000
END:DAYLIGHT
END:VTIMEZONE
BEGIN:VEVENT
DTSTART;VALUE=DATE:20261025
DTEND;VALUE=DATE:20261026
DTSTAMP:20260425T202130
CREATED:20240809T160932Z
LAST-MODIFIED:20240809T160933Z
UID:10018258-1792886400-1792969199@rsgyc.ie
SUMMARY:Catering Options
DESCRIPTION:Please click link for Catering Options: Here
URL:https://rsgyc.ie/event/dining-2-2-7/2026-10-25/
LOCATION:Royal St George Yacht Club\, Dun Laoghaire\, Dublin\, Dublin\, A96 AY77\, Ireland
ORGANIZER;CN="RSGYC Social & Catering":MAILTO:booking@rsgyc.ie
GEO:53.2943958;-6.1338666
X-APPLE-STRUCTURED-LOCATION;VALUE=URI;X-ADDRESS=Royal St George Yacht Club Dun Laoghaire Dublin Dublin A96 AY77 Ireland;X-APPLE-RADIUS=500;X-TITLE=Dun Laoghaire:geo:-6.1338666,53.2943958
END:VEVENT
BEGIN:VEVENT
DTSTART;VALUE=DATE:20261026
DTEND;VALUE=DATE:20261027
DTSTAMP:20260425T202130
CREATED:20240809T160932Z
LAST-MODIFIED:20240809T160933Z
UID:10017306-1792972800-1793059199@rsgyc.ie
SUMMARY:Catering Options
DESCRIPTION:Please click link for Catering Options: Here
URL:https://rsgyc.ie/event/dining-2-2-7/2026-10-26/
LOCATION:Royal St George Yacht Club\, Dun Laoghaire\, Dublin\, Dublin\, A96 AY77\, Ireland
ORGANIZER;CN="RSGYC Social & Catering":MAILTO:booking@rsgyc.ie
GEO:53.2943958;-6.1338666
X-APPLE-STRUCTURED-LOCATION;VALUE=URI;X-ADDRESS=Royal St George Yacht Club Dun Laoghaire Dublin Dublin A96 AY77 Ireland;X-APPLE-RADIUS=500;X-TITLE=Dun Laoghaire:geo:-6.1338666,53.2943958
END:VEVENT
BEGIN:VEVENT
DTSTART;VALUE=DATE:20261027
DTEND;VALUE=DATE:20261028
DTSTAMP:20260425T202130
CREATED:20240809T160932Z
LAST-MODIFIED:20240809T160933Z
UID:10018259-1793059200-1793145599@rsgyc.ie
SUMMARY:Catering Options
DESCRIPTION:Please click link for Catering Options: Here
URL:https://rsgyc.ie/event/dining-2-2-7/2026-10-27/
LOCATION:Royal St George Yacht Club\, Dun Laoghaire\, Dublin\, Dublin\, A96 AY77\, Ireland
ORGANIZER;CN="RSGYC Social & Catering":MAILTO:booking@rsgyc.ie
GEO:53.2943958;-6.1338666
X-APPLE-STRUCTURED-LOCATION;VALUE=URI;X-ADDRESS=Royal St George Yacht Club Dun Laoghaire Dublin Dublin A96 AY77 Ireland;X-APPLE-RADIUS=500;X-TITLE=Dun Laoghaire:geo:-6.1338666,53.2943958
END:VEVENT
BEGIN:VEVENT
DTSTART;VALUE=DATE:20261028
DTEND;VALUE=DATE:20261029
DTSTAMP:20260425T202130
CREATED:20240809T160932Z
LAST-MODIFIED:20240809T160933Z
UID:10018260-1793145600-1793231999@rsgyc.ie
SUMMARY:Catering Options
DESCRIPTION:Please click link for Catering Options: Here
URL:https://rsgyc.ie/event/dining-2-2-7/2026-10-28/
LOCATION:Royal St George Yacht Club\, Dun Laoghaire\, Dublin\, Dublin\, A96 AY77\, Ireland
ORGANIZER;CN="RSGYC Social & Catering":MAILTO:booking@rsgyc.ie
GEO:53.2943958;-6.1338666
X-APPLE-STRUCTURED-LOCATION;VALUE=URI;X-ADDRESS=Royal St George Yacht Club Dun Laoghaire Dublin Dublin A96 AY77 Ireland;X-APPLE-RADIUS=500;X-TITLE=Dun Laoghaire:geo:-6.1338666,53.2943958
END:VEVENT
BEGIN:VEVENT
DTSTART;VALUE=DATE:20261029
DTEND;VALUE=DATE:20261030
DTSTAMP:20260425T202130
CREATED:20230914T123231Z
LAST-MODIFIED:20230914T123231Z
UID:10015738-1793232000-1793318399@rsgyc.ie
SUMMARY:Cafe + Bar
DESCRIPTION:Boardwalk Cafe open from 9.00 – 15.30 \nBar open from 12.00
URL:https://rsgyc.ie/event/cafe-bar/2026-10-29/
LOCATION:Royal St George Yacht Club\, Dun Laoghaire\, Dublin\, Dublin\, A96 AY77\, Ireland
ORGANIZER;CN="RSGYC Social & Catering":MAILTO:booking@rsgyc.ie
GEO:53.2943958;-6.1338666
X-APPLE-STRUCTURED-LOCATION;VALUE=URI;X-ADDRESS=Royal St George Yacht Club Dun Laoghaire Dublin Dublin A96 AY77 Ireland;X-APPLE-RADIUS=500;X-TITLE=Dun Laoghaire:geo:-6.1338666,53.2943958
END:VEVENT
BEGIN:VEVENT
DTSTART;VALUE=DATE:20261029
DTEND;VALUE=DATE:20261030
DTSTAMP:20260425T202130
CREATED:20240809T160932Z
LAST-MODIFIED:20240809T160933Z
UID:10018261-1793232000-1793318399@rsgyc.ie
SUMMARY:Catering Options
DESCRIPTION:Please click link for Catering Options: Here
URL:https://rsgyc.ie/event/dining-2-2-7/2026-10-29/
LOCATION:Royal St George Yacht Club\, Dun Laoghaire\, Dublin\, Dublin\, A96 AY77\, Ireland
ORGANIZER;CN="RSGYC Social & Catering":MAILTO:booking@rsgyc.ie
GEO:53.2943958;-6.1338666
X-APPLE-STRUCTURED-LOCATION;VALUE=URI;X-ADDRESS=Royal St George Yacht Club Dun Laoghaire Dublin Dublin A96 AY77 Ireland;X-APPLE-RADIUS=500;X-TITLE=Dun Laoghaire:geo:-6.1338666,53.2943958
END:VEVENT
BEGIN:VEVENT
DTSTART;VALUE=DATE:20261030
DTEND;VALUE=DATE:20261031
DTSTAMP:20260425T202130
CREATED:20230914T123758Z
LAST-MODIFIED:20230914T123758Z
UID:10016263-1793318400-1793404799@rsgyc.ie
SUMMARY:Cafe + Bar
DESCRIPTION:Boardwalk Cafe open from 9.00 – 15.30 \nBar open from 12.00
URL:https://rsgyc.ie/event/cafe-bar-2/2026-10-30/
LOCATION:Royal St George Yacht Club\, Dun Laoghaire\, Dublin\, Dublin\, A96 AY77\, Ireland
ORGANIZER;CN="RSGYC Social & Catering":MAILTO:booking@rsgyc.ie
GEO:53.2943958;-6.1338666
X-APPLE-STRUCTURED-LOCATION;VALUE=URI;X-ADDRESS=Royal St George Yacht Club Dun Laoghaire Dublin Dublin A96 AY77 Ireland;X-APPLE-RADIUS=500;X-TITLE=Dun Laoghaire:geo:-6.1338666,53.2943958
END:VEVENT
BEGIN:VEVENT
DTSTART;VALUE=DATE:20261030
DTEND;VALUE=DATE:20261031
DTSTAMP:20260425T202130
CREATED:20240809T160932Z
LAST-MODIFIED:20240809T160933Z
UID:10018262-1793318400-1793404799@rsgyc.ie
SUMMARY:Catering Options
DESCRIPTION:Please click link for Catering Options: Here
URL:https://rsgyc.ie/event/dining-2-2-7/2026-10-30/
LOCATION:Royal St George Yacht Club\, Dun Laoghaire\, Dublin\, Dublin\, A96 AY77\, Ireland
ORGANIZER;CN="RSGYC Social & Catering":MAILTO:booking@rsgyc.ie
GEO:53.2943958;-6.1338666
X-APPLE-STRUCTURED-LOCATION;VALUE=URI;X-ADDRESS=Royal St George Yacht Club Dun Laoghaire Dublin Dublin A96 AY77 Ireland;X-APPLE-RADIUS=500;X-TITLE=Dun Laoghaire:geo:-6.1338666,53.2943958
END:VEVENT
BEGIN:VEVENT
DTSTART;VALUE=DATE:20261031
DTEND;VALUE=DATE:20261101
DTSTAMP:20260425T202130
CREATED:20230914T123951Z
LAST-MODIFIED:20230914T123951Z
UID:10016524-1793404800-1793491199@rsgyc.ie
SUMMARY:Cafe + Bar
DESCRIPTION:Boardwalk Cafe open from 9.00 – 16.30 \nBar open from 12.00
URL:https://rsgyc.ie/event/cafe-bar-3/2026-10-31/
LOCATION:Royal St George Yacht Club\, Dun Laoghaire\, Dublin\, Dublin\, A96 AY77\, Ireland
ORGANIZER;CN="RSGYC Social & Catering":MAILTO:booking@rsgyc.ie
GEO:53.2943958;-6.1338666
X-APPLE-STRUCTURED-LOCATION;VALUE=URI;X-ADDRESS=Royal St George Yacht Club Dun Laoghaire Dublin Dublin A96 AY77 Ireland;X-APPLE-RADIUS=500;X-TITLE=Dun Laoghaire:geo:-6.1338666,53.2943958
END:VEVENT
BEGIN:VEVENT
DTSTART;VALUE=DATE:20261031
DTEND;VALUE=DATE:20261101
DTSTAMP:20260425T202130
CREATED:20240809T160932Z
LAST-MODIFIED:20240809T160933Z
UID:10018263-1793404800-1793491199@rsgyc.ie
SUMMARY:Catering Options
DESCRIPTION:Please click link for Catering Options: Here
URL:https://rsgyc.ie/event/dining-2-2-7/2026-10-31/
LOCATION:Royal St George Yacht Club\, Dun Laoghaire\, Dublin\, Dublin\, A96 AY77\, Ireland
ORGANIZER;CN="RSGYC Social & Catering":MAILTO:booking@rsgyc.ie
GEO:53.2943958;-6.1338666
X-APPLE-STRUCTURED-LOCATION;VALUE=URI;X-ADDRESS=Royal St George Yacht Club Dun Laoghaire Dublin Dublin A96 AY77 Ireland;X-APPLE-RADIUS=500;X-TITLE=Dun Laoghaire:geo:-6.1338666,53.2943958
END:VEVENT
BEGIN:VEVENT
DTSTART;VALUE=DATE:20261101
DTEND;VALUE=DATE:20261102
DTSTAMP:20260425T202130
CREATED:20230914T124051Z
LAST-MODIFIED:20230914T124136Z
UID:10017046-1793491200-1793577599@rsgyc.ie
SUMMARY:Cafe + Bar
DESCRIPTION:Boardwalk Cafe Open from 9.00 – 16.30 \nBar open from 12.00 – 20.00
URL:https://rsgyc.ie/event/cafe-bar-4/2026-11-01/
LOCATION:Royal St George Yacht Club\, Dun Laoghaire\, Dublin\, Dublin\, A96 AY77\, Ireland
ORGANIZER;CN="RSGYC Social & Catering":MAILTO:booking@rsgyc.ie
GEO:53.2943958;-6.1338666
X-APPLE-STRUCTURED-LOCATION;VALUE=URI;X-ADDRESS=Royal St George Yacht Club Dun Laoghaire Dublin Dublin A96 AY77 Ireland;X-APPLE-RADIUS=500;X-TITLE=Dun Laoghaire:geo:-6.1338666,53.2943958
END:VEVENT
BEGIN:VEVENT
DTSTART;VALUE=DATE:20261101
DTEND;VALUE=DATE:20261102
DTSTAMP:20260425T202130
CREATED:20240809T160932Z
LAST-MODIFIED:20240809T160933Z
UID:10018264-1793491200-1793577599@rsgyc.ie
SUMMARY:Catering Options
DESCRIPTION:Please click link for Catering Options: Here
URL:https://rsgyc.ie/event/dining-2-2-7/2026-11-01/
LOCATION:Royal St George Yacht Club\, Dun Laoghaire\, Dublin\, Dublin\, A96 AY77\, Ireland
ORGANIZER;CN="RSGYC Social & Catering":MAILTO:booking@rsgyc.ie
GEO:53.2943958;-6.1338666
X-APPLE-STRUCTURED-LOCATION;VALUE=URI;X-ADDRESS=Royal St George Yacht Club Dun Laoghaire Dublin Dublin A96 AY77 Ireland;X-APPLE-RADIUS=500;X-TITLE=Dun Laoghaire:geo:-6.1338666,53.2943958
END:VEVENT
BEGIN:VEVENT
DTSTART;VALUE=DATE:20261102
DTEND;VALUE=DATE:20261103
DTSTAMP:20260425T202130
CREATED:20240809T160932Z
LAST-MODIFIED:20240809T160933Z
UID:10017307-1793577600-1793663999@rsgyc.ie
SUMMARY:Catering Options
DESCRIPTION:Please click link for Catering Options: Here
URL:https://rsgyc.ie/event/dining-2-2-7/2026-11-02/
LOCATION:Royal St George Yacht Club\, Dun Laoghaire\, Dublin\, Dublin\, A96 AY77\, Ireland
ORGANIZER;CN="RSGYC Social & Catering":MAILTO:booking@rsgyc.ie
GEO:53.2943958;-6.1338666
X-APPLE-STRUCTURED-LOCATION;VALUE=URI;X-ADDRESS=Royal St George Yacht Club Dun Laoghaire Dublin Dublin A96 AY77 Ireland;X-APPLE-RADIUS=500;X-TITLE=Dun Laoghaire:geo:-6.1338666,53.2943958
END:VEVENT
BEGIN:VEVENT
DTSTART;VALUE=DATE:20261103
DTEND;VALUE=DATE:20261104
DTSTAMP:20260425T202130
CREATED:20240809T160932Z
LAST-MODIFIED:20240809T160933Z
UID:10018265-1793664000-1793750399@rsgyc.ie
SUMMARY:Catering Options
DESCRIPTION:Please click link for Catering Options: Here
URL:https://rsgyc.ie/event/dining-2-2-7/2026-11-03/
LOCATION:Royal St George Yacht Club\, Dun Laoghaire\, Dublin\, Dublin\, A96 AY77\, Ireland
ORGANIZER;CN="RSGYC Social & Catering":MAILTO:booking@rsgyc.ie
GEO:53.2943958;-6.1338666
X-APPLE-STRUCTURED-LOCATION;VALUE=URI;X-ADDRESS=Royal St George Yacht Club Dun Laoghaire Dublin Dublin A96 AY77 Ireland;X-APPLE-RADIUS=500;X-TITLE=Dun Laoghaire:geo:-6.1338666,53.2943958
END:VEVENT
BEGIN:VEVENT
DTSTART;VALUE=DATE:20261104
DTEND;VALUE=DATE:20261105
DTSTAMP:20260425T202130
CREATED:20240809T160932Z
LAST-MODIFIED:20240809T160933Z
UID:10018266-1793750400-1793836799@rsgyc.ie
SUMMARY:Catering Options
DESCRIPTION:Please click link for Catering Options: Here
URL:https://rsgyc.ie/event/dining-2-2-7/2026-11-04/
LOCATION:Royal St George Yacht Club\, Dun Laoghaire\, Dublin\, Dublin\, A96 AY77\, Ireland
ORGANIZER;CN="RSGYC Social & Catering":MAILTO:booking@rsgyc.ie
GEO:53.2943958;-6.1338666
X-APPLE-STRUCTURED-LOCATION;VALUE=URI;X-ADDRESS=Royal St George Yacht Club Dun Laoghaire Dublin Dublin A96 AY77 Ireland;X-APPLE-RADIUS=500;X-TITLE=Dun Laoghaire:geo:-6.1338666,53.2943958
END:VEVENT
BEGIN:VEVENT
DTSTART;VALUE=DATE:20261105
DTEND;VALUE=DATE:20261106
DTSTAMP:20260425T202130
CREATED:20230914T123231Z
LAST-MODIFIED:20230914T123231Z
UID:10015739-1793836800-1793923199@rsgyc.ie
SUMMARY:Cafe + Bar
DESCRIPTION:Boardwalk Cafe open from 9.00 – 15.30 \nBar open from 12.00
URL:https://rsgyc.ie/event/cafe-bar/2026-11-05/
LOCATION:Royal St George Yacht Club\, Dun Laoghaire\, Dublin\, Dublin\, A96 AY77\, Ireland
ORGANIZER;CN="RSGYC Social & Catering":MAILTO:booking@rsgyc.ie
GEO:53.2943958;-6.1338666
X-APPLE-STRUCTURED-LOCATION;VALUE=URI;X-ADDRESS=Royal St George Yacht Club Dun Laoghaire Dublin Dublin A96 AY77 Ireland;X-APPLE-RADIUS=500;X-TITLE=Dun Laoghaire:geo:-6.1338666,53.2943958
END:VEVENT
BEGIN:VEVENT
DTSTART;VALUE=DATE:20261105
DTEND;VALUE=DATE:20261106
DTSTAMP:20260425T202130
CREATED:20240809T160932Z
LAST-MODIFIED:20240809T160933Z
UID:10018267-1793836800-1793923199@rsgyc.ie
SUMMARY:Catering Options
DESCRIPTION:Please click link for Catering Options: Here
URL:https://rsgyc.ie/event/dining-2-2-7/2026-11-05/
LOCATION:Royal St George Yacht Club\, Dun Laoghaire\, Dublin\, Dublin\, A96 AY77\, Ireland
ORGANIZER;CN="RSGYC Social & Catering":MAILTO:booking@rsgyc.ie
GEO:53.2943958;-6.1338666
X-APPLE-STRUCTURED-LOCATION;VALUE=URI;X-ADDRESS=Royal St George Yacht Club Dun Laoghaire Dublin Dublin A96 AY77 Ireland;X-APPLE-RADIUS=500;X-TITLE=Dun Laoghaire:geo:-6.1338666,53.2943958
END:VEVENT
BEGIN:VEVENT
DTSTART;VALUE=DATE:20261106
DTEND;VALUE=DATE:20261107
DTSTAMP:20260425T202130
CREATED:20230914T123758Z
LAST-MODIFIED:20230914T123758Z
UID:10016264-1793923200-1794009599@rsgyc.ie
SUMMARY:Cafe + Bar
DESCRIPTION:Boardwalk Cafe open from 9.00 – 15.30 \nBar open from 12.00
URL:https://rsgyc.ie/event/cafe-bar-2/2026-11-06/
LOCATION:Royal St George Yacht Club\, Dun Laoghaire\, Dublin\, Dublin\, A96 AY77\, Ireland
ORGANIZER;CN="RSGYC Social & Catering":MAILTO:booking@rsgyc.ie
GEO:53.2943958;-6.1338666
X-APPLE-STRUCTURED-LOCATION;VALUE=URI;X-ADDRESS=Royal St George Yacht Club Dun Laoghaire Dublin Dublin A96 AY77 Ireland;X-APPLE-RADIUS=500;X-TITLE=Dun Laoghaire:geo:-6.1338666,53.2943958
END:VEVENT
BEGIN:VEVENT
DTSTART;VALUE=DATE:20261106
DTEND;VALUE=DATE:20261107
DTSTAMP:20260425T202130
CREATED:20240809T160932Z
LAST-MODIFIED:20240809T160933Z
UID:10018268-1793923200-1794009599@rsgyc.ie
SUMMARY:Catering Options
DESCRIPTION:Please click link for Catering Options: Here
URL:https://rsgyc.ie/event/dining-2-2-7/2026-11-06/
LOCATION:Royal St George Yacht Club\, Dun Laoghaire\, Dublin\, Dublin\, A96 AY77\, Ireland
ORGANIZER;CN="RSGYC Social & Catering":MAILTO:booking@rsgyc.ie
GEO:53.2943958;-6.1338666
X-APPLE-STRUCTURED-LOCATION;VALUE=URI;X-ADDRESS=Royal St George Yacht Club Dun Laoghaire Dublin Dublin A96 AY77 Ireland;X-APPLE-RADIUS=500;X-TITLE=Dun Laoghaire:geo:-6.1338666,53.2943958
END:VEVENT
BEGIN:VEVENT
DTSTART;VALUE=DATE:20261107
DTEND;VALUE=DATE:20261108
DTSTAMP:20260425T202130
CREATED:20230914T123951Z
LAST-MODIFIED:20230914T123951Z
UID:10016525-1794009600-1794095999@rsgyc.ie
SUMMARY:Cafe + Bar
DESCRIPTION:Boardwalk Cafe open from 9.00 – 16.30 \nBar open from 12.00
URL:https://rsgyc.ie/event/cafe-bar-3/2026-11-07/
LOCATION:Royal St George Yacht Club\, Dun Laoghaire\, Dublin\, Dublin\, A96 AY77\, Ireland
ORGANIZER;CN="RSGYC Social & Catering":MAILTO:booking@rsgyc.ie
GEO:53.2943958;-6.1338666
X-APPLE-STRUCTURED-LOCATION;VALUE=URI;X-ADDRESS=Royal St George Yacht Club Dun Laoghaire Dublin Dublin A96 AY77 Ireland;X-APPLE-RADIUS=500;X-TITLE=Dun Laoghaire:geo:-6.1338666,53.2943958
END:VEVENT
BEGIN:VEVENT
DTSTART;VALUE=DATE:20261107
DTEND;VALUE=DATE:20261108
DTSTAMP:20260425T202130
CREATED:20240809T160932Z
LAST-MODIFIED:20240809T160933Z
UID:10018269-1794009600-1794095999@rsgyc.ie
SUMMARY:Catering Options
DESCRIPTION:Please click link for Catering Options: Here
URL:https://rsgyc.ie/event/dining-2-2-7/2026-11-07/
LOCATION:Royal St George Yacht Club\, Dun Laoghaire\, Dublin\, Dublin\, A96 AY77\, Ireland
ORGANIZER;CN="RSGYC Social & Catering":MAILTO:booking@rsgyc.ie
GEO:53.2943958;-6.1338666
X-APPLE-STRUCTURED-LOCATION;VALUE=URI;X-ADDRESS=Royal St George Yacht Club Dun Laoghaire Dublin Dublin A96 AY77 Ireland;X-APPLE-RADIUS=500;X-TITLE=Dun Laoghaire:geo:-6.1338666,53.2943958
END:VEVENT
BEGIN:VEVENT
DTSTART;VALUE=DATE:20261108
DTEND;VALUE=DATE:20261109
DTSTAMP:20260425T202130
CREATED:20230914T124051Z
LAST-MODIFIED:20230914T124136Z
UID:10017047-1794096000-1794182399@rsgyc.ie
SUMMARY:Cafe + Bar
DESCRIPTION:Boardwalk Cafe Open from 9.00 – 16.30 \nBar open from 12.00 – 20.00
URL:https://rsgyc.ie/event/cafe-bar-4/2026-11-08/
LOCATION:Royal St George Yacht Club\, Dun Laoghaire\, Dublin\, Dublin\, A96 AY77\, Ireland
ORGANIZER;CN="RSGYC Social & Catering":MAILTO:booking@rsgyc.ie
GEO:53.2943958;-6.1338666
X-APPLE-STRUCTURED-LOCATION;VALUE=URI;X-ADDRESS=Royal St George Yacht Club Dun Laoghaire Dublin Dublin A96 AY77 Ireland;X-APPLE-RADIUS=500;X-TITLE=Dun Laoghaire:geo:-6.1338666,53.2943958
END:VEVENT
BEGIN:VEVENT
DTSTART;VALUE=DATE:20261108
DTEND;VALUE=DATE:20261109
DTSTAMP:20260425T202130
CREATED:20240809T160932Z
LAST-MODIFIED:20240809T160933Z
UID:10018270-1794096000-1794182399@rsgyc.ie
SUMMARY:Catering Options
DESCRIPTION:Please click link for Catering Options: Here
URL:https://rsgyc.ie/event/dining-2-2-7/2026-11-08/
LOCATION:Royal St George Yacht Club\, Dun Laoghaire\, Dublin\, Dublin\, A96 AY77\, Ireland
ORGANIZER;CN="RSGYC Social & Catering":MAILTO:booking@rsgyc.ie
GEO:53.2943958;-6.1338666
X-APPLE-STRUCTURED-LOCATION;VALUE=URI;X-ADDRESS=Royal St George Yacht Club Dun Laoghaire Dublin Dublin A96 AY77 Ireland;X-APPLE-RADIUS=500;X-TITLE=Dun Laoghaire:geo:-6.1338666,53.2943958
END:VEVENT
BEGIN:VEVENT
DTSTART;VALUE=DATE:20261109
DTEND;VALUE=DATE:20261110
DTSTAMP:20260425T202130
CREATED:20240809T160932Z
LAST-MODIFIED:20240809T160933Z
UID:10017308-1794182400-1794268799@rsgyc.ie
SUMMARY:Catering Options
DESCRIPTION:Please click link for Catering Options: Here
URL:https://rsgyc.ie/event/dining-2-2-7/2026-11-09/
LOCATION:Royal St George Yacht Club\, Dun Laoghaire\, Dublin\, Dublin\, A96 AY77\, Ireland
ORGANIZER;CN="RSGYC Social & Catering":MAILTO:booking@rsgyc.ie
GEO:53.2943958;-6.1338666
X-APPLE-STRUCTURED-LOCATION;VALUE=URI;X-ADDRESS=Royal St George Yacht Club Dun Laoghaire Dublin Dublin A96 AY77 Ireland;X-APPLE-RADIUS=500;X-TITLE=Dun Laoghaire:geo:-6.1338666,53.2943958
END:VEVENT
BEGIN:VEVENT
DTSTART;VALUE=DATE:20261110
DTEND;VALUE=DATE:20261111
DTSTAMP:20260425T202130
CREATED:20240809T160932Z
LAST-MODIFIED:20240809T160933Z
UID:10018271-1794268800-1794355199@rsgyc.ie
SUMMARY:Catering Options
DESCRIPTION:Please click link for Catering Options: Here
URL:https://rsgyc.ie/event/dining-2-2-7/2026-11-10/
LOCATION:Royal St George Yacht Club\, Dun Laoghaire\, Dublin\, Dublin\, A96 AY77\, Ireland
ORGANIZER;CN="RSGYC Social & Catering":MAILTO:booking@rsgyc.ie
GEO:53.2943958;-6.1338666
X-APPLE-STRUCTURED-LOCATION;VALUE=URI;X-ADDRESS=Royal St George Yacht Club Dun Laoghaire Dublin Dublin A96 AY77 Ireland;X-APPLE-RADIUS=500;X-TITLE=Dun Laoghaire:geo:-6.1338666,53.2943958
END:VEVENT
BEGIN:VEVENT
DTSTART;VALUE=DATE:20261111
DTEND;VALUE=DATE:20261112
DTSTAMP:20260425T202130
CREATED:20240809T160932Z
LAST-MODIFIED:20240809T160933Z
UID:10018272-1794355200-1794441599@rsgyc.ie
SUMMARY:Catering Options
DESCRIPTION:Please click link for Catering Options: Here
URL:https://rsgyc.ie/event/dining-2-2-7/2026-11-11/
LOCATION:Royal St George Yacht Club\, Dun Laoghaire\, Dublin\, Dublin\, A96 AY77\, Ireland
ORGANIZER;CN="RSGYC Social & Catering":MAILTO:booking@rsgyc.ie
GEO:53.2943958;-6.1338666
X-APPLE-STRUCTURED-LOCATION;VALUE=URI;X-ADDRESS=Royal St George Yacht Club Dun Laoghaire Dublin Dublin A96 AY77 Ireland;X-APPLE-RADIUS=500;X-TITLE=Dun Laoghaire:geo:-6.1338666,53.2943958
END:VEVENT
BEGIN:VEVENT
DTSTART;VALUE=DATE:20261112
DTEND;VALUE=DATE:20261113
DTSTAMP:20260425T202130
CREATED:20230914T123231Z
LAST-MODIFIED:20230914T123231Z
UID:10015740-1794441600-1794527999@rsgyc.ie
SUMMARY:Cafe + Bar
DESCRIPTION:Boardwalk Cafe open from 9.00 – 15.30 \nBar open from 12.00
URL:https://rsgyc.ie/event/cafe-bar/2026-11-12/
LOCATION:Royal St George Yacht Club\, Dun Laoghaire\, Dublin\, Dublin\, A96 AY77\, Ireland
ORGANIZER;CN="RSGYC Social & Catering":MAILTO:booking@rsgyc.ie
GEO:53.2943958;-6.1338666
X-APPLE-STRUCTURED-LOCATION;VALUE=URI;X-ADDRESS=Royal St George Yacht Club Dun Laoghaire Dublin Dublin A96 AY77 Ireland;X-APPLE-RADIUS=500;X-TITLE=Dun Laoghaire:geo:-6.1338666,53.2943958
END:VEVENT
BEGIN:VEVENT
DTSTART;VALUE=DATE:20261112
DTEND;VALUE=DATE:20261113
DTSTAMP:20260425T202130
CREATED:20240809T160932Z
LAST-MODIFIED:20240809T160933Z
UID:10018273-1794441600-1794527999@rsgyc.ie
SUMMARY:Catering Options
DESCRIPTION:Please click link for Catering Options: Here
URL:https://rsgyc.ie/event/dining-2-2-7/2026-11-12/
LOCATION:Royal St George Yacht Club\, Dun Laoghaire\, Dublin\, Dublin\, A96 AY77\, Ireland
ORGANIZER;CN="RSGYC Social & Catering":MAILTO:booking@rsgyc.ie
GEO:53.2943958;-6.1338666
X-APPLE-STRUCTURED-LOCATION;VALUE=URI;X-ADDRESS=Royal St George Yacht Club Dun Laoghaire Dublin Dublin A96 AY77 Ireland;X-APPLE-RADIUS=500;X-TITLE=Dun Laoghaire:geo:-6.1338666,53.2943958
END:VEVENT
BEGIN:VEVENT
DTSTART;VALUE=DATE:20261113
DTEND;VALUE=DATE:20261114
DTSTAMP:20260425T202130
CREATED:20230914T123758Z
LAST-MODIFIED:20230914T123758Z
UID:10016265-1794528000-1794614399@rsgyc.ie
SUMMARY:Cafe + Bar
DESCRIPTION:Boardwalk Cafe open from 9.00 – 15.30 \nBar open from 12.00
URL:https://rsgyc.ie/event/cafe-bar-2/2026-11-13/
LOCATION:Royal St George Yacht Club\, Dun Laoghaire\, Dublin\, Dublin\, A96 AY77\, Ireland
ORGANIZER;CN="RSGYC Social & Catering":MAILTO:booking@rsgyc.ie
GEO:53.2943958;-6.1338666
X-APPLE-STRUCTURED-LOCATION;VALUE=URI;X-ADDRESS=Royal St George Yacht Club Dun Laoghaire Dublin Dublin A96 AY77 Ireland;X-APPLE-RADIUS=500;X-TITLE=Dun Laoghaire:geo:-6.1338666,53.2943958
END:VEVENT
BEGIN:VEVENT
DTSTART;VALUE=DATE:20261113
DTEND;VALUE=DATE:20261114
DTSTAMP:20260425T202130
CREATED:20240809T160932Z
LAST-MODIFIED:20240809T160933Z
UID:10018274-1794528000-1794614399@rsgyc.ie
SUMMARY:Catering Options
DESCRIPTION:Please click link for Catering Options: Here
URL:https://rsgyc.ie/event/dining-2-2-7/2026-11-13/
LOCATION:Royal St George Yacht Club\, Dun Laoghaire\, Dublin\, Dublin\, A96 AY77\, Ireland
ORGANIZER;CN="RSGYC Social & Catering":MAILTO:booking@rsgyc.ie
GEO:53.2943958;-6.1338666
X-APPLE-STRUCTURED-LOCATION;VALUE=URI;X-ADDRESS=Royal St George Yacht Club Dun Laoghaire Dublin Dublin A96 AY77 Ireland;X-APPLE-RADIUS=500;X-TITLE=Dun Laoghaire:geo:-6.1338666,53.2943958
END:VEVENT
END:VCALENDAR