BEGIN:VCALENDAR
VERSION:2.0
PRODID:-//Royal St George Yacht Club - ECPv6.15.20//NONSGML v1.0//EN
CALSCALE:GREGORIAN
METHOD:PUBLISH
X-WR-CALNAME:Royal St George Yacht Club
X-ORIGINAL-URL:https://rsgyc.ie
X-WR-CALDESC:Events for Royal St George Yacht Club
REFRESH-INTERVAL;VALUE=DURATION:PT1H
X-Robots-Tag:noindex
X-PUBLISHED-TTL:PT1H
BEGIN:VTIMEZONE
TZID:Europe/Dublin
BEGIN:STANDARD
TZOFFSETFROM:+0000
TZOFFSETTO:+0100
TZNAME:IST
DTSTART:20140330T010000
END:STANDARD
BEGIN:DAYLIGHT
TZOFFSETFROM:+0100
TZOFFSETTO:+0000
TZNAME:GMT
DTSTART:20141026T010000
END:DAYLIGHT
BEGIN:STANDARD
TZOFFSETFROM:+0000
TZOFFSETTO:+0100
TZNAME:IST
DTSTART:20150329T010000
END:STANDARD
BEGIN:DAYLIGHT
TZOFFSETFROM:+0100
TZOFFSETTO:+0000
TZNAME:GMT
DTSTART:20151025T010000
END:DAYLIGHT
BEGIN:STANDARD
TZOFFSETFROM:+0000
TZOFFSETTO:+0100
TZNAME:IST
DTSTART:20160327T010000
END:STANDARD
BEGIN:DAYLIGHT
TZOFFSETFROM:+0100
TZOFFSETTO:+0000
TZNAME:GMT
DTSTART:20161030T010000
END:DAYLIGHT
END:VTIMEZONE
BEGIN:VEVENT
DTSTART;VALUE=DATE:20151118
DTEND;VALUE=DATE:20151119
DTSTAMP:20260422T015244
CREATED:20151211T153132Z
LAST-MODIFIED:20151211T155147Z
UID:10011565-1447804800-1447891199@rsgyc.ie
SUMMARY:Shopping Trip to Kildare Village
DESCRIPTION:Get the Christmas shopping done and dusted in style! \nGet the Christmas shopping done and dusted in style with his complimentary VIP trip to Kildare Village. Return coach trip\, exclusive discount card\, bubbly on arrival\, and use of the VIP lounge included. \n\nMembers and their guests are very welcome. \nPlease be sure to arrive before 10am for the bus departure. \nRegister now by calling your Club at 01-2801811 or by emailing Eleanor at housemanager@rsgyc.ie
URL:https://rsgyc.ie/event/shopping-trip-to-kildare-village/
LOCATION:Royal St George Yacht Club\, Dun Laoghaire\, Dublin\, Dublin\, A96 AY77\, Ireland
CATEGORIES:Social
ATTACH;FMTTYPE=image/jpeg:https://rsgyc.ie/wp-content/uploads/2015/12/kildare-259x194-259x194.jpg
GEO:53.2943958;-6.1338666
X-APPLE-STRUCTURED-LOCATION;VALUE=URI;X-ADDRESS=Royal St George Yacht Club Dun Laoghaire Dublin Dublin A96 AY77 Ireland;X-APPLE-RADIUS=500;X-TITLE=Dun Laoghaire:geo:-6.1338666,53.2943958
END:VEVENT
BEGIN:VEVENT
DTSTART;TZID=Europe/Dublin:20151118T193000
DTEND;TZID=Europe/Dublin:20151118T230000
DTSTAMP:20260422T015244
CREATED:20151211T153356Z
LAST-MODIFIED:20151211T155135Z
UID:10011465-1447875000-1447887600@rsgyc.ie
SUMMARY:Mexican Dinner and Tequila Tasting 2015
DESCRIPTION:On Wednesday\, 18th October\, the Club will host a very special Mexican themed night. \n\n\n\nMexican Dinner and Tequila Tasting 2015\n\n\n\n\nCome and join the Mexican Ambassador Carlos Garcia de Alba in the Dining Room on Wednesday\, 18th November  for a Mexican themed dinner with a tequila tasting. Helma Honda\, a Mexican chef\, will fly in to prepare the food and Jose Torres Diaz\, of the Tequila Regulatory Council\, will do a tequila tasting using three different tequilas to match the food. \nThis special event is priced at just €30.00 per person. \nPlease call the Club at 01 280 1811 or email Eleanor at housemanager@rsgyc.ie to secure your place today.
URL:https://rsgyc.ie/event/mexican-dinner-and-tequila-tasting-2015/
LOCATION:Royal St George Yacht Club\, Dun Laoghaire\, Dublin\, Dublin\, A96 AY77\, Ireland
CATEGORIES:Social
ATTACH;FMTTYPE=image/jpeg:https://rsgyc.ie/wp-content/uploads/2015/12/ce7da807-5932-4f28-bdb0-a343b882356c-328x150.jpg
GEO:53.2943958;-6.1338666
X-APPLE-STRUCTURED-LOCATION;VALUE=URI;X-ADDRESS=Royal St George Yacht Club Dun Laoghaire Dublin Dublin A96 AY77 Ireland;X-APPLE-RADIUS=500;X-TITLE=Dun Laoghaire:geo:-6.1338666,53.2943958
END:VEVENT
BEGIN:VEVENT
DTSTART;VALUE=DATE:20151119
DTEND;VALUE=DATE:20151123
DTSTAMP:20260422T015244
CREATED:20151211T154355Z
LAST-MODIFIED:20151211T155123Z
UID:10011467-1447891200-1448236799@rsgyc.ie
SUMMARY:George Art Exhibtion
DESCRIPTION:The 3rd Annual Royal St George Art Group Exhibition opens on the evening of Thursday 19th November 2015 at 7.30pm and runs until Sunday 22nd November 2015 inclusive in the Snooker Room of your Club. \nIt is open to Royal St George Yacht Club Members and George Art Group members to submit entries. All are welcome to take part\, irrespective of medium. \n\nThis is a wonderful opportunity to pick up the perfect Christmas present. The night will also feature a painting to be raffled in aid of the Peter McVerry Trust. The prize winners of our Christmas Card Competition will be also announced and exhibited. \nWe very much look forward to sharing the immense talent of our artists with you! \nThe exhibition will remain open from 10.30am – 7.30pm (6.30pm on Sunday) Thursday 19th November until Sunday 22nd November.
URL:https://rsgyc.ie/event/george-art-exhibtion/
LOCATION:Royal St George Yacht Club\, Dun Laoghaire\, Dublin\, Dublin\, A96 AY77\, Ireland
CATEGORIES:Social
ATTACH;FMTTYPE=image/jpeg:https://rsgyc.ie/wp-content/uploads/2015/12/art-01-wb-328x219-328x219.jpg
GEO:53.2943958;-6.1338666
X-APPLE-STRUCTURED-LOCATION;VALUE=URI;X-ADDRESS=Royal St George Yacht Club Dun Laoghaire Dublin Dublin A96 AY77 Ireland;X-APPLE-RADIUS=500;X-TITLE=Dun Laoghaire:geo:-6.1338666,53.2943958
END:VEVENT
BEGIN:VEVENT
DTSTART;TZID=Europe/Dublin:20151121T160000
DTEND;TZID=Europe/Dublin:20151121T180000
DTSTAMP:20260422T015244
CREATED:20151211T154718Z
LAST-MODIFIED:20151211T155111Z
UID:10011469-1448121600-1448128800@rsgyc.ie
SUMMARY:Short Lecture: The Sinking of The Endurance
DESCRIPTION:On the 21st November\, the Club will be hosting a short lecture on the Sinking of the Endurance as part of the Shackleton Endurance Exhibition\, which is open to the public until the 30th December. \nA lecture will be given by Liam Maloney\, in-house historian\, on one of the most incredible survival stories in history: the sinking of the Endurance. \n\nThis event will take place at your Club between 4pm – 6pm. Admission €15. Book your place by contacting John O’Reilly at joreilly@shackletonexhibition.com or by calling the exhibition at 01 236 0644. \n“As if the ship and its crew had not been plagued by enough of it already\, heavy pack ice was again sighted\, and hours later a blowing gale reared its ugly head. For two days\, the Endurance took shelter under an unlikely aegis – dodging to and fro under the lee of a stranded iceberg. As the gale eased\, the ship made crawling headway towards her Antarctic destination\, now just one day’s sail distant. On encountering the ice pack once more\, Shackleton opted to work through it\, but with temperatures plummeting\, there would be no escape from its icy squeeze.”
URL:https://rsgyc.ie/event/short-lecture-the-sinking-of-the-endurance/
LOCATION:Royal St George Yacht Club\, Dun Laoghaire\, Dublin\, Dublin\, A96 AY77\, Ireland
CATEGORIES:Social
ATTACH;FMTTYPE=image/jpeg:https://rsgyc.ie/wp-content/uploads/2015/12/Poster_Image-328x465.jpg
GEO:53.2943958;-6.1338666
X-APPLE-STRUCTURED-LOCATION;VALUE=URI;X-ADDRESS=Royal St George Yacht Club Dun Laoghaire Dublin Dublin A96 AY77 Ireland;X-APPLE-RADIUS=500;X-TITLE=Dun Laoghaire:geo:-6.1338666,53.2943958
END:VEVENT
END:VCALENDAR