BEGIN:VCALENDAR
VERSION:2.0
PRODID:-//Royal St George Yacht Club - ECPv6.15.20//NONSGML v1.0//EN
CALSCALE:GREGORIAN
METHOD:PUBLISH
X-WR-CALNAME:Royal St George Yacht Club
X-ORIGINAL-URL:https://rsgyc.ie
X-WR-CALDESC:Events for Royal St George Yacht Club
REFRESH-INTERVAL;VALUE=DURATION:PT1H
X-Robots-Tag:noindex
X-PUBLISHED-TTL:PT1H
BEGIN:VTIMEZONE
TZID:Europe/Dublin
BEGIN:STANDARD
TZOFFSETFROM:+0000
TZOFFSETTO:+0100
TZNAME:IST
DTSTART:20240331T010000
END:STANDARD
BEGIN:DAYLIGHT
TZOFFSETFROM:+0100
TZOFFSETTO:+0000
TZNAME:GMT
DTSTART:20241027T010000
END:DAYLIGHT
BEGIN:STANDARD
TZOFFSETFROM:+0000
TZOFFSETTO:+0100
TZNAME:IST
DTSTART:20250330T010000
END:STANDARD
BEGIN:DAYLIGHT
TZOFFSETFROM:+0100
TZOFFSETTO:+0000
TZNAME:GMT
DTSTART:20251026T010000
END:DAYLIGHT
BEGIN:STANDARD
TZOFFSETFROM:+0000
TZOFFSETTO:+0100
TZNAME:IST
DTSTART:20260329T010000
END:STANDARD
BEGIN:DAYLIGHT
TZOFFSETFROM:+0100
TZOFFSETTO:+0000
TZNAME:GMT
DTSTART:20261025T010000
END:DAYLIGHT
END:VTIMEZONE
BEGIN:VEVENT
DTSTART;VALUE=DATE:20250901
DTEND;VALUE=DATE:20250902
DTSTAMP:20260424T183743
CREATED:20240809T160932Z
LAST-MODIFIED:20240809T160933Z
UID:10017246-1756684800-1756771199@rsgyc.ie
SUMMARY:Catering Options
DESCRIPTION:Please click link for Catering Options: Here
URL:https://rsgyc.ie/event/dining-2-2-7/2025-09-01/
LOCATION:Royal St George Yacht Club\, Dun Laoghaire\, Dublin\, Dublin\, A96 AY77\, Ireland
ORGANIZER;CN="RSGYC Social & Catering":MAILTO:booking@rsgyc.ie
GEO:53.2943958;-6.1338666
X-APPLE-STRUCTURED-LOCATION;VALUE=URI;X-ADDRESS=Royal St George Yacht Club Dun Laoghaire Dublin Dublin A96 AY77 Ireland;X-APPLE-RADIUS=500;X-TITLE=Dun Laoghaire:geo:-6.1338666,53.2943958
END:VEVENT
BEGIN:VEVENT
DTSTART;VALUE=DATE:20250902
DTEND;VALUE=DATE:20250903
DTSTAMP:20260424T183743
CREATED:20240809T160932Z
LAST-MODIFIED:20240809T160933Z
UID:10017899-1756771200-1756857599@rsgyc.ie
SUMMARY:Catering Options
DESCRIPTION:Please click link for Catering Options: Here
URL:https://rsgyc.ie/event/dining-2-2-7/2025-09-02/
LOCATION:Royal St George Yacht Club\, Dun Laoghaire\, Dublin\, Dublin\, A96 AY77\, Ireland
ORGANIZER;CN="RSGYC Social & Catering":MAILTO:booking@rsgyc.ie
GEO:53.2943958;-6.1338666
X-APPLE-STRUCTURED-LOCATION;VALUE=URI;X-ADDRESS=Royal St George Yacht Club Dun Laoghaire Dublin Dublin A96 AY77 Ireland;X-APPLE-RADIUS=500;X-TITLE=Dun Laoghaire:geo:-6.1338666,53.2943958
END:VEVENT
BEGIN:VEVENT
DTSTART;VALUE=DATE:20250903
DTEND;VALUE=DATE:20250904
DTSTAMP:20260424T183743
CREATED:20240809T160932Z
LAST-MODIFIED:20240809T160933Z
UID:10017900-1756857600-1756943999@rsgyc.ie
SUMMARY:Catering Options
DESCRIPTION:Please click link for Catering Options: Here
URL:https://rsgyc.ie/event/dining-2-2-7/2025-09-03/
LOCATION:Royal St George Yacht Club\, Dun Laoghaire\, Dublin\, Dublin\, A96 AY77\, Ireland
ORGANIZER;CN="RSGYC Social & Catering":MAILTO:booking@rsgyc.ie
GEO:53.2943958;-6.1338666
X-APPLE-STRUCTURED-LOCATION;VALUE=URI;X-ADDRESS=Royal St George Yacht Club Dun Laoghaire Dublin Dublin A96 AY77 Ireland;X-APPLE-RADIUS=500;X-TITLE=Dun Laoghaire:geo:-6.1338666,53.2943958
END:VEVENT
BEGIN:VEVENT
DTSTART;VALUE=DATE:20250904
DTEND;VALUE=DATE:20250905
DTSTAMP:20260424T183743
CREATED:20230914T123231Z
LAST-MODIFIED:20230914T123231Z
UID:10015678-1756944000-1757030399@rsgyc.ie
SUMMARY:Cafe + Bar
DESCRIPTION:Boardwalk Cafe open from 9.00 – 15.30 \nBar open from 12.00
URL:https://rsgyc.ie/event/cafe-bar/2025-09-04/
LOCATION:Royal St George Yacht Club\, Dun Laoghaire\, Dublin\, Dublin\, A96 AY77\, Ireland
ORGANIZER;CN="RSGYC Social & Catering":MAILTO:booking@rsgyc.ie
GEO:53.2943958;-6.1338666
X-APPLE-STRUCTURED-LOCATION;VALUE=URI;X-ADDRESS=Royal St George Yacht Club Dun Laoghaire Dublin Dublin A96 AY77 Ireland;X-APPLE-RADIUS=500;X-TITLE=Dun Laoghaire:geo:-6.1338666,53.2943958
END:VEVENT
BEGIN:VEVENT
DTSTART;VALUE=DATE:20250904
DTEND;VALUE=DATE:20250905
DTSTAMP:20260424T183743
CREATED:20240809T160932Z
LAST-MODIFIED:20240809T160933Z
UID:10017901-1756944000-1757030399@rsgyc.ie
SUMMARY:Catering Options
DESCRIPTION:Please click link for Catering Options: Here
URL:https://rsgyc.ie/event/dining-2-2-7/2025-09-04/
LOCATION:Royal St George Yacht Club\, Dun Laoghaire\, Dublin\, Dublin\, A96 AY77\, Ireland
ORGANIZER;CN="RSGYC Social & Catering":MAILTO:booking@rsgyc.ie
GEO:53.2943958;-6.1338666
X-APPLE-STRUCTURED-LOCATION;VALUE=URI;X-ADDRESS=Royal St George Yacht Club Dun Laoghaire Dublin Dublin A96 AY77 Ireland;X-APPLE-RADIUS=500;X-TITLE=Dun Laoghaire:geo:-6.1338666,53.2943958
END:VEVENT
BEGIN:VEVENT
DTSTART;VALUE=DATE:20250905
DTEND;VALUE=DATE:20250906
DTSTAMP:20260424T183743
CREATED:20230914T123758Z
LAST-MODIFIED:20230914T123758Z
UID:10016203-1757030400-1757116799@rsgyc.ie
SUMMARY:Cafe + Bar
DESCRIPTION:Boardwalk Cafe open from 9.00 – 15.30 \nBar open from 12.00
URL:https://rsgyc.ie/event/cafe-bar-2/2025-09-05/
LOCATION:Royal St George Yacht Club\, Dun Laoghaire\, Dublin\, Dublin\, A96 AY77\, Ireland
ORGANIZER;CN="RSGYC Social & Catering":MAILTO:booking@rsgyc.ie
GEO:53.2943958;-6.1338666
X-APPLE-STRUCTURED-LOCATION;VALUE=URI;X-ADDRESS=Royal St George Yacht Club Dun Laoghaire Dublin Dublin A96 AY77 Ireland;X-APPLE-RADIUS=500;X-TITLE=Dun Laoghaire:geo:-6.1338666,53.2943958
END:VEVENT
BEGIN:VEVENT
DTSTART;VALUE=DATE:20250905
DTEND;VALUE=DATE:20250906
DTSTAMP:20260424T183743
CREATED:20240809T160932Z
LAST-MODIFIED:20240809T160933Z
UID:10017902-1757030400-1757116799@rsgyc.ie
SUMMARY:Catering Options
DESCRIPTION:Please click link for Catering Options: Here
URL:https://rsgyc.ie/event/dining-2-2-7/2025-09-05/
LOCATION:Royal St George Yacht Club\, Dun Laoghaire\, Dublin\, Dublin\, A96 AY77\, Ireland
ORGANIZER;CN="RSGYC Social & Catering":MAILTO:booking@rsgyc.ie
GEO:53.2943958;-6.1338666
X-APPLE-STRUCTURED-LOCATION;VALUE=URI;X-ADDRESS=Royal St George Yacht Club Dun Laoghaire Dublin Dublin A96 AY77 Ireland;X-APPLE-RADIUS=500;X-TITLE=Dun Laoghaire:geo:-6.1338666,53.2943958
END:VEVENT
BEGIN:VEVENT
DTSTART;VALUE=DATE:20250906
DTEND;VALUE=DATE:20250907
DTSTAMP:20260424T183743
CREATED:20230914T123951Z
LAST-MODIFIED:20230914T123951Z
UID:10016464-1757116800-1757203199@rsgyc.ie
SUMMARY:Cafe + Bar
DESCRIPTION:Boardwalk Cafe open from 9.00 – 16.30 \nBar open from 12.00
URL:https://rsgyc.ie/event/cafe-bar-3/2025-09-06/
LOCATION:Royal St George Yacht Club\, Dun Laoghaire\, Dublin\, Dublin\, A96 AY77\, Ireland
ORGANIZER;CN="RSGYC Social & Catering":MAILTO:booking@rsgyc.ie
GEO:53.2943958;-6.1338666
X-APPLE-STRUCTURED-LOCATION;VALUE=URI;X-ADDRESS=Royal St George Yacht Club Dun Laoghaire Dublin Dublin A96 AY77 Ireland;X-APPLE-RADIUS=500;X-TITLE=Dun Laoghaire:geo:-6.1338666,53.2943958
END:VEVENT
BEGIN:VEVENT
DTSTART;VALUE=DATE:20250906
DTEND;VALUE=DATE:20250907
DTSTAMP:20260424T183743
CREATED:20240809T160932Z
LAST-MODIFIED:20240809T160933Z
UID:10017903-1757116800-1757203199@rsgyc.ie
SUMMARY:Catering Options
DESCRIPTION:Please click link for Catering Options: Here
URL:https://rsgyc.ie/event/dining-2-2-7/2025-09-06/
LOCATION:Royal St George Yacht Club\, Dun Laoghaire\, Dublin\, Dublin\, A96 AY77\, Ireland
ORGANIZER;CN="RSGYC Social & Catering":MAILTO:booking@rsgyc.ie
GEO:53.2943958;-6.1338666
X-APPLE-STRUCTURED-LOCATION;VALUE=URI;X-ADDRESS=Royal St George Yacht Club Dun Laoghaire Dublin Dublin A96 AY77 Ireland;X-APPLE-RADIUS=500;X-TITLE=Dun Laoghaire:geo:-6.1338666,53.2943958
END:VEVENT
BEGIN:VEVENT
DTSTART;TZID=Europe/Dublin:20250906T080000
DTEND;TZID=Europe/Dublin:20250907T170000
DTSTAMP:20260424T183743
CREATED:20250429T153423Z
LAST-MODIFIED:20250430T150926Z
UID:10019137-1757145600-1757264400@rsgyc.ie
SUMMARY:Elmo Trophy
DESCRIPTION:Ireland’s largest youth team racing event\, featuring 36 school-age teams competing in Firefly dinghies. The event includes intense races\, social activities\, and a strong sense of community among participants 
URL:https://rsgyc.ie/event/elmo-trophy-4/
LOCATION:Royal St George Yacht Club\, Dun Laoghaire\, Dublin\, Dublin\, A96 AY77\, Ireland
ORGANIZER;CN="RSGYC Sailing":MAILTO:sailingmanager@rsgyc.ie
GEO:53.2943958;-6.1338666
X-APPLE-STRUCTURED-LOCATION;VALUE=URI;X-ADDRESS=Royal St George Yacht Club Dun Laoghaire Dublin Dublin A96 AY77 Ireland;X-APPLE-RADIUS=500;X-TITLE=Dun Laoghaire:geo:-6.1338666,53.2943958
END:VEVENT
BEGIN:VEVENT
DTSTART;VALUE=DATE:20250907
DTEND;VALUE=DATE:20250908
DTSTAMP:20260424T183743
CREATED:20230914T124051Z
LAST-MODIFIED:20230914T124136Z
UID:10016986-1757203200-1757289599@rsgyc.ie
SUMMARY:Cafe + Bar
DESCRIPTION:Boardwalk Cafe Open from 9.00 – 16.30 \nBar open from 12.00 – 20.00
URL:https://rsgyc.ie/event/cafe-bar-4/2025-09-07/
LOCATION:Royal St George Yacht Club\, Dun Laoghaire\, Dublin\, Dublin\, A96 AY77\, Ireland
ORGANIZER;CN="RSGYC Social & Catering":MAILTO:booking@rsgyc.ie
GEO:53.2943958;-6.1338666
X-APPLE-STRUCTURED-LOCATION;VALUE=URI;X-ADDRESS=Royal St George Yacht Club Dun Laoghaire Dublin Dublin A96 AY77 Ireland;X-APPLE-RADIUS=500;X-TITLE=Dun Laoghaire:geo:-6.1338666,53.2943958
END:VEVENT
BEGIN:VEVENT
DTSTART;VALUE=DATE:20250907
DTEND;VALUE=DATE:20250908
DTSTAMP:20260424T183743
CREATED:20240809T160932Z
LAST-MODIFIED:20240809T160933Z
UID:10017904-1757203200-1757289599@rsgyc.ie
SUMMARY:Catering Options
DESCRIPTION:Please click link for Catering Options: Here
URL:https://rsgyc.ie/event/dining-2-2-7/2025-09-07/
LOCATION:Royal St George Yacht Club\, Dun Laoghaire\, Dublin\, Dublin\, A96 AY77\, Ireland
ORGANIZER;CN="RSGYC Social & Catering":MAILTO:booking@rsgyc.ie
GEO:53.2943958;-6.1338666
X-APPLE-STRUCTURED-LOCATION;VALUE=URI;X-ADDRESS=Royal St George Yacht Club Dun Laoghaire Dublin Dublin A96 AY77 Ireland;X-APPLE-RADIUS=500;X-TITLE=Dun Laoghaire:geo:-6.1338666,53.2943958
END:VEVENT
END:VCALENDAR