BEGIN:VCALENDAR
VERSION:2.0
PRODID:-//Royal St George Yacht Club - ECPv6.15.20//NONSGML v1.0//EN
CALSCALE:GREGORIAN
METHOD:PUBLISH
X-WR-CALNAME:Royal St George Yacht Club
X-ORIGINAL-URL:https://rsgyc.ie
X-WR-CALDESC:Events for Royal St George Yacht Club
REFRESH-INTERVAL;VALUE=DURATION:PT1H
X-Robots-Tag:noindex
X-PUBLISHED-TTL:PT1H
BEGIN:VTIMEZONE
TZID:Europe/Dublin
BEGIN:STANDARD
TZOFFSETFROM:+0000
TZOFFSETTO:+0100
TZNAME:IST
DTSTART:20150329T010000
END:STANDARD
BEGIN:DAYLIGHT
TZOFFSETFROM:+0100
TZOFFSETTO:+0000
TZNAME:GMT
DTSTART:20151025T010000
END:DAYLIGHT
BEGIN:STANDARD
TZOFFSETFROM:+0000
TZOFFSETTO:+0100
TZNAME:IST
DTSTART:20160327T010000
END:STANDARD
BEGIN:DAYLIGHT
TZOFFSETFROM:+0100
TZOFFSETTO:+0000
TZNAME:GMT
DTSTART:20161030T010000
END:DAYLIGHT
BEGIN:STANDARD
TZOFFSETFROM:+0000
TZOFFSETTO:+0100
TZNAME:IST
DTSTART:20170326T010000
END:STANDARD
BEGIN:DAYLIGHT
TZOFFSETFROM:+0100
TZOFFSETTO:+0000
TZNAME:GMT
DTSTART:20171029T010000
END:DAYLIGHT
END:VTIMEZONE
BEGIN:VEVENT
DTSTART;VALUE=DATE:20160528
DTEND;VALUE=DATE:20160530
DTSTAMP:20260419T153231
CREATED:20160510T092728Z
LAST-MODIFIED:20160510T093328Z
UID:10011578-1464393600-1464566399@rsgyc.ie
SUMMARY:Topper Traveller 4 Weekend
DESCRIPTION:(Training Day 28th) \nInformation cane be found at http://www.carrickfergussc.org/index.php/dates/full-programme/120-topper-traveller-weekend as it becomes available.
URL:https://rsgyc.ie/event/topper-traveller-4-weekend/
LOCATION:Carrickfergus Sailing Club\, Carrickfergus\, Carrickfergus\, United Kingdom
CATEGORIES:Junior,Sailing,Training
ATTACH;FMTTYPE=image/jpeg:https://rsgyc.ie/wp-content/uploads/2016/05/TopperTravellerSeries.jpg
ORGANIZER;CN="Carrickfergus Sailing Club":MAILTO:info@carrickfergussc.org
GEO:54.7261871;-5.8101207
X-APPLE-STRUCTURED-LOCATION;VALUE=URI;X-ADDRESS=Carrickfergus Sailing Club Carrickfergus Carrickfergus United Kingdom;X-APPLE-RADIUS=500;X-TITLE=Carrickfergus:geo:-5.8101207,54.7261871
END:VEVENT
END:VCALENDAR