BEGIN:VCALENDAR
VERSION:2.0
PRODID:-//Royal St George Yacht Club - ECPv6.15.20//NONSGML v1.0//EN
CALSCALE:GREGORIAN
METHOD:PUBLISH
X-WR-CALNAME:Royal St George Yacht Club
X-ORIGINAL-URL:https://rsgyc.ie
X-WR-CALDESC:Events for Royal St George Yacht Club
REFRESH-INTERVAL;VALUE=DURATION:PT1H
X-Robots-Tag:noindex
X-PUBLISHED-TTL:PT1H
BEGIN:VTIMEZONE
TZID:Europe/Dublin
BEGIN:STANDARD
TZOFFSETFROM:+0000
TZOFFSETTO:+0100
TZNAME:IST
DTSTART:20150329T010000
END:STANDARD
BEGIN:DAYLIGHT
TZOFFSETFROM:+0100
TZOFFSETTO:+0000
TZNAME:GMT
DTSTART:20151025T010000
END:DAYLIGHT
BEGIN:STANDARD
TZOFFSETFROM:+0000
TZOFFSETTO:+0100
TZNAME:IST
DTSTART:20160327T010000
END:STANDARD
BEGIN:DAYLIGHT
TZOFFSETFROM:+0100
TZOFFSETTO:+0000
TZNAME:GMT
DTSTART:20161030T010000
END:DAYLIGHT
BEGIN:STANDARD
TZOFFSETFROM:+0000
TZOFFSETTO:+0100
TZNAME:IST
DTSTART:20170326T010000
END:STANDARD
BEGIN:DAYLIGHT
TZOFFSETFROM:+0100
TZOFFSETTO:+0000
TZNAME:GMT
DTSTART:20171029T010000
END:DAYLIGHT
END:VTIMEZONE
BEGIN:VEVENT
DTSTART;VALUE=DATE:20160708
DTEND;VALUE=DATE:20160711
DTSTAMP:20260421T012626
CREATED:20160527T090950Z
LAST-MODIFIED:20160527T090950Z
UID:10012116-1467936000-1468195199@rsgyc.ie
SUMMARY:Dinghy West Open Regatta
DESCRIPTION:Galway Bay Sailing Club will host this year’s Dinghy West Open Regatta – an unforgettable weekend of racing on spectacular Galway Bay.\nIncluding the following classes and events: \n\nRS Feva Westerns\nMultihulls (SCHRS)\nMonohulls (PY)\nTopaz – in association with ISA Try Sailing\nDrascombe dinghy fleet cruising Galway Bay\n\nFull event details and online entry can be found at https://dinghywest.com 
URL:https://rsgyc.ie/event/dinghy-west-open-regatta/
LOCATION:Galway Bay Sailing Club\,  Renville Lodge\, Oranmore\, Galway\, Ireland
CATEGORIES:Junior,Sailing
ATTACH;FMTTYPE=image/jpeg:https://rsgyc.ie/wp-content/uploads/2016/05/logo_1b.jpg
GEO:53.2569762;-8.9433277
X-APPLE-STRUCTURED-LOCATION;VALUE=URI;X-ADDRESS=Galway Bay Sailing Club  Renville Lodge Oranmore Galway Ireland;X-APPLE-RADIUS=500;X-TITLE=Renville Lodge\, Oranmore:geo:-8.9433277,53.2569762
END:VEVENT
END:VCALENDAR