BEGIN:VCALENDAR
VERSION:2.0
PRODID:-//Royal St George Yacht Club - ECPv6.15.20//NONSGML v1.0//EN
CALSCALE:GREGORIAN
METHOD:PUBLISH
X-WR-CALNAME:Royal St George Yacht Club
X-ORIGINAL-URL:https://rsgyc.ie
X-WR-CALDESC:Events for Royal St George Yacht Club
REFRESH-INTERVAL;VALUE=DURATION:PT1H
X-Robots-Tag:noindex
X-PUBLISHED-TTL:PT1H
BEGIN:VTIMEZONE
TZID:Europe/Dublin
BEGIN:STANDARD
TZOFFSETFROM:+0000
TZOFFSETTO:+0100
TZNAME:IST
DTSTART:20150329T010000
END:STANDARD
BEGIN:DAYLIGHT
TZOFFSETFROM:+0100
TZOFFSETTO:+0000
TZNAME:GMT
DTSTART:20151025T010000
END:DAYLIGHT
BEGIN:STANDARD
TZOFFSETFROM:+0000
TZOFFSETTO:+0100
TZNAME:IST
DTSTART:20160327T010000
END:STANDARD
BEGIN:DAYLIGHT
TZOFFSETFROM:+0100
TZOFFSETTO:+0000
TZNAME:GMT
DTSTART:20161030T010000
END:DAYLIGHT
BEGIN:STANDARD
TZOFFSETFROM:+0000
TZOFFSETTO:+0100
TZNAME:IST
DTSTART:20170326T010000
END:STANDARD
BEGIN:DAYLIGHT
TZOFFSETFROM:+0100
TZOFFSETTO:+0000
TZNAME:GMT
DTSTART:20171029T010000
END:DAYLIGHT
END:VTIMEZONE
BEGIN:VEVENT
DTSTART;VALUE=DATE:20160618
DTEND;VALUE=DATE:20160620
DTSTAMP:20260420T065530
CREATED:20160510T083912Z
LAST-MODIFIED:20160609T103709Z
UID:10012106-1466208000-1466380799@rsgyc.ie
SUMMARY:Topper Leinster Provincials
DESCRIPTION:SSC is to host the ITCA Topper Leinsters\, which will take place on the 18&19th June. Entry forms and the Notice of Race will be published soon on their website.\nTraining dates of 16th and 17th are to be confirmed. For further information\, please visit their website at http://skerriessailingclub.com/topper-leinsters-1819th-june/
URL:https://rsgyc.ie/event/topper-leinster-provincials/
LOCATION:Skerries Yacht Club\, Harbour Road\,\, Skerries\, Dublin\, Ireland
CATEGORIES:Junior,Sailing,Training
ATTACH;FMTTYPE=image/jpeg:https://rsgyc.ie/wp-content/uploads/2016/05/Toppers-stewartby-2005-e1465468613426.jpg
GEO:53.5832616;-6.105158
X-APPLE-STRUCTURED-LOCATION;VALUE=URI;X-ADDRESS=Skerries Yacht Club Harbour Road Skerries Dublin Ireland;X-APPLE-RADIUS=500;X-TITLE=Harbour Road\,:geo:-6.105158,53.5832616
END:VEVENT
END:VCALENDAR